Workbook

Sheet Récapitulatif
B1: Mise à jour 2 novembre 2025 | C1: =SUM(C5:C13) -> 1204
B3: Onglet | C3: Voitures répertoriées
B5: Biturbo (ZAM331) | C5: ='Biturbo (ZAM331...)'!B1 -> 219
B6: 22x Coupés (ZAM331) | C6: ='22x (Coupés) (ZAM331...)'!B1 -> 145
B7: 4xx Berlines (ZAM332) | C7: ='4xx (Berlines) (ZAM332...)'!B1 -> 150
B8: Spyders (ZAM333) | C8: ='Spyders (ZAM333...)'!B1 -> 146
B9: 228 (ZAM334) | C9: ='228 (ZAM334...)'!B1 -> 20
B10: Ghibli (ZAM336) | C10: ='Ghibli (ZAM336...)'!B8 -> 118
B11: QP4 (ZAM337) | C11: ='QP4 (ZAM337...)'!B4 -> 75
B12: 3200GT (ZAM338) | C12: ='3200GT (ZAM338...)'!B1 -> 209
B13: Karif, Shamal (ZAM339) | C13: ='Karif, Shamal (ZAM339...)'!B1 -> 122

Sheet Répartition par modèle
A1: Type | B1: COUNTA of Type
A2: 0 | B2: 359
A3: 222 | B3: 21
A4: 224 | B4: 41
A5: 228 | B5: 15
A6: 418 | B6: 1
A7: 420 | B7: 7
A8: 422 | B8: 11
A9: 424 | B9: 24
A10: 425 | B10: 6
A11: 430 | B11: 43
A12: 222 4v | B12: 12
A13: 222 E | B13: 12
A14: 222 SE | B14: 4
A15: 222 SR | B15: 19
A16: 3200GT | B16: 38
A17: 3200GT AC | B17: 7
A18: 3200GTA | B18: 7
A19: 420 S | B19: 1
A20: 420 Si | B20: 5
A21: 420i | B21: 4
A22: 425i | B22: 4
A23: 430 4v | B23: 6
... A62: Total Résultat | B62: 1195

Sheet Répartition Géographique
A1: Origine | B1: COUNTA of Origine
A2: 0 | B2: 360
A3: ? | B3: 22
A4: Afrique du sud | B4: 2
A5: Allemagne | B5: 63
A6: Australie | B6: 23
A7: Autriche | B7: 3
A8: Belgique | B8: 29
A9: Canada | B9: 4
A10: Croatie | B10: 2
A11: Danemark | B11: 2
A12: Dubai | B12: 1
A13: Espagne | B13: 12
A14: France | B14: 178
... A37: Total Résultat | B37: 1195

Sheet Répartition par Année
A1: Année | B1: COUNTA of Année
A2: 0 | B2: 359
A3: 1981 | B3: 1
A4: 1982 | B4: 6
A5: 1983 | B5: 13
A6: 1984 | B6: 50
A7: 1985 | B7: 57
A8: 1986 | B8: 51
A9: 1987 | B9: 59
A10: 1988 | B10: 52
A11: 1989 | B11: 92
A12: 1990 | B12: 56
A13: 1991 | B13: 108
... A23: 2001 | B23: 20
A24: ? | B24: 25
A25: #RÉF ! | B25: 11
A26: Total Résultat | B26: 1195

Sheet Biturbo (ZAM331...)
B1: =SUM(F4:F361) -> 219 | C1: Voitures répertoriées
A2: Le registre THEPENIER : | C2: http://www.thepenier-maserati-register.com/crbst_202.html
A3: Modèle | B3: N° Série | C3: Année | D3: Couleur | E3: Pays
A4: Biturbo | B4: *ZAM331B00*BB100163* | C4: 1981 | D4: ? | E4: Hollande | F4: =IF(B4<>"",1,0) -> 1
A5: Biturbo | B5: *ZAM331B00*BB100192* | C5: 1982 | D5: Blanc | F5: 1
A6: Biturbo E | B6: *ZAM331B00*CB100368* | C6: 1982 | D6: Gris | E6: Hollande | F6: =IF(B6<>"",1,0) -> 1
A7: Biturbo | B7: *ZAM331B00*CB100508* | C7: 1982 | D7: Marron | E7: Allemagne | F7: =IF(B7<>"",1,0) -> 1
A8: Biturbo | B8: *ZAM331B00*CB100618* | C8: 1982 | D8: Vert | E8: Hollande | F8: =IF(B8<>"",1,0) -> 1
A9: Biturbo | B9: *ZAM331B00*CB101506* | C9: 1982 | D9: ? | E9: UK | F9: =IF(B9<>"",1,0) -> 1
A10: Biturbo | B10: *ZAM331B00*CB101944* | C10: 1982 | D10: Vert | E10: France | F10: =IF(B10<>"",1,0) -> 1
B11: *ZAM331B00*CB101960* | E11: Allemagne | F11: 1
A12: Biturbo | B12: *ZAM331B00*DB102134* HS ? | C12: 1983 | D12: ? | E12: Allemagne | F12: 1 | G12: =HYPERLINK("https://www.ebay.fr/itm/Maserati-Biturbo-Coupe-Bj-83-Ruckleuchte-hinten-rechts-gebraucht/152739016176?hash=item238ff46df0:g:rw8AAOSwjc5Z3e0N","*") -> *
A13: Biturbo | B13: *ZAM331B00*DB102594* | C13: 1983 | D13: ? | E13: France | F13: =IF(B13<>"",1,0) -> 1
A14: Biturbo S | B14: *ZAM331B00*DB102938* | C14: 1983 | D14: ? | E14: France | F14: =IF(B14<>"",1,0) -> 1
B15: *ZAM331B00*DB102985* | E15: Finlande | F15: 1
A16: Biturbo | B16: *ZAM331B00*DB103158* | C16: 1983 | D16: Vert | E16: Hollande | F16: =IF(B16<>"",1,0) -> 1
A17: Biturbo | B17: *ZAM331B00*DB103572* | C17: 1983 | D17: ? | E17: Pologne | F17: =IF(B17<>"",1,0) -> 1
A18: Biturbo | B18: *ZAM331B00*DB104408* | D18: Bleu | E18: Hollande | F18: 1 | G18: *
A19: Biturbo | B19: *ZAM331B00*DB104773* | C19: 1983 | D19: Marrone Metallizzata | E19: Italie | F19: =IF(B19<>"",1,0) -> 1
A20: Biturbo | B20: *ZAM331B00*DB104983* | C20: 1983 | D20: ? | E20: UK | F20: =IF(B20<>"",1,0) -> 1
A21: Biturbo | B21: *ZAM331B00*DB105205* | C21: 1983 | D21: Gris | E21: Hollande | F21: =IF(B21<>"",1,0) -> 1
A22: Biturbo | B22: *ZAM331B00*EB105982* | C22: 1983 | D22: ? | E22: France | F22: =IF(B22<>"",1,0) -> 1
A23: Biturbo | B23: *ZAM331B00*EB105982* | C23: 1983 | D23: Blanc | E23: France | F23: =IF(B23<>"",1,0) -> 1
B24: EB106079 | E24: France
A25: Biturbo | B25: *ZAM331B00EB106177* HS ? | C25: 1989 | E25: France | F25: 1
B26: EB106203 | E26: France
B27: EB106263 | E27: France
B28: EB106292 | E28: France
B29: EB106308 | E29: France
B30: *ZAM331B00 *EB106314* | C30: 1984 | E30: France | F30: 1
B31: EB106331 | E31: France
B32: EB106353 | E32: France
A33: Biturbo E | B33: *ZAM331B00*EB106368* | C33: 1984 | D33: Bordeaux | E33: Hollande | F33: =IF(B33<>"",1,0) -> 1
B34: EB106390 | E34: France
A35: Biturbo | B35: *ZAM331B00*EB106397* | C35: 1984 | D35: Gris | E35: France | F35: 1
A36: Biturbo E | B36: *ZAM331B00*EB106423* | C36: 1984 | D36: Gris | E36: France | F36: =IF(B36<>"",1,0) -> 1
B37: EB106443 | E37: France
B38: EB106448 | E38: France
A39: Biturbo | B39: *ZAM331B00*EB106457* | C39: 1985 | D39: ? | E39: France | F39: =IF(B39<>"",1,0) -> 1
A40: Biturbo | B40: *ZAM331B00*EB106497* | C40: 1985 | D40: ? | E40: France | F40: =IF(B40<>"",1,0) -> 1
A41: Biturbo | B41: *ZAM331B00*EB106508* (HS) | C41: 1984 | D41: ? | E41: France | F41: =IF(B41<>"",1,0) -> 1
A42: Biturbo E | B42: *ZAM331B00*EB106647* | C42: 1984 | D42: ? | E42: France | F42: =IF(B42<>"",1,0) -> 1
A43: Biturbo E | B43: *ZAM331B00*EB106659* | C43: 1984 | D43: ? | E43: France | F43: =IF(B43<>"",1,0) -> 1
A44: Biturbo E | B44: *ZAM331B00*EB106670* | C44: 1986 | D44: ? | E44: Allemagne | F44: =IF(B44<>"",1,0) -> 1
A45: Biturbo E | B45: *ZAM331B00*EB106717* | C45: 1984 | D45: Bleue | E45: France | F45: =IF(B45<>"",1,0) -> 1
A46: Biturbo | B46: *ZAM331B00*EB106735* | C46: 1984 | D46: Rouge | E46: France | F46: 1
A47: Biturbo E | B47: *ZAM331B00*EB106759* | C47: 1984 | D47: ? | E47: Allemagne | F47: =IF(B47<>"",1,0) -> 1
A48: Biturbo | B48: *ZAM331B00*EB106779* | C48: 1984 | D48: ? | E48: Allemagne | F48: =IF(B48<>"",1,0) -> 1
A49: Biturbo | B49: *ZAM331B00*EB106835* | D49: Gris | E49: Belgique | F49: 1
A50: Biturbo | B50: *ZAM331B00*EB106868* (HS) | D50: Bordeaux | E50: Allemagne | F50: 1
A51: Biturbo S | B51: *ZAM331B00*EB106897* | C51: 1984 | D51: Rouge | E51: Italie | F51: =IF(B51<>"",1,0) -> 1
A52: Biturbo S | B52: *ZAM331B00*EB107204* | C52: 1984 | D52: ? | E52: Allemagne | F52: =IF(B52<>"",1,0) -> 1
A53: Biturbo | B53: *ZAM331B00*EB107455* | C53: 1984 | D53: Gris | E53: UK | F53: =IF(B53<>"",1,0) -> 1
A54: Biturbo | B54: *ZAM331B00*EB107515* | C54: 1984 | D54: Rouge | E54: Hollande | F54: =IF(B54<>"",1,0) -> 1
A55: Biturbo | B55: *ZAM331B00*EB107778* | C55: 1984 | D55: Rouge | E55: Italie | F55: =IF(B55<>"",1,0) -> 1
B56: *ZAM331B00 *EB108202* | C56: 1984 | D56: Gris foncé | E56: Suisse | F56: 1
A57: Biturbo S | B57: *ZAM331B00*EB108384* | C57: 1984 | D57: Grise | E57: Italie | F57: =IF(B57<>"",1,0) -> 1
A58: Biturbo | B58: *ZAM331B00*EB108399* | C58: 1984 | D58: Marrone Metallizzata | E58: Suisse | F58: =IF(B58<>"",1,0) -> 1
A59: Biturbo | B59: *ZAM331B00*EB108999* | C59: 1984 | D59: Grigio Azzurro | E59: Italie | F59: 1
A60: Biturbo S | B60: *ZAM331B00*EB109458* | C60: 1984 | D60: ? | E60: Hollande | F60: =IF(B60<>"",1,0) -> 1
A61: Biturbo | B61: *ZAM331B00*EB109660* | C61: 1984 | D61: Gris foncé | E61: France | F61: =IF(B61<>"",1,0) -> 1
A62: Biturbo E | B62: *ZAM331B00*EB111137* | C62: 1985 | D62: ? | E62: Espagne | F62: =IF(B62<>"",1,0) -> 1
A63: Biturbo | B63: *ZAM331B00*EB111795* | C63: 1984 | D63: Bianco | E63: Italie | F63: 1
A64: Biturbo | B64: *ZAM331B00*EB111909* | C64: 1984 | D64: ? | E64: Italie | F64: =IF(B64<>"",1,0) -> 1
A65: Biturbo E | B65: *ZAM331B00*EB112181* | C65: 1985 | D65: Noir | E65: Belgique | F65: =IF(B65<>"",1,0) -> 1
A66: Biturbo Rallye 2,5 | B66: *ZAM331B00*EB112416* | C66: 1984 | D66: Rouge | E66: Allemagne | F66: =IF(B66<>"",1,0) -> 1
A67: Biturbo S | B67: *ZAM331B00*EB112435* | C67: 1984 | D67: Grise | E67: Allemagne | F67: =IF(B67<>"",1,0) -> 1
A68: Biturbo E | B68: *ZAM331B00*EB112673* | C68: 1985 | D68: ? | E68: Suisse | F68: =IF(B68<>"",1,0) -> 1
A69: Biturbo | B69: *ZAM331B00*EB112674* | C69: 1985 | D69: Bianco | E69: Suisse | F69: =IF(B69<>"",1,0) -> 1
A70: Biturbo | B70: *ZAM331B00*EB112708* | C70: 1983 | D70: Grise | E70: France | F70: =IF(B70<>"",1,0) -> 1
A71: Biturbo | B71: *ZAM331B00*EB112754* | C71: 1983 | D71: Grise | E71: France | F71: =IF(B71<>"",1,0) -> 1
A72: Biturbo E | B72: *ZAM331B00*EB112826* | C72: 1985 | D72: Rouge | E72: Hollande | F72: =IF(B72<>"",1,0) -> 1
A73: Biturbo | B73: ZAM331B00*EB112857 | C73: 1985 | D73: Grise | E73: Italie | F73: 1
A74: Biturbo E | B74: *ZAM331B00*EB112894* | C74: 1987 | D74: Rouge | E74: Suisse | F74: 1 | G74: =HYPERLINK("http://www.lutziger-classiccars.ch/maserati-Biturbo-E-1987-Rot-_wQeFGJnyzU7pluxxoccaTliAXyHMQ.aspx","*") -> *
A75: Biturbo E | B75: *ZAM331B00*EB112901* | C75: 1985 | D75: ? | E75: Suisse | F75: =IF(B75<>"",1,0) -> 1
A76: Biturbo | B76: *ZAM331B00*EB112975* | C76: 1984 | D76: ? | E76: France | F76: =IF(B76<>"",1,0) -> 1
A77: Biturbo E | B77: *ZAM331B00*EB112995* | C77: 1987 | D77: Rouge | E77: Belgique | F77: =IF(B77<>"",1,0) -> 1
A78: Biturbo | B78: *ZAM331B00*EB113570* | C78: 1987 | E78: Norvège | F78: 1
A79: Biturbo E | B79: *ZAM331B00*EB200028* | C79: 1985 | D79: ? | E79: Allemagne | F79: =IF(B79<>"",1,0) -> 1
A80: Biturbo E | B80: *ZAM331B00*EB312101* | C80: 1985 | D80: ? | E80: France | F80: =IF(B80<>"",1,0) -> 1
A81: Biturbo | B81: *ZAM331B00*FB112209* | C81: 1984 | D81: Bianco | E81: Malte | F81: =IF(B81<>"",1,0) -> 1
A82: Biturbo S | B82: *ZAM331B00*FB113287* | C82: 1986 | D82: Rouge | E82: France | F82: =IF(B82<>"",1,0) -> 1
A83: Biturbo | B83: *ZAM331B00*FB113579* | C83: 1985 | D83: Grise | E83: Italie | F83: =IF(B83<>"",1,0) -> 1
A84: Biturbo | B84: *ZAM331B00*FB113597* | C84: 1985 | D84: Noir | E84: Ukraine | F84: =IF(B84<>"",1,0) -> 1
A85: Biturbo | B85: *ZAM331B00*FB113613* | C85: 1987 | E85: France | F85: 1
A86: Biturbo | B86: *ZAM331B00*FB113614* | C86: 1985 | D86: Grise | E86: Belgique | F86: 1
A87: Biturbo | B87: *ZAM331B00*FB113667* | C87: 1985 | D87: Gris | E87: Allemagne | F87: 1
A88: Biturbo S | B88: *ZAM331B00*FB113997* | C88: 1985 | D88: ? | E88: Allemagne | F88: =IF(B88<>"",1,0) -> 1
A89: Biturbo S | B89: *ZAM331B00*FB114339* | C89: 1985 | D89: Gris | E89: Italie | F89: =IF(B89<>"",1,0) -> 1
A90: Biturbo E | B90: *ZAM331B00*FB114788* | C90: 1985 | D90: Gris | E90: Hollande | F90: =IF(B90<>"",1,0) -> 1
A91: Biturbo S | B91: *ZAM331B00*FB114898* | C91: 1985 | D91: Gris | E91: France | F91: =IF(B91<>"",1,0) -> 1
A92: Biturbo | B92: *ZAM331B00*FB115087* | C92: 1986 | D92: Gladis Mét. | E92: Italie | F92: 1
A93: Biturbo E | B93: *ZAM331B00*FB115132* | C93: 1985 | D93: Bleu | E93: Hollande | F93: =IF(B93<>"",1,0) -> 1
A94: Biturbo S | B94: *ZAM331B00*FB115173* | C94: 1985 | D94: Gris | E94: Hongrie | F94: =IF(B94<>"",1,0) -> 1
A95: Biturbo | B95: *ZAM331B00*GB115363* | C95: 1986 | D95: Gris | E95: Espagne | F95: =IF(B95<>"",1,0) -> 1
A96: Biturbo S | B96: *ZAM331B00*GB115391* | C96: 1986 | D96: Rosso | E96: France | F96: 1
A97: Biturbo | B97: *ZAM331B00*GB115413* | C97: 1986 | D97: Gris | E97: France | F97: =IF(B97<>"",1,0) -> 1
A98: Biturbo ES | B98: *ZAM331B00*GB115465* | C98: 1986 | D98: ? | E98: France | F98: =IF(B98<>"",1,0) -> 1
A99: Biturbo 2,5 ES | B99: *ZAM331B00*GB115472* | C99: 1986 | D99: Rosso | E99: Suisse | F99: 1 | G99: =HYPERLINK("https://www.autoscout24.ch/fr/d/maserati-biturbo-limousine-1986-occasion?vehid=4668939","*") -> *
A100: Biturbo SI Gr A | B100: *ZAM331B00*GB115929* | C100: 1986 | D100: ? | E100: ? | F100: =IF(B100<>"",1,0) -> 1
...

Sheet 22x (Coupés) (ZAM331...)
B1: =SUM(F4:F364) -> 145 | C1: Voitures répertoriées
A2: Le registre d' Enrico pour les Racing : | C2: http://www.maserati-alfieri.co.uk/alfieri295.htm
A3: Modèle | B3: N° Série | C3: Année | D3: Couleur | E3: Pays
A4: 222 | B4: *ZAM331B00*DB102232* | C4: 1983 | D4: ? | E4: France | F4: =IF(B4<>"",1,0) -> 1
A5: 222 | B5: *ZAM331B00*EB107742* | C5: 1984 | E5: Allemagne | F5: 1
A6: 222 | B6: *ZAM331B00*EB109744* | C6: 1984 | D6: ? | E6: Belgique | F6: =IF(B4<>"",1,0) -> 1
A7: 222 | B7: *ZAM331M00*JB118029* | C7: 1988 | D7: Gris | E7: Allemagne | F7: 1
A8: 222 | B8: *ZAM331B00*JB118024* | C8: 1989 | D8: ? | E8: France | F8: =IF(B4<>"",1,0) -> 1
A9: 222 | B9: *ZAM331B00*JB118058* | C9: 1988 | D9: ? | E9: France | F9: =IF(B9<>"",1,0) -> 1
B10: *ZAM331B00*JB118111* | C10: 1988 | E10: Suède | F10: 1
A11: 222 | B11: *ZAM331B00*JB118168* | C11: 1988 | D11: Bleue | E11: Italie | F11: =IF(B11<>"",1,0) -> 1
A12: 222 | B12: *ZAM331B00*JB118272* | C12: 1989 | D12: Rouge | E12: France | F12: =IF(B12<>"",1,0) -> 1
A13: 222 | B13: *ZAM331B00*JB11829* | C13: 1988 | D13: Bleue | E13: Allemagne | F13: =IF(B13<>"",1,0) -> 1
A14: 222 | B14: *ZAM331B00*JB118497* | C14: 1989 | D14: Ivoire | E14: France | F14: =IF(B14<>"",1,0) -> 1
A15: 222 | B15: *ZAM331B00*JB118501* | C15: 1988 | D15: Blanc | E15: Hollande | F15: =IF(B15<>"",1,0) -> 1
A16: 222 | B16: *ZAM331B00*JB118522* | C16: 1991 | D16: ? | E16: France | F16: =IF(B16<>"",1,0) -> 1
A17: 222 | B17: *ZAM331B00*JB118530* | C17: 1989 | D17: Rifle Grey Metal | E17: France | F17: =IF(B17<>"",1,0) -> 1
A18: 222 | B18: *ZAM331B00*JB118557* | C18: 1989 | D18: Grise | E18: France | F18: =IF(B18<>"",1,0) -> 1
A19: 222 | B19: *ZAM331B00*JB118754* | C19: 1988 | D19: ? | E19: Italie | F19: =IF(B19<>"",1,0) -> 1
A20: 222 | B20: *ZAM331B00*JB118899* | C20: 1988 | D20: Rouge | E20: Italie | F20: =IF(B20<>"",1,0) -> 1
A21: 222 | B21: *ZAM331B00*JB118958* | C21: 1987 | D21: ? | E21: USA | F21: =IF(B21<>"",1,0) -> 1
A22: 222 | B22: *ZAM331B00*JB118973* | C22: 1989 | D22: ? | E22: France | F22: =IF(B22<>"",1,0) -> 1
... A25: 222 | B25: *ZAM331B00*KB119210* | C25: 1990 | D25: Blanc | E25: France | F25: =IF(B25<>"",1,0) -> 1
A26: 222 E | B26: *ZAM331B00*KB119250* | C26: 1989 | D26: ? | E26: France | F26: =IF(B26<>"",1,0) -> 1
A27: 224 | B27: *ZAM331B00*KB119315* | C27: 1989 | D27: Blanc | E27: Hollande | F27: =IF(B27<>"",1,0) -> 1
A28: 222 E | B28: *ZAM331B00*KB119347* | C28: 1989 | D28: Rouge | E28: Suède | F28: 1
A29: 224 | B29: *ZAM331B00*KB119379* | C29: 1989 | D29: ? | E29: Allemagne | F29: =IF(B29<>"",1,0) -> 1
A30: 224 | B30: *ZAM331B00*KB119383* | C30: 1989 | D30: Rouge | E30: Hollande | F30: =IF(B30<>"",1,0) -> 1
A31: 222 E | B31: *ZAM331B00*KB119423* | C31: 1989 | D31: Rouge | E31: Suisse | F31: =IF(B31<>"",1,0) -> 1
A32: 222E | B32: ZAM331B00KB119444 | C32: 1991 | E32: Japon | F32: 1
A33: 224 | B33: *ZAM331B00*KB119465* | C33: 1990 | D33: Noire | E33: Hollande | F33: =IF(B33<>"",1,0) -> 1
A34: 224 | B34: *ZAM331B00*KB119467* | C34: 1989 | D34: ? | E34: France | F34: =IF(B34<>"",1,0) -> 1
A35: 224 | B35: *ZAM331B00*KB119499* | C35: 1989 | D35: Noire | E35: France | F35: =IF(B35<>"",1,0) -> 1
A36: 224 | B36: *ZAM331B00*KB119506* | C36: 1990 | D36: Noire | E36: France | F36: =IF(B36<>"",1,0) -> 1
A37: 224 | B37: *ZAM331B00*KB119511* | C37: 1989 | D37: Rosso | E37: Belgique | F37: 1
A38: 222 E | B38: *ZAM331B00*KB119556* | C38: 1989 | D38: Noire | E38: Allemagne | F38: =IF(B38<>"",1,0) -> 1
A39: 222 | B39: *ZAM331B00*KB119627* | C39: 1989 | D39: ? | E39: France | F39: =IF(B39<>"",1,0) -> 1
A40: 224 | B40: *ZAM331B00*KB119745* | C40: 1989 | D40: Red over silver | E40: Hollande | F40: =IF(B40<>"",1,0) -> 1
A41: 224 | B41: *ZAM331B00*KB119754* | C41: 1989 | D41: Noire | E41: Hollande | F41: =IF(B41<>"",1,0) -> 1
A42: 222 | B42: *ZAM331B00*KB119777* | C42: 1990 | D42: Bleu | E42: Hollande | F42: 1
A43: 224 | B43: *ZAM331B00*KB119856* | C43: 1989 | E43: Italie | F43: 1
A44: 224 | B44: *ZAM331B00*KB119860* | C44: 1989 | D44: Noire | E44: Italie | F44: =IF(B44<>"",1,0) -> 1
A45: 224 | B45: *ZAM331B00*KB119929* | C45: 1990 | D45: Rouge | E45: Hollande | F45: =IF(B45<>"",1,0) -> 1
A46: 222 E | B46: *ZAM331B00*KB119937* | C46: 1991 | D46: Rouge | E46: Suisse | F46: =IF(B46<>"",1,0) -> 1
A47: 224 | B47: *ZAM331B00*KB119961* | C47: 1991 | D47: Noire | E47: Belgique | F47: =IF(B47<>"",1,0) -> 1
A48: 224 | B48: *ZAM331B00*KB119971* | C48: 1990 | D48: Noire | E48: Norvège | F48: =IF(B48<>"",1,0) -> 1
A49: 222 E | B49: *ZAM331B00*KB120023* | C49: 1990 | D49: ? | E49: France | F49: =IF(B49<>"",1,0) -> 1
A50: 224 | B50: *ZAM331B00*KB120045* | C50: 1990 | D50: Noire | E50: Hollande | F50: =IF(B50<>"",1,0) -> 1
A51: 224 | B51: *ZAM331B00*KB120057* | C51: 1989 | D51: ? | E51: Belgique | F51: =IF(B51<>"",1,0) -> 1
A52: 224 | B52: *ZAM331B00*KB120081* | C52: 1990 | D52: Rouge | E52: Italie | F52: =IF(B52<>"",1,0) -> 1
A53: 224 | B53: *ZAM331B00*KB120135* | C53: 1990 | D53: Noire | E53: Hollande | F53: =IF(B53<>"",1,0) -> 1
A54: 224 | B54: *ZAM331B00*KB120161* | C54: 1990 | D54: Nero - Griggio | E54: France | F54: =IF(B54<>"",1,0) -> 1
A55: 222 SR | B55: *ZAM331B00*KB120194* | C55: 1990 | D55: ? | E55: Belgique | F55: =IF(B55<>"",1,0) -> 1
A56: 222 E | B56: *ZAM331B00*KB120195* | C56: 1989 | D56: ? | E56: Belgique | F56: =IF(B56<>"",1,0) -> 1
A57: 224 | B57: *ZAM331B00*KB120223* | C57: 1991 | D57: Blanc | E57: France | F57: =IF(B57<>"",1,0) -> 1
A58: 224 | B58: *ZAM331B00*KB120235* | C58: 1990 | D58: Beige | E58: France | F58: =IF(B58<>"",1,0) -> 1
A59: 222 E | B59: *ZAM331B00*KB160288* | C59: 1989 | D59: Blanc | E59: Australie | F59: =IF(B59<>"",1,0) -> 1
A60: 222 E | B60: *ZAM331B00*KB180341* | C60: 1989 | D60: ? | E60: UK | F60: =IF(B60<>"",1,0) -> 1
A61: 222 E | B61: *ZAM331B00*KB180352* | C61: 1990 | D61: ? | E61: UK | F61: =IF(B61<>"",1,0) -> 1
A62: 222 | B62: *ZAM331B00*LB120262* | C62: 1990 | E62: Japon | F62: 1
A63: 224 | B63: *ZAM331B00*LB120301* | C63: 1990 | D63: ? | E63: Hollande | F63: =IF(B63<>"",1,0) -> 1
A64: 222 4v | B64: *ZAM331B00*LB120337* | C64: 1990 | D64: Rouge | E64: France | F64: =IF(B64<>"",1,0) -> 1
A65: 222 E | B65: *ZAM331B00*LB120396* | C65: 1992 | D65: ? | E65: ? | F65: =IF(B65<>"",1,0) -> 1
A66: 222 E | B66: *ZAM331B00*LB120396* | C66: 1992 | D66: ? | E66: Suisse | F66: =IF(B66<>"",1,0) -> 1
A67: 224 | B67: *ZAM331B00*LB120460* | C67: 1990 | D67: Rouge | E67: France | F67: =IF(B67<>"",1,0) -> 1
A68: 224 | B68: *ZAM331B00*LB120495* | C68: 1991 | D68: Rouge | E68: France | F68: 1 | G68: =HYPERLINK("http://www.maseratitude.com/viewtopic.php?f=11&t=281&p=90538#p90538","*") -> *
A69: 224 | B69: *ZAM331B00*LB120517* | C69: 1992 | D69: Noire | E69: France | F69: =IF(B69<>"",1,0) -> 1
A70: 224 | B70: *ZAM331B00*LB120528* | C70: 1990 | D70: Rouge | E70: Italie | F70: =IF(B70<>"",1,0) -> 1
A71: 224 | B71: *ZAM331B00*LB120606* | C71: 1989 | D71: Noire | E71: Portugal | F71: =IF(B71<>"",1,0) -> 1
A72: 224 | B72: *ZAM331B00*LB120621* | C72: 1993 | D72: Rouge | E72: Allemagne | F72: =IF(B72<>"",1,0) -> 1
A73: 224 | B73: *ZAM331B00*LB120639* | C73: 1990 | D73: Rosso | E73: Italie | F73: 1
A74: 222 | B74: *ZAM331B00*LB120655* | C74: 1990 | D74: Rouge | E74: Belgique | F74: =IF(B74<>"",1,0) -> 1
A75: 224 | B75: *ZAM331B00*LB120693* | C75: 1990 | D75: Noire | E75: France | F75: =IF(B75<>"",1,0) -> 1
A76: 224 | B76: *ZAM331B00*LB120712* | C76: 1991 | D76: Blanc | E76: Italie | F76: =IF(B76<>"",1,0) -> 1
A77: 224 | B77: *ZAM331B00*LB120737* | C77: 1990 | D77: Rouge | E77: Belgique | F77: =IF(B77<>"",1,0) -> 1
B78: *ZAM331B00*LB120752* | C78: 1990 | E78: Suède | F78: 1
A79: 222 SE | B79: *ZAM331B00*LB120755* | C79: 1990 | D79: Grise | E79: Hollande | F79: =IF(B79<>"",1,0) -> 1
A80: 224 | B80: *ZAM331B00*LB120761* | C80: 1990 | D80: Rouge | E80: Italie | F80: =IF(B80<>"",1,0) -> 1
A81: 224 | B81: *ZAM331B00*LB120775* | C81: 1991 | D81: Noire | E81: Allemagne | F81: =IF(B81<>"",1,0) -> 1
A82: 224 | B82: *ZAM331B00*LB120779* | C82: 1990 | D82: ? | E82: Italie | F82: =IF(B82<>"",1,0) -> 1
A83: 224 | B83: *ZAM331B00*LB120830* | C83: 1990 | D83: ? | E83: Italie | F83: =IF(B83<>"",1,0) -> 1
A84: 224 | B84: *ZAM331B00*LB120865* | C84: 1990 | D84: Rouge | E84: France | F84: =IF(B84<>"",1,0) -> 1
A85: 222 SE | B85: *ZAM331B00*LB120938* | C85: 1991 | D85: ? | E85: Suede | F85: =IF(B85<>"",1,0) -> 1
A86: 222 SE | B86: *ZAM331B00*LB120972* | C86: 1991 | D86: ? | E86: France | F86: =IF(B86<>"",1,0) -> 1
A87: Racing | B87: *ZAM331B00*LB120981* | C87: 1991 | D87: Rouge | E87: UK | F87: =IF(B87<>"",1,0) -> 1
A88: Racing | B88: *ZAM331B00*MB121103* | C88: 1991 | D88: Noire | E88: St Marin | F88: =IF(B88<>"",1,0) -> 1
A89: Racing | B89: *ZAM331B00*MB121130* | C89: 1991 | D89: Rouge | E89: Hollande | F89: =IF(B89<>"",1,0) -> 1
A90: 222 SR | B90: *ZAM331B00*MB121161* | C90: 1992 | D90: Rouge | E90: Hollande | F90: =IF(B90<>"",1,0) -> 1
A91: 222 SR | B91: *ZAM331B00*MB121169* | C91: 1992 | D91: Noire | E91: Hollande | F91: =IF(B91<>"",1,0) -> 1
A92: 222 SR | B92: *ZAM331B00*MB121203* | C92: 1993 | D92: Noire | E92: France | F92: =IF(B92<>"",1,0) -> 1
A93: 224 | B93: *ZAM331B00*MB121212* | C93: 1992 | D93: ? | E93: France | F93: =IF(B93<>"",1,0) -> 1
A94: 224 | B94: *ZAM331B00*MB121214* | C94: 1991 | D94: Noire | E94: France | F94: =IF(B94<>"",1,0) -> 1
A95: 222 SR | B95: *ZAM331B00*MB121233* | C95: 1991 | D95: ? | E95: Hollande | F95: =IF(B95<>"",1,0) -> 1
A96: Racing | B96: *ZAM331B00*MB121314* | C96: 1991 | D96: ? | E96: Belgique | F96: =IF(B96<>"",1,0) -> 1
A97: 224 | B97: *ZAM331B00*MB121319* | C97: 1991 | D97: Noire | E97: Allemagne | F97: =IF(B97<>"",1,0) -> 1
A98: 222 SR | B98: *ZAM331B00*MB121354* | C98: 1993 | D98: ? | E98: France | F98: =IF(B98<>"",1,0) -> 1
A99: Racing | B99: *ZAM331B00*MB121362* | C99: 1992 | D99: Rouge | E99: Italie | F99: =IF(B99<>"",1,0) -> 1
A100: Racing | B100: *ZAM331B00*MB121372* | C100: 1991 | D100: Noire | E100: UK | F100: =IF(B100<>"",1,0) -> 1
A101: Racing | B101: *ZAM331B00*MB121380* | C101: 1991 | D101: ? | E101: Allemagne | F101: =IF(B101<>"",1,0) -> 1
A102: 222 4v | B102: *ZAM331B00*MB121386* | C102: 1991 | D102: Rouge | E102: Japon | F102: =IF(B102<>"",1,0) -> 1
...

Sheet 4xx (Berlines) (ZAM332...)
B1: =SUM(F3:F415) -> 150 | C1: Voitures répertoriées
A2: Modèle | B2: N° Série | C2: Année | D2: Couleur | E2: Pays
A3: 425 | B3: *ZAM332B00*CB205250* | C3: 1987 | D3: Bleue | E3: France | F3: =IF(B3<>"",1,0) -> 1
A4: 425 | B4: *ZAM332B00*EB200233* | C4: 1984 | D4: Grise | E4: Espagne | F4: =IF(B4<>"",1,0) -> 1
A5: 425 | B5: *ZAM332B00*EB200435* | C5: 1985 | D5: Grise | E5: Italie | F5: =IF(B5<>"",1,0) -> 1
A6: 425 | B6: *ZAM332B00*EB200545* | C6: 1987 | E6: Norvège | F6: 1
A7: 425 | B7: *ZAM332B00*EB238400* | C7: 1984 | D7: ? | E7: Allemagne | F7: =IF(B7<>"",1,0) -> 1
A8: 425 | B8: *ZAM332B00*FB201023* | C8: 1986 | D8: ? | E8: Belgique | F8: =IF(B8<>"",1,0) -> 1
A9: 420 | B9: *ZAM332B00*FB201422* | C9: 1985 | D9: ? | E9: Italie | F9: =IF(B9<>"",1,0) -> 1
A10: 420 | B10: *ZAM332B00*FB202651* | C10: 1985 | D10: ? | E10: France | F10: =IF(B10<>"",1,0) -> 1
A11: 420 | B11: *ZAM332B00*FB203561* | C11: 1986 | D11: Grise | E11: Hollande | F11: =IF(B11<>"",1,0) -> 1
A12: 420 | B12: *ZAM332B00FB203756*HS | C12: 1986 | D12: ? | E12: France | F12: 1
A13: 420 | B13: *ZAM332B00*GB203817* | C13: 1986 | D13: Grise | E13: Belgique | F13: =IF(B13<>"",1,0) -> 1
A14: 420i | B14: *ZAM332B00*GB204249* | C14: 1986 | D14: Grise | E14: Suede | F14: =IF(B14<>"",1,0) -> 1
A15: 420 S | B15: *ZAM332B00*GB204654* | C15: 1986 | D15: Rouge | E15: Ukraine | F15: =IF(B15<>"",1,0) -> 1
B16: *ZAM332B00*GB204731* | C16: 1986 | E16: Suède | F16: 1
A17: 420 | B17: *ZAM332B00*GB204864* | C17: 1986 | D17: vert | E17: Belgique | F17: 1
B18: *ZAM332B00*GB204966* | C18: 1986 | E18: Suede | F18: 1 | G18: =HYPERLINK("https://biluppgifter.se/fordon/FUR283","*") -> *
A19: 420i | B19: *ZAM332B00*GB204999* | C19: 1986 | D19: Bleue | E19: France | F19: =IF(B19<>"",1,0) -> 1
A20: 420 | B20: *ZAM332B00*GB205093* | C20: 1987 | D20: ? | E20: Allemagne | F20: =IF(B20<>"",1,0) -> 1
A21: 420i | B21: *ZAM332B00*GB205101* | C21: 1986 | D21: ? | E21: Hollande | F21: =IF(B21<>"",1,0) -> 1
A22: 425i | B22: *ZAM332B00*HB206016* | C22: 1988 | D22: Grise | E22: Suède | F22: 1
A23: 420 Si | B23: *ZAM332B00*HB206380* | C23: 1987 | D23: Grise | E23: France | F23: =IF(B23<>"",1,0) -> 1
A24: 420 Si | B24: *ZAM332B00*HB206565* | C24: 1988 | D24: Grise | E24: Hollande | F24: =IF(B24<>"",1,0) -> 1
A25: 420 Si | B25: *ZAM332B00*HB206710* | C25: 1988 | D25: ? | E25: Italie | F25: =IF(B25<>"",1,0) -> 1
A26: 420 | B26: *ZAM332B00*HB206815* | C26: 1987 | D26: Verde Foresta | E26: Ukraine | F26: =IF(B26<>"",1,0) -> 1
A27: 420 Si | B27: *ZAM332B00*HB208710* | C27: 1988 | D27: ? | E27: Italie | F27: =IF(B27<>"",1,0) -> 1
A28: 425 | B28: *ZAM332B00*HB290029* | C28: 1986 | E28: UK | F28: 1
A29: 425i | B29: *ZAM332B00*HB290109* | C29: 1988 | D29: ? | E29: Australie | F29: =IF(B29<>"",1,0) -> 1
A30: 430 | B30: *ZAM332B00*JB207004* | C30: 1988 | D30: ? | E30: France | F30: =IF(B30<>"",1,0) -> 1
A31: 430 | B31: *ZAM332B00*JB207026* | C31: 1988 | D31: Pacific Blu | E31: Italie | F31: 1 | G31: =HYPERLINK("http://www.luzzago.com/shop_dettaglioprodotto.asp?id=1012","*") -> *
A32: 430 | B32: *ZAM332B00*JB207033* | C32: 1988 | D32: Noire | E32: Suisse | F32: =IF(B32<>"",1,0) -> 1
A33: 430 | B33: *ZAM332B00*JB207084* | C33: 1988 | D33: Grise | E33: Italie | F33: =IF(B33<>"",1,0) -> 1
A34: 430 | B34: *ZAM332B00*JB207125* | C34: 1988 | D34: ? | E34: France | F34: =IF(B34<>"",1,0) -> 1
A35: 430 | B35: *ZAM332B00*JB207166* | C35: 1988 | D35: Bleue | E35: France | F35: =IF(B35<>"",1,0) -> 1
A36: 430 | B36: *ZAM332B00*JB207171* | C36: 1988 | D36: Bleue | E36: France | F36: =IF(B36<>"",1,0) -> 1
A37: 430 | B37: *ZAM332B00*JB207213* | C37: 1989 | D37: Grise | E37: France | F37: =IF(B37<>"",1,0) -> 1
A38: 420 Si | B38: *ZAM332B00*JB207309* | C38: 1988 | D38: Noire | E38: Pologne | F38: =IF(B38<>"",1,0) -> 1
A39: 422 | B39: *ZAM332B00*JB207377* | C39: 1989 | D39: Rouge | E39: Allemagne | F39: =IF(B39<>"",1,0) -> 1
A40: 430 | B40: *ZAM332B00*JB207590* | C40: 1989 | D40: ? | E40: France | F40: =IF(B40<>"",1,0) -> 1
A41: 422 | B41: *ZAM332B00*JB207652* | C41: 1990 | D41: Rouge | E41: France | F41: =IF(B41<>"",1,0) -> 1
A42: 430 | B42: *ZAM332B00*JB207697* | C42: 1989 | D42: ? | E42: France | F42: =IF(B42<>"",1,0) -> 1
A43: 425I | B43: *ZAM332B00*JB207730* | C43: 1988 | D43: Rouge | E43: Suede | F43: 1 | G43: =HYPERLINK("https://biluppgifter.se/fordon/GTO652","*") -> *
A44: 430 | B44: *ZAM332B00*JB207731* | C44: 1988 | D44: ? | E44: France | F44: =IF(B44<>"",1,0) -> 1
A45: 430 | B45: *ZAM332B00*JB207770* | C45: 1992 | D45: Noire | E45: Allemagne | F45: =IF(B45<>"",1,0) -> 1
A46: 430 | B46: *ZAM332B00*JB207778* (HS) | C46: ? | D46: ? | E46: Hollande | F46: =IF(B46<>"",1,0) -> 1
A47: 422 | B47: ZAM332B00JB207818 | C47: 1989 | E47: Belgique | F47: 1
A48: 422 | B48: *ZAM332B00*JB207827* (HS) | C48: 1988 | D48: ? | E48: Hollande | F48: =IF(B48<>"",1,0) -> 1
A49: 430 | B49: *ZAM332B00*JB207934* | C49: 1989 | D49: Rosso | E49: Croatie | F49: =IF(B49<>"",1,0) -> 1
A50: 430 | B50: *ZAM332B00*JB208037* (HS) | C50: 1988 | D50: ? | E50: Hollande | F50: =IF(B50<>"",1,0) -> 1
A51: 422 | B51: *ZAM332B00*JB208155* | C51: 1989 | D51: ? | E51: Norvège | F51: =IF(B51<>"",1,0) -> 1
A52: 422 | B52: *ZAM332B00*JB208199* | C52: 1988 | D52: ? | E52: Allemagne | F52: =IF(B52<>"",1,0) -> 1
A53: 422 | B53: *ZAM332B00*JB208210* | C53: 1988 | D53: ? | E53: France | F53: =IF(B53<>"",1,0) -> 1
A54: 422 | B54: *ZAM332B00*JB208271* | C54: 1988 | D54: ? | E54: France | F54: =IF(B54<>"",1,0) -> 1
A55: 430 | B55: *ZAM332B00*JB208330* | C55: 1988 | D55: ? | E55: Danemark | F55: =IF(B55<>"",1,0) -> 1
A56: 422 | B56: *ZAM332B00*JB208377* | C56: 1992 | D56: Verde Foresta | E56: France | F56: =IF(B56<>"",1,0) -> 1
A57: 430 | B57: *ZAM332B00*JB290236* | C57: 1989 | D57: ? | E57: UK | F57: =IF(B57<>"",1,0) -> 1
A58: 430 | B58: *ZAM332B00*KB208425* | C58: 1989 | D58: Bleue | E58: France | F58: =IF(B58<>"",1,0) -> 1
A59: 422 | B59: *ZAM332B00*KB208443* | C59: 1990 | D59: ? | E59: France | F59: =IF(B59<>"",1,0) -> 1
... A61: 430 | B61: *ZAM332B00*KB208520* | C61: 1989 | D61: ? | E61: Suisse | F61: =IF(B61<>"",1,0) -> 1
A62: 430 | B62: *ZAM332B00*KB208531* | C62: 1989 | D62: Grise | E62: Sutsse | F62: 1
A63: 420 | B63: *ZAM332B00*KB208546* | C63: 1989 | D63: Grise | E63: France | F63: =IF(B63<>"",1,0) -> 1
A64: 422 | B64: *ZAM332B00*KB208558* | C64: 1989 | D64: ? | E64: France | F64: =IF(B64<>"",1,0) -> 1
A65: 430 | B65: *ZAM332B00*KB208561* | C65: 1989 | D65: Verte | E65: France | F65: =IF(B65<>"",1,0) -> 1
A66: 424 | B66: *ZAM332B00*KB208617 | C66: 1989 | D66: Dazing Black | E66: France
A67: 422 | B67: *ZAM332B00*KB208710* | C67: 1989 | D67: ? | E67: Allemagne | F67: =IF(B67<>"",1,0) -> 1
A68: 430 | B68: *ZAM332B00*KB208756* | C68: 1990 | D68: Bleue | E68: Suisse | F68: =IF(B68<>"",1,0) -> 1
A69: 430 | B69: *ZAM332B00*KB208781* (HS) | C69: 1989 | D69: ? | E69: Hollande | F69: =IF(B69<>"",1,0) -> 1
A70: 430 | B70: *ZAM332B00*KB208785* | C70: 1989 | D70: Noire | E70: France | F70: =IF(B70<>"",1,0) -> 1
A71: 430 | B71: *ZAM332B00*KB208799* | C71: 1991 | E71: Japon | F71: 1
A72: 430 | B72: *ZAM332B00*KB208806* | C72: 1990 | D72: Bleue | E72: Allemagne | F72: =IF(B72<>"",1,0) -> 1
A73: 430 | B73: *ZAM332B00*KB208955* | C73: 1989 | D73: Bleue | E73: France | F73: =IF(B73<>"",1,0) -> 1
A74: 430 | B74: *ZAM332B00*KB208966* | C74: 1992 | D74: Grise | E74: France | F74: =IF(B74<>"",1,0) -> 1
A75: 430 | B75: *ZAM332B00*KB208984* | C75: 1989 | D75: Bleue | E75: France | F75: =IF(B75<>"",1,0) -> 1
A76: 430 | B76: *ZAM332B00*KB208991* | C76: 1991 | D76: Bleue | E76: Hollande | F76: =IF(B76<>"",1,0) -> 1
A77: 430 | B77: *ZAM332B00*KB290311* | C77: 1989 | D77: ? | E77: ? | F77: =IF(B77<>"",1,0) -> 1
A78: 430 | B78: *ZAM332B00*KB2903347* | C78: 1990 | D78: Grise | E78: UK | F78: =IF(B78<>"",1,0) -> 1
A79: 430 | B79: *ZAM332B00*KB290340* | C79: 1992 | D79: Blanc | E79: UK | F79: =IF(B79<>"",1,0) -> 1
A80: 425i | B80: *ZAM332B00*LA102382* | C80: 1985 | D80: Bleue | E80: France | F80: =IF(B80<>"",1,0) -> 1
A81: 430 | B81: *ZAM332B00*LB209003* | C81: 1993 | E81: Suède | F81: 1
A82: 430 | B82: *ZAM332B00*LB209021* | C82: 1991 | D82: Bleue | E82: France | F82: =IF(B82<>"",1,0) -> 1
A83: 430 | B83: *ZAM332B00*LB209024* | C83: 1991 | D83: Bleue | E83: France | F83: =IF(B83<>"",1,0) -> 1
A84: 430 | B84: *ZAM332B00*LB209030* | C84: 1991 | D84: ? | E84: Belgique | F84: =IF(B84<>"",1,0) -> 1
A85: 430 | B85: *ZAM332B00*LB209031* | C85: 1993 | D85: Bleue | E85: France | F85: =IF(B85<>"",1,0) -> 1
A86: 430 | B86: *ZAM332B00*LB209036* | C86: 1991 | D86: Noire | E86: Suisse | F86: =IF(B86<>"",1,0) -> 1
A87: 430 | B87: *ZAM332B00*LB209046* | C87: 1993 | D87: Noire | E87: France | F87: =IF(B87<>"",1,0) -> 1
A88: 424 | B88: *ZAM332B00*LB209075* | C88: 1990 | D88: Noire | E88: Hollande | F88: =IF(B88<>"",1,0) -> 1
A89: 424 | B89: *ZAM332B00*LB209089* | C89: 1990 | D89: Noire | E89: Hollande | F89: =IF(B89<>"",1,0) -> 1
A90: 430 | B90: *ZAM332B00*LB209178* | C90: 1993 | E90: Norvège | F90: 1 | G90: =HYPERLINK("https://regnr.info/AX69136","*") -> *
A91: 424 | B91: *ZAM332B00*LB209203* | C91: ? | D91: ? | E91: Hollande | F91: =IF(B91<>"",1,0) -> 1
A92: 424 | B92: *ZAM332B00*LB209231* | C92: 1990 | D92: Grise | E92: France | F92: =IF(B92<>"",1,0) -> 1
A93: 424 | B93: *ZAM332B00*LB209233* | C93: 1990 | D93: Vert | E93: Hollande | F93: =IF(B93<>"",1,0) -> 1
A94: 430 | B94: *ZAM332B00*LB209288* | C94: 1991 | D94: Noire | E94: Hollande | F94: =IF(B94<>"",1,0) -> 1
A95: 424 | B95: *ZAM332B00*LB209359* | C95: 1991 | D95: Noire | E95: Hollande | F95: =IF(B95<>"",1,0) -> 1
A96: 424 | B96: *ZAM332B00*LB209377* | C96: 1991 | D96: Noire | E96: Hollande | F96: =IF(B96<>"",1,0) -> 1
A97: 424 | B97: *ZAM332B00*LB209404* | C97: 1991 | D97: Noire | E97: Italie | F97: =IF(B97<>"",1,0) -> 1
A98: 424 | B98: *ZAM332B00*LB209526* | C98: 1991 | D98: ? | E98: Hollande | F98: =IF(B98<>"",1,0) -> 1
A99: 424 | B99: *ZAM332B00*LB209526* | C99: 1990 | D99: ? | E99: Hollande | F99: =IF(B99<>"",1,0) -> 1
A100: 430 | B100: *ZAM332B00*LB209582* | C100: 1990 | D100: Noire | E100: Hollande | F100: =IF(B100<>"",1,0) -> 1
A101: 424 | B101: *ZAM332B00*LB209640* | C101: 1990 | D101: ? | E101: Allemagne | F101: =IF(B101<>"",1,0) -> 1
...

Sheet Spyders (ZAM333...)
B1: =SUM(F3:F1354) -> 146 | C1: Voitures répertoriées
A2: Modèle | B2: N° Série | C2: Année | D2: Couleur | E2: Pays
A3: Spyder III | B3: *ZAM333B00*00103054* | C3: 1996 | D3: Noir | E3: Allemagne | F3: =IF(B3<>"",1,0) -> 1
A4: Spyder III | B4: *ZAM333B00*00103056* | C4: 1995 | D4: ? | E4: Allemagne | F4: =IF(B4<>"",1,0) -> 1
A5: Spyder III | B5: *ZAM333B00*00190303* | C5: 1994 | D5: ? | E5: ? | F5: =IF(B5<>"",1,0) -> 1
A6: Spyder | B6: *ZAM333B00*FA100010* | C6: 1985 | D6: Rouge | E6: Italie | F6: =IF(B6<>"",1,0) -> 1
A7: Spyder | B7: *ZAM333B00*FA100023* | C7: 1986 | D7: ? | E7: Belgique | F7: =IF(B7<>"",1,0) -> 1
A8: Spyder | B8: *ZAM333B00*FA100027* | C8: 1985 | D8: ? | E8: France | F8: =IF(B8<>"",1,0) -> 1
A9: Spyder | B9: *ZAM333B00*FA100077* | C9: 1985 | D9: Rouge | E9: Italie | F9: =IF(B9<>"",1,0) -> 1
A10: Spyder 2,5 | B10: *ZAM333B00*FA100137* | C10: 1986 | D10: Gris | E10: Pologne | F10: =IF(B10<>"",1,0) -> 1
A11: Spyder 2,5 | B11: *ZAM333B00*FA100260* | C11: 1986 | D11: Rouge | E11: France | F11: =IF(B11<>"",1,0) -> 1
A12: Spyder | B12: *ZAM333B00*GA100400* | C12: 1986 | D12: Rosso Maserati | E12: Suisse | F12: =IF(B12<>"",1,0) -> 1
A13: Spyder E | B13: *ZAM333B00*GA100412* | C13: 1986 | D13: Rouge | E13: Suisse | F13: =IF(B13<>"",1,0) -> 1
A14: Spyder | B14: *ZAM333B00*GA100415* | C14: 1986 | D14: Rouge | E14: Italie | F14: =IF(B14<>"",1,0) -> 1
... A26: Spyder 2,5 | B26: *ZAM333B00*HA101442* | C26: 1988 | D26: Rouge | E26: Suisse | F26: =IF(B26<>"",1,0) -> 1
A27: Spyder E | B27: *ZAM333B00*HA101448* | C27: 1987 | D27: Rouge | E27: Norvège | F27: =IF(B27<>"",1,0) -> 1 | G27: =HYPERLINK("https://regnr.info/BN35518","Vol") -> Vol
A28: Spyder i | B28: *ZAM333B00*HA101454* | C28: 1988 | D28: Noir | E28: France | F28: =IF(B28<>"",1,0) -> 1
A29: Spyder E | B29: *ZAM333B00*HA101478* | C29: 1987 | D29: Rouge | E29: UK | F29: =IF(B29<>"",1,0) -> 1
A30: Spyder i | B30: *ZAM333B00*HA101499* | C30: 1988 | D30: Bleu | E30: Belgique | F30: =IF(B30<>"",1,0) -> 1
A31: Spyder | B31: *ZAM333B00*HA101603* | C31: 1988 | D31: Rosso | F31: 1 | G31: =HYPERLINK("http://www.maseratitude.com/viewtopic.php?p=83223#p83223","*") -> *
A32: Spyder | B32: *ZAM333B00*HA101669* | C32: 1988 | D32: ? | E32: Suede | F32: =IF(B32<>"",1,0) -> 1
A33: Spyder E | B33: *ZAM333B00*HA190004* | C33: 1988 | D33: ? | E33: UK | F33: =IF(B33<>"",1,0) -> 1
A34: Spyder | B34: *ZAM333B00*HA190039* | C34: 1987 | D34: Rosso Maserati | E34: Australie | F34: =IF(B34<>"",1,0) -> 1
A35: Spyder 2,5 | B35: *ZAM333B00*HA190059* | C35: 1987 | E35: USA | F35: 1 | G35: *
A36: Spyder 2.5 | B36: *ZAM333B00*HA190066* | C36: 1988 | D36: Rosso | E36: UK | F36: 1
A37: Spyder SE | B37: *ZAM333B00*HA190086* | C37: 1988 | D37: Nero Carbonio | E37: UK | F37: =IF(B37<>"",1,0) -> 1
A38: Spyder E | B38: *ZAM333B00*HA190096* | C38: 1987 | D38: Rouge | E38: Australie | F38: =IF(B38<>"",1,0) -> 1
A39: Spyder i | B39: *ZAM333B00*JA101820* | C39: 1989 | D39: ? | E39: Belgique | F39: =IF(B39<>"",1,0) -> 1
A40: Spyder | B40: *ZAM333B00*JA101823* | C40: 1988 | D40: ? | E40: France | F40: =IF(B40<>"",1,0) -> 1
A41: Spyder i | B41: *ZAM333B00*JA101826* | C41: 1988 | D41: ? | E41: France | F41: =IF(B41<>"",1,0) -> 1
A42: Spyder SE | B42: *ZAM333B00*JA101984* | C42: 1990 | D42: Bleu | E42: Allemagne | F42: =IF(B42<>"",1,0) -> 1
A43: Spyder 2,8 | B43: *ZAM333B00*JA190166* | C43: 1989 | D43: Blanc | E43: UK | F43: =IF(B43<>"",1,0) -> 1
A44: Spyder E | B44: *ZAM333B00*KA102031* | C44: 1989 | D44: Rouge | E44: France | F44: =IF(B44<>"",1,0) -> 1
A45: Spyder III | B45: *ZAM333B00*KA102145* | C45: 1989 | D45: Rouge | E45: Espagne | F45: =IF(B45<>"",1,0) -> 1
A46: Spyder 2,0 | B46: *ZAM333B00*KA102185* | C46: 1989 | D46: ? | E46: France | F46: =IF(B46<>"",1,0) -> 1
A47: Spyder SE | B47: *ZAM333B00*KA102314* | C47: 1990 | D47: Noir | E47: France | F47: =IF(B47<>"",1,0) -> 1
A48: Spyder SE | B48: *ZAM333B00*KA102314* | C48: 1991 | D48: Noir | E48: France | F48: =IF(B48<>"",1,0) -> 1
... A52: Spyder | B52: *ZAM333B00*KA190182* | C52: 1989 | D52: Rouge | E52: UK | F52: =IF(B52<>"",1,0) -> 1
A53: Spyder | B53: *ZAM333B00*LA102374* | C53: 1990 | D53: Rouge | E53: France | F53: 1
A54: Spyder SE | B54: *ZAM333B00*LA102382* | C54: 1990 | D54: Noir | E54: France | F54: =IF(B54<>"",1,0) -> 1
A55: Spyder SE | B55: *ZAM333B00*LA102393* | C55: 1990 | D55: ? | E55: France | F55: =IF(B55<>"",1,0) -> 1
A56: Spyder | B56: *ZAM333B00*LA102418* | C56: 1991 | D56: Rouge | E56: Allemagne | F56: =IF(B56<>"",1,0) -> 1
A57: Spyder 2,8 | B57: *ZAM333B00*LA102443* | C57: 1992 | D57: Noir | E57: ? | F57: =IF(B57<>"",1,0) -> 1
A58: Spyder 2,8 | B58: *ZAM333B00*LA102453* | C58: 1991 | D58: Vert | E58: Hollande | F58: =IF(B58<>"",1,0) -> 1
A59: Spyder 2,8 | B59: *ZAM333B00*LA102475* | C59: 1990 | D59: Bleu | E59: Japon | F59: 1
A60: Spyder SE | B60: *ZAM333B00*LA102483* | C60: 1990 | D60: ? | E60: Hollande | F60: =IF(B60<>"",1,0) -> 1
A61: Spyder SE | B61: *ZAM333B00*LA102502* | C61: 1990 | D61: ? | E61: France | F61: =IF(B61<>"",1,0) -> 1
A62: Spyder | B62: *ZAM333B00*LA102586* | C62: 1991 | D62: ? | E62: France | F62: =IF(B62<>"",1,0) -> 1
A63: Spyder SE | B63: *ZAM333B00*LA102600* | C63: 1992 | D63: Rouge | E63: Allemagne | F63: =IF(B63<>"",1,0) -> 1
A64: Spyder 2,8 | B64: *ZAM333B00*LA102614* | C64: 1991 | D64: Vert | E64: Japon | F64: 1
A65: Spyder SE | B65: *ZAM333B00*LA102649* | C65: 1990 | D65: ? | E65: Allemagne | F65: =IF(B65<>"",1,0) -> 1
A66: Spyder E | B66: *ZAM333B00*LA190237* | C66: 1993 | D66: ? | E66: UK | F66: =IF(B66<>"",1,0) -> 1
A67: Spyder SE | B67: *ZAM333B00*LA190237* | C67: 1992 | D67: Bleu | E67: UK | F67: =IF(B67<>"",1,0) -> 1
A68: Spyder | B68: *ZAM333B00*LA190239* | C68: 1990 | D68: ? | E68: UK | F68: =IF(B68<>"",1,0) -> 1
A69: Spyder SE | B69: *ZAM333B00*LA190254* | C69: 1991 | D69: ? | E69: UK | F69: =IF(B69<>"",1,0) -> 1
A70: Spyder SE | B70: *ZAM333B00*LA190258* | C70: 1991 | D70: ? | E70: Afrique du sud | F70: =IF(B70<>"",1,0) -> 1
A71: Spyder SE | B71: *ZAM333B00*LA190259* | C71: 1992 | D71: Rouge | E71: UK | F71: =IF(B71<>"",1,0) -> 1
A72: Spyder | B72: *ZAM333B00*MB102770* | E72: France | F72: 1 | G72: * Fred Maseralfa
A73: Spyder | B73: *ZAM333B00*MB102774* | C73: 1991 | D73: Blu Aquamarina Met | E73: Italie | F73: =IF(B73<>"",1,0) -> 1
A74: Spyder SE | B74: *ZAM333B00*MB102816* | C74: 1992 | D74: Bleu | E74: France | F74: =IF(B74<>"",1,0) -> 1
A75: Spyder 2,8 | B75: *ZAM333B00*MB102844* | C75: 1991 | D75: ? | E75: Belgique | F75: =IF(B75<>"",1,0) -> 1
A76: Spyder | B76: *ZAM333B00*MB102877* | C76: 1991 | D76: ? | E76: Allemagne | F76: =IF(B76<>"",1,0) -> 1
A77: Spyder III E 2,8 | B77: *ZAM333B00*NB102914* | C77: 1994 | D77: Gris | E77: Suisse | F77: =IF(B77<>"",1,0) -> 1
A78: Spyder 2,8 | B78: *ZAM333B00*NB102922* | C78: 1995 | D78: ? | E78: Suisse | F78: =IF(B78<>"",1,0) -> 1
A79: Spyder III | B79: *ZAM333B00*NB102972* | C79: 1995 | D79: ? | E79: Espagne | F79: =IF(B79<>"",1,0) -> 1
A80: Spyder | B80: *ZAM333B00*NB102990* | C80: 1994 | D80: Bleu | E80: France | F80: =IF(B80<>"",1,0) -> 1
A81: Spyder III | B81: *ZAM333B00*NB102994* | C81: 1994 | E81: France | F81: 1 | G81: jeromeayrton
A82: Spyder | B82: *ZAM333B00*NB103009* | C82: 1994 | D82: Rosso Maserati | E82: ? | F82: =IF(B82<>"",1,0) -> 1
A83: Spyder III | B83: *ZAM333B00*NB103028* | C83: 1994 | D83: Rosso Maserati | E83: Suisse | F83: =IF(B83<>"",1,0) -> 1
A84: Spyder SE | B84: *ZAM333B28*JA190163* | C84: 1989 | D84: Rouge | E84: UK | F84: =IF(B84<>"",1,0) -> 1
A85: Spyder SE | B85: *ZAM333B28*LA190256* | C85: 1990 | D85: ? | E85: ? | F85: =IF(B85<>"",1,0) -> 1
A86: Spyder SE | B86: *ZAM333B28A*JA190166* | C86: 1989 | D86: Blanc | E86: UK | F86: =IF(B86<>"",1,0) -> 1
A87: Spyder SE | B87: *ZAM333B28A*KA190017* | C87: 1989 | D87: Rouge | E87: UK | F87: =IF(B87<>"",1,0) -> 1
A88: Spyder SE | B88: *ZAM333B28A*KA190022* | C88: 1992 | D88: Rouge | E88: UK | F88: =IF(B88<>"",1,0) -> 1
A89: Spyder E 2,8 | B89: *ZAM333B28A*KA190174* | C89: 1989 | D89: Blanc | E89: Allemagne | F89: =IF(B89<>"",1,0) -> 1
A90: Spyder E | B90: *ZAM333B28A*KA190200* | C90: 1989 | D90: ? | E90: UK | F90: =IF(B90<>"",1,0) -> 1
A91: Spyder | B91: *ZAM333B28A*KA190302* | C91: 1994 | D91: ? | E91: ? | F91: =IF(B91<>"",1,0) -> 1
A92: Spyder E | B92: *ZAMFL1100*GA330162* | C92: 1986 | D92: Rouge | E92: Hollande | F92: =IF(B92<>"",1,0) -> 1
A93: Spyder E | B93: *ZAMFL1100*GA330694* | C93: 1986 | D93: Rouge | E93: USA | F93: =IF(B93<>"",1,0) -> 1
... A107: Spyder E | B107: *ZAMFL1105*GA330285* | C107: 1986 | D107: Rouge | E107: USA | F107: =IF(B107<>"",1,0) -> 1
A108: Spyder | B108: *ZAMFL1106*HA330832* | C108: 1987 | D108: Bleu | E108: USA | F108: 1
A109: Spyder | B109: *ZAMFL1107*GA330577* | C109: 1986 | D109: Rosso Maserati | E109: Hollande | F109: 1 | G109: =HYPERLINK("https://gocar.be/fr/autovlan/voiture-occasion/Maserati/Biturbo/Spider-25-Only-11291-miles-s1brd8hn","*") -> *
A110: Spyder | B110: *ZAMFL1108*GA330247* | C110: 1986 | D110: Blu | E110: USA | F110: 1
A111: Spyder E | B111: *ZAMFL1108*GA330961* | C111: 1986 | D111: Rouge | E111: USA | F111: =IF(B111<>"",1,0) -> 1
A112: Spyder E | B112: *ZAMFL1109*GA330385* | C112: 1986 | D112: Rouge | E112: USA | F112: =IF(B112<>"",1,0) -> 1
A113: Spyder E | B113: *ZAMFL1109*GA330502* | C113: 1986 | D113: Rouge | E113: USA | F113: =IF(B113<>"",1,0) -> 1
A114: Spyder | B114: *ZAMFL110X*GA330282* | C114: 1986 | D114: Rouge | E114: USA | F114: 1
A115: Spyder E | B115: *ZAMFL110X*GA330475* | C115: 1986 | D115: Gris | E115: USA | F115: =IF(B115<>"",1,0) -> 1
A116: Spyder E | B116: *ZAMFL110X*GA330489* | C116: 1986 | D116: Noir | E116: USA | F116: =IF(B116<>"",1,0) -> 1
A117: Spyder E | B117: *ZAMFL110X*HA330834* | C117: 1987 | D117: Bleu | E117: USA | F117: =IF(B117<>"",1,0) -> 1
A118: Spyder E | B118: *ZAMFM1100*HA331083* | C118: 1987 | D118: Gris | E118: USA | F118: =IF(B118<>"",1,0) -> 1
A119: Spyder i | B119: *ZAMFM1100*HA331097* | C119: 1987 | D119: Rouge | E119: USA | F119: =IF(B119<>"",1,0) -> 1
A120: Spyder i | B120: *ZAMFM1100*HA331374* | C120: 1987 | D120: Rouge | E120: USA | F120: =IF(B120<>"",1,0) -> 1
A121: Spyder E | B121: *ZAMFM1100*HA331424* | C121: 1987 | D121: Rouge | E121: USA | F121: =IF(B121<>"",1,0) -> 1
A122: Spyder | B122: *ZAMFM1100*HA331455* | C122: 1987 | D122: Rouge | E122: USA | F122: 1
A123: Spyder i | B123: *ZAMFM1101*HA331240* | C123: 1987 | D123: Rosso Maserati | E123: USA | F123: =IF(B123<>"",1,0) -> 1
A124: Spyder i | B124: *ZAMFM1101*HA331271* | C124: 1987 | D124: Noir | E124: USA | F124: =IF(B124<>"",1,0) -> 1
A125: Spyder i | B125: *ZAMFM1101*HA331495* | C125: 1987 | D125: Bleu | E125: USA | F125: =IF(B125<>"",1,0) -> 1
A126: Spyder | B126: *ZAMFM1101*HA331223* | C126: 1987 | D126: Rosso Maserati | E126: USA | F126: 1
A127: Spyder E | B127: *ZAMFM1102*HA331070* HS | C127: 1987 | D127: ? | E127: USA | F127: =IF(B127<>"",1,0) -> 1
...

Sheet 228 (ZAM334...)
B1: =SUM(F3:F305) -> 20 | C1: Voitures répertoriées
A2: Modèle | B2: N° Série | C2: Année | D2: Couleur | E2: Pays
A3: 228 | B3: *ZAM334B00*FA100188* | C3: 1988 | D3: Argent | E3: Italie | F3: =IF(B3<>"",1,0) -> 1
A4: 228 | B4: *ZAM334B00*HA100174* | C4: 1987 | D4: Grise | E4: Italie | F4: =IF(B4<>"",1,0) -> 1
A5: 228 | B5: ZAM334B00*HA100241*. | C5: 1987 | D5: Blue metallic. | E5: Suisse | F5: 1
A6: 228 | B6: *ZAM334B00*HA100271* | C6: 1988 | D6: Grise | E6: Suisse | F6: =IF(B6<>"",1,0) -> 1
A7: 228 | B7: *ZAM334B00*HA100836* | C7: 1987 | D7: ? | E7: Belgique | F7: =IF(B7<>"",1,0) -> 1
A8: 228 | B8: *ZAM334B00*JA100362* | C8: 1988 | D8: Bleue | E8: Hollande | F8: =IF(B8<>"",1,0) -> 1
A9: 228 | B9: *ZAM334B00*JA100367* | C9: 1988 | D9: Noire | E9: Allemagne | F9: =IF(B9<>"",1,0) -> 1
A10: 228 | B10: *ZAM334B00*JA100388* | C10: 1988 | D10: Blanche | E10: Croatie | F10: =IF(B10<>"",1,0) -> 1
A11: 228 | B11: *ZAM334B00*JA100393* | E11: Italie | F11: 1
A12: 228 | B12: *ZAM334B00*KA100462* | C12: 1989 | D12: ? | E12: Suisse | F12: =IF(B12<>"",1,0) -> 1
A13: 228 | B13: *ZAM334B00*KA100469* | C13: 1989 | D13: Noire | E13: Hollande | F13: =IF(B13<>"",1,0) -> 1
A14: 228 | B14: *ZAM334B00*KA190005* | C14: 1990 | D14: Noire | E14: UK | F14: =IF(B14<>"",1,0) -> 1
A15: 228 | B15: *ZAM334B00*KA190021* | C15: 1989 | D15: ? | E15: Australie | F15: =IF(B15<>"",1,0) -> 1
A16: 228 | B16: ZAM334B00KKA190036 | C16: 1990 | D16: Noire | E16: UK | F16: 1
A17: 228 | B17: *ZAM334B00*LA100547* | C17: 1992 | D17: ? | E17: Allemagne | F17: =IF(B17<>"",1,0) -> 1
A18: 228 | B18: *ZAMAN1102*KA340334* | C18: 1989 | D18: Noire | E18: USA | F18: 1 | G18: *Salvage
A19: 228 | B19: *ZAMAN1104*KA340349* | C19: 1989 | D19: Grise | E19: USA | F19: =IF(B19<>"",1,0) -> 1
A20: 228 | B20: *ZAMAN1108*KA340337* | C20: 1989 | D20: Bleue | E20: USA | F20: =IF(B20<>"",1,0) -> 1
A21: 228 | B21: *ZAMAN1109*KA340332* | C21: 1989 | D21: Blanche | E21: UK | F21: 1
A22: 228 | B22: *ZAMBN110X*KA340369* | C22: 1989 | D22: Rouge | E22: USA | F22: =IF(B22<>"",1,0) -> 1
F23: =IF(B23<>"",1,0) -> 0
F24: =IF(B24<>"",1,0) -> 0
F25: =IF(B25<>"",1,0) -> 0
F26: =IF(B26<>"",1,0) -> 0
F27: =IF(B27<>"",1,0) -> 0
F28: =IF(B28<>"",1,0) -> 0
F29: =IF(B29<>"",1,0) -> 0
F30: =IF(B30<>"",1,0) -> 0
F31: =IF(B31<>"",1,0) -> 0
F32: =IF(B32<>"",1,0) -> 0
F33: =IF(B33<>"",1,0) -> 0
F34: =IF(B34<>"",1,0) -> 0
... F106: =IF(B106<>"",1,0) -> 0

Sheet QP4 (ZAM337...)
A1: Le registre d'Enrico pour les QP4 :
A2: http://www.maserati-alfieri.co.uk/alfieri291.htm
B4: =SUM(F6:F327) -> 75 | C4: Voitures répertoriées
A5: Modèle | B5: N° Série | C5: Année | D5: Couleur | E5: Pays
A6: QP4 2,8 | B6: *ZAM337B00*00330122* | C6: 1994 | D6: Grise | E6: Hollande | F6: =IF(B6<>"",1,0) -> 1
A7: QP4 2,0 | B7: *ZAM337B00*00330137* | C7: 1996 | D7: Bleu | E7: Italie | F7: =IF(B7<>"",1,0) -> 1
A8: QP4 2,0 | B8: *ZAM337B00*00330185* | C8: 1995 | D8: Bleu | E8: Grece | F8: =IF(B8<>"",1,0) -> 1
A9: QP4 2,0 | B9: *ZAM337B00*00330271* | C9: 1995 | D9: ? | E9: Italie | F9: =IF(B9<>"",1,0) -> 1
A10: QP4 2,0 | B10: *ZAM337B00*00330280* | C10: 1994 | D10: Vert | E10: Hollande | F10: =IF(B10<>"",1,0) -> 1
A11: QP4 2,0 | B11: *ZAM337B00*00330291* | C11: 1994 | D11: Grise | E11: Hollande | F11: =IF(B11<>"",1,0) -> 1
A12: QP4 2.0 | B12: *ZAM337B00*00330297* | C12: 1995 | D12: Vert | E12: France | F12: 1
A13: QP4 | B13: *ZAM337B00*00330307* (HS) | C13: ? | D13: ? | E13: ? | F13: =IF(B13<>"",1,0) -> 1
A14: QP4 2.0 | B14: *ZAM337B00*00330348* | C14: 1996 | D14: bordeaux | E14: Hollande | F14: 1
A15: QP4 2,8 | B15: *ZAM337B00*00330349* | C15: 1998 | D15: Grise | E15: Allemagne | F15: =IF(B15<>"",1,0) -> 1
A16: QP4 | B16: *ZAM337B00*00330405* (HS) | C16: ? | D16: ? | E16: ? | F16: =IF(B16<>"",1,0) -> 1
A17: QP4 2,0 | B17: *ZAM337B00*00330438* | C17: 1996 | D17: Noire | E17: France | F17: =IF(B17<>"",1,0) -> 1
A18: QP4 2,8 | B18: *ZAM337B00*00330454* | C18: ? | D18: ? | E18: ? | F18: =IF(B18<>"",1,0) -> 1
A19: QP4 2,8 | B19: *ZAM337B00*00330517* | C19: 1995 | D19: Noire | E19: Hollande | F19: =IF(B19<>"",1,0) -> 1
A20: QP4 2,8 | B20: *ZAM337B00*00330564* | C20: 1996 | D20: ? | E20: Allemagne | F20: =IF(B20<>"",1,0) -> 1
A21: QP4 2.8 | B21: *ZAM337B00*00330603* | C21: 1996 | D21: Noire | E21: Belgique | F21: 1
A22: QP4 | B22: *ZAM337B00*00330619* | C22: ? | D22: Bleu | E22: Suisse | F22: =IF(B22<>"",1,0) -> 1
A23: QP4 2,8 | B23: *ZAM337B00*00330664* | C23: 1996 | D23: Vert | E23: Belgique | F23: 1 | G23: =HYPERLINK("http://www.maseratitude.com/viewtopic.php?p=86676#p86676","*") -> *
A24: QP4 2,8 | B24: *ZAM337B00*00330697* | C24: 1996 | D24: Grise | E24: Allemagne | F24: =IF(B24<>"",1,0) -> 1
A25: QP4 2,0 | B25: *ZAM337B00*00330819* | C25: 1996 | D25: Bleu | E25: Hollande | F25: =IF(B25<>"",1,0) -> 1
A26: QP4 2.8 | B26: *ZAM337B00*00330847* | C26: 1996 | D26: Verde Toundra | E26: Belgique | F26: 1
A27: QP4 2,8 | B27: *ZAM337B00*00330922* | C27: 1999 | D27: Bleu | E27: Hollande | F27: =IF(B27<>"",1,0) -> 1
A28: QP4 | B28: *ZAM337B00*00330997* | C28: ? | D28: Grise | E28: Hollande | F28: =IF(B28<>"",1,0) -> 1
A29: QP4 3,2 | B29: *ZAM337B00*00331030* | C29: 1997 | D29: ? | E29: Suisse | F29: =IF(B29<>"",1,0) -> 1
A30: QP4 3,2 | B30: *ZAM337B00*00331033* | C30: 1997 | D30: ? | E30: France | F30: =IF(B30<>"",1,0) -> 1
A31: QP4 3,2 | B31: *ZAM337B00*00331089* | C31: 1997 | D31: Bleu | E31: UK | F31: =IF(B31<>"",1,0) -> 1
A32: QP4 2.8 | B32: *ZAM337B00*00331137* | C32: 1998 | D32: Grise | E32: Belgique | F32: 1
A33: QP4 2,8 | B33: *ZAM337B00*00331141* | C33: 1996 | D33: Noire | E33: France | F33: =IF(B33<>"",1,0) -> 1
A34: QP4 3,2 | B34: *ZAM337B00*00331181* | C34: 1997 | D34: Bleu | E34: Allemagne | F34: =IF(B34<>"",1,0) -> 1
A35: QP4 3,2 | B35: *ZAM337B00*00331185* | C35: ? | D35: ? | E35: France | F35: =IF(B35<>"",1,0) -> 1
A36: QP4 2,8 | B36: *ZAM337B00*00331207* | C36: 1998 | E36: Japon | F36: 1
A37: QP4 3,2 | B37: *ZAM337B00*00331213* | C37: 1997 | E37: Japon | F37: 1
A38: QP4 2,0 | B38: *ZAM337B00*00331310* | C38: ? | D38: ? | E38: Hollande | F38: =IF(B38<>"",1,0) -> 1
A39: QP4 2,0 | B39: *ZAM337B00*00331323* | C39: 1998 | D39: Bleu | E39: Italie | F39: =IF(B39<>"",1,0) -> 1
A40: QP4 | B40: *ZAM337B00*00331325* | C40: 1997 | D40: Grise | E40: Belgique | F40: =IF(B40<>"",1,0) -> 1
A41: QP4 3,2 | B41: *ZAM337B00*00331400* | C41: 1997 | D41: Bleu | E41: Suisse | F41: =IF(B41<>"",1,0) -> 1
A42: QP4 | B42: *ZAM337B00*00331444* | C42: 1998 | D42: Mauve | E42: Suède | F42: 1
A43: QP4 2,0 | B43: *ZAM337B00*00331462* | C43: 1997 | D43: Bleu | E43: Hollande | F43: =IF(B43<>"",1,0) -> 1
A44: QP4 | B44: *ZAM337B00*00331572* (HS) | C44: ? | D44: ? | E44: Hollande | F44: =IF(B44<>"",1,0) -> 1
A45: QP' 3.2 | B45: *ZAM337B00*00331576* | C45: 1998 | D45: Grigio NurBurgring | E45: France | F45: 1
A46: QP4 3,2 Evo | B46: *ZAM337B00*00331659* | C46: ? | D46: ? | E46: Allemagne | F46: =IF(B46<>"",1,0) -> 1
A47: QP4 3,2 Evo | B47: *ZAM337B00*00331709* | C47: 1998 | D47: Argent | E47: Suisse | F47: =IF(B47<>"",1,0) -> 1
A48: QP4 2,8 Evo | B48: *ZAM337B00*00331798* | C48: 1999 | D48: Grise | E48: Suisse | F48: =IF(B48<>"",1,0) -> 1
A49: QP4 2,8 Evo | B49: *ZAM337B00*00331800* | C49: 2000 | D49: Rouge | E49: Allemagne | F49: =IF(B49<>"",1,0) -> 1
A50: QP4 3,2 Evo | B50: *ZAM337B00*00331805* | C50: ? | D50: ? | E50: Allemagne | F50: =IF(B50<>"",1,0) -> 1
A51: QP4 3,2 Evo | B51: *ZAM337B00*00331832* | C51: ? | D51: ? | E51: France | F51: =IF(B51<>"",1,0) -> 1
A52: QP4 3,2 Evo | B52: *ZAM337B00*00331841* | C52: 1999 | D52: Bianco Birdcage | E52: France | F52: =IF(B52<>"",1,0) -> 1
A53: QP4 3,2 Evo | B53: *ZAM337B00*00331871* | C53: 1999 | D53: Bleu | E53: Allemagne | F53: =IF(B53<>"",1,0) -> 1
A54: QP4 2,8 Evo | B54: *ZAM337B00*00331885* | C54: 1999 | E54: Japon | F54: 1
A55: QP4 3,2 Evo | B55: *ZAM337B00*00331934* | C55: 2000 | D55: Grigio Touring | E55: Hollande | F55: =IF(B55<>"",1,0) -> 1
A56: QP4 3,2 Evo | B56: *ZAM337B00*00331995* | C56: 2000 | D56: Nero Carbonio Met | E56: Grece | F56: =IF(B56<>"",1,0) -> 1
A57: QP4 2,8 Evo | B57: *ZAM337B00*0332000* | C57: 1999 | E57: Japon | F57: 1
A58: QP4 | B58: *ZAM337B00*00332039* | C58: ? | D58: ? | E58: Allemagne | F58: =IF(B58<>"",1,0) -> 1
A59: QP4 | B59: *ZAM337B00*00332047* | C59: 2001 | E59: Japon | F59: 1 | G59: =HYPERLINK("http://www.maseratitude.com/viewtopic.php?p=84916#p84916","*") -> *
A60: QP4 Evo | B60: *ZAM337B00*00332118 | C60: 2001 | D60: Bleu | E60: Hollande | F60: 1 | G60: =HYPERLINK("http://www.maseratitude.com/styles/we_universal/imageset/icon_post_target.gif","*") -> *
A61: QP4 2,8 Evo | B61: *ZAM337B00*00332129* | C61: 2000 | D61: Blanc | E61: Japon | F61: 1
A62: QP4 2,8 Evo | B62: *ZAM337B00*00332153* | C62: 2000 | D62: Grigio Touring | E62: France | F62: =IF(B62<>"",1,0) -> 1
A63: QP4 3.2 Evo | B63: *ZAM337B00*00332216* | C63: 2001 | D63: Grigio Touring | E63: Japon | F63: 1
A64: QP4 3,2 Evo | B64: *ZAM337B00*00332226* | C64: ? | D64: Bleu | E64: Hollande | F64: =IF(B64<>"",1,0) -> 1
A65: QP4 2,8 Evo | B65: *ZAM337B00*00332244* | C65: 2002 | E65: Japon | F65: 1
A66: QP4 2.8 | B66: *ZAM337B00*00332259* | C66: 2001 | E66: Japon | F66: 1
A67: QP4 3,2 Evo | B67: *ZAZM337B00*00332268* | C67: 2001 | D67: Bianco | E67: Japon | F67: 1
A68: QP4 2,8 Evo | B68: *ZAM337B00*00332301* | C68: 2001 | D68: Bianco | E68: Japon | F68: 1 | G68: =HYPERLINK("http://www.maseratitude.com/viewtopic.php?p=84916#p84916","*") -> *
A69: QP4 3,2 Evo | B69: *ZAM337B00*00332306* | C69: 2003 | D69: Bianco | E69: Japon | F69: 1
A70: QP4 3,2 Evo | B70: *ZAM337B00*00332315* | C70: 2003 | E70: Japon | F70: 1
A71: QP4 2,8 | B71: *ZAM337B00*00350048* | C71: 1997 | D71: ? | E71: UK | F71: =IF(B71<>"",1,0) -> 1
A72: QP4 3,2 | B72: *ZAM337B00*00350092* | C72: 1997 | D72: Grise | E72: UK | F72: =IF(B72<>"",1,0) -> 1
A73: QP4 3.2 | B73: ZAM337B0000350111 | C73: 1999 | D73: Rouge Madère | E73: UK | F73: 1
A74: QP4 3,2 Evo | B74: *ZAM337B00*00350113* | C74: 1998 | D74: ? | E74: Australie | F74: =IF(B74<>"",1,0) -> 1
A75: QP4 3.2 Evo | B75: *ZAM337B00*00350114* | C75: 1998 | D75: Rouge Madère | E75: UK | F75: 1
A76: QP4 3,2 | B76: *ZAM337B00*00350129* | C76: 1998 | D76: Rouge | E76: Hollande | F76: =IF(B76<>"",1,0) -> 1
A77: QP4 3.2 Evo | B77: *ZAM337B00*00350178* | C77: 1999 | D77: Blu Maserati | E77: UK | F77: 1
A78: QP4 | B78: *ZAM337B00*00350192* | C78: 2000 | D78: Bleu | E78: UK | F78: =IF(B78<>"",1,0) -> 1
A79: QP4 3.2 Evo | B79: ZAM337B0000350201 | C79: 2000 | D79: Grise | E79: UK | F79: 1
A80: QP4 3,2 Evo | B80: *ZAM337B00*00350222* | C80: 2000 | D80: Noire | E80: Hollande | F80: =IF(B80<>"",1,0) -> 1
F81: =IF(B81<>"",1,0) -> 0
F82: =IF(B82<>"",1,0) -> 0
F83: =IF(B83<>"",1,0) -> 0
F84: =IF(B84<>"",1,0) -> 0
F85: =IF(B85<>"",1,0) -> 0
F86: =IF(B86<>"",1,0) -> 0
F87: =IF(B87<>"",1,0) -> 0
F88: =IF(B88<>"",1,0) -> 0
F89: =IF(B89<>"",1,0) -> 0
F90: =IF(B90<>"",1,0) -> 0
F91: =IF(B91<>"",1,0) -> 0
F92: =IF(B92<>"",1,0) -> 0
... F128: =IF(B128<>"",1,0) -> 0

Sheet Ghibli (ZAM336...)
A1: Le registre d'Enrico pour les Ghibli :
A2: http://www.maserati-alfieri.co.uk/alfieri241.htm
A3: Le registre d'Enrico pour les Ghibli Cup LHD (en bas de page) :
A4: http://www.maserati-alfieri.co.uk/alfieri241.htm
A5: Le registre d'Enrico pour les Ghibli Cup RHD :
A6: http://www.maserati-alfieri.co.uk/alfieri-ghiblicup-rhd.htm
B8: =SUM(F10:F346) -> 118 | C8: Voitures répertoriées
A9: Modèle | B9: N° Série | C9: Année | D9: Couleur | E9: Pays
A10: Ghibli x.x | B10: *ZAM336B00*00360171* | C10: 1993 | D10: ? | E10: Espagne | F10: =IF(B10<>"",1,0) -> 1
A11: Ghibli 2,0 | B11: *ZAM336B00*00360218* | C11: 1994 | D11: Noire | E11: Italie | F11: =IF(B11<>"",1,0) -> 1
A12: Ghibli 2,8 | B12: ZAM336B0000360925 | C12: 1995 | D12: Bleu | E12: Japon | F12: 1
A13: Ghibli 2.0 | B13: ZAM336B0000360927 | C13: 1994 | E13: France | F13: 1
A14: Ghibli 2,8 | B14: *ZAM336B00*00360982* | C14: 1995 | D14: ? | E14: Hollande | F14: =IF(B14<>"",1,0) -> 1
A15: Ghibli 2,0 | B15: *ZAM336B00*00360983* | C15: 1994 | D15: Bleu | E15: Hollande | F15: =IF(B15<>"",1,0) -> 1
B16: *ZAM336B00*00360997* | E16: Turquie | F16: 1
A17: Ghibli GT 2,0 | B17: *ZAM336B00*00361???* | C17: 1997 | D17: Nero Siderale | E17: Italie | F17: =IF(B17<>"",1,0) -> 1
A18: Ghibli GT x.x | B18: *ZAM336B00*00361018* | C18: 1996 | D18: ? | E18: Italie | F18: =IF(B18<>"",1,0) -> 1
A19: Ghibli GT x.x | B19: *ZAM336B00*00361024* | C19: 1996 | D19: ? | E19: Turquie | F19: =IF(B19<>"",1,0) -> 1
A20: Ghibli 2,8 | B20: ZAM336B0000361061 | C20: 1995 | D20: Bleu | E20: Pays Bas | F20: 1
A21: Ghibli 2,0 | B21: *ZAM336B00*00361101* | C21: 1996 | D21: Bleu | E21: France | F21: =IF(B21<>"",1,0) -> 1
A22: Ghibli GT 2,0 | B22: *ZAM336B00*00361110* | C22: 1996 | D22: Bleu | E22: France | F22: =IF(B22<>"",1,0) -> 1
A23: Ghibli | B23: *ZAM336B00*00361130* | C23: 1996 | E23: Japon | F23: 1 | G23: =HYPERLINK("http://www.maseratitude.com/viewtopic.php?p=84916#p84916","*") -> *
A24: Ghibli 2,0 | B24: *ZAM336B00*00361142* | C24: 1995 | D24: Bleu | E24: Italie | F24: =IF(B24<>"",1,0) -> 1
A25: Ghibli GT x.x | B25: *ZAM336B00*00361186* | C25: 1995 | D25: ? | E25: Italie | F25: =IF(B25<>"",1,0) -> 1
A26: Ghibli 2,0 | B26: *ZAM336B00*00361204* | C26: 1996 | D26: ? | E26: Italie | F26: =IF(B26<>"",1,0) -> 1
A27: Ghibli Cup | B27: ZAM336B00*00361220 | C27: 1995 | D27: Bianco Alpi | E27: US | F27: 1
A28: Ghibli Cup | B28: ZAM336B00*00361224 | F28: 1
A29: Ghibli Open Cup | B29: *ZAM336B00*00361226* | C29: 1995 | D29: Jaune | E29: UK | F29: =IF(B29<>"",1,0) -> 1
A30: Ghibli Cup | B30: ZAM336B00*00361232 | F30: 1
A31: Ghibli GT 2,0 | B31: *ZAM336B00*00361242* | C31: 1995 | E31: Norvège | F31: 1 | G31: =HYPERLINK("https://regnr.info/RZ21695","*") -> *
A32: Ghibli GT 2,0 | B32: *ZAM336B00*00361270* | C32: 1996 | D32: Vert | E32: Hollande | F32: =IF(B32<>"",1,0) -> 1
A33: Ghibli GT | B33: *ZAM336B00*00361273* | F33: 1
A34: Ghibli GT 2,8 | B34: *ZAM336B00*00361310* | C34: 1995 | D34: Vert | E34: Espagne | F34: =IF(B34<>"",1,0) -> 1
A35: Ghibli GT x.x | B35: *ZAM336B00*00361393* | C35: 1995 | D35: ? | E35: Italie | F35: =IF(B35<>"",1,0) -> 1
A36: Ghibli GT 2,8 | B36: *ZAM336B00*00361399* | C36: 1996 | D36: Vert | E36: Suisse | F36: =IF(B36<>"",1,0) -> 1
A37: Ghibli GT 2,8 | B37: *ZAM336B00*00361401* | C37: 1995 | D37: Bordeaux | E37: Belgique | F37: =IF(B37<>"",1,0) -> 1
A38: Ghibli GT 2,0 | B38: *ZAM336B00*00361422* | C38: ? | D38: Bleue | E38: France | F38: =IF(B38<>"",1,0) -> 1
A39: Ghibli GT 2.0 | B39: *ZAM336B00*00361436* | C39: 1996 | D39: Rosso Oriente | E39: Allemagne | F39: 1
A40: Ghibli GT 2.0 | B40: *ZAM336B00*00361443* | F40: 1
A41: Ghibli Cup | B41: *ZAM336B00*00361463* | C41: ? | D41: ? | E41: Grece | F41: =IF(B41<>"",1,0) -> 1
A42: Ghibli 2,0 | B42: *ZAM336B00*00361513* | C42: 1996 | D42: Rouge | E42: Espagne | F42: =IF(B42<>"",1,0) -> 1
A43: Ghibli Cuo | B43: ZAM336B0000361548 | C43: 1996 | D43: Verde piselo | E43: Italie | F43: 1
A44: Ghibli Cup | B44: ZAM336B00*00361549* | C44: 1996 | D44: Verde piselo | E44: Allemagne | F44: 1
A45: Ghibli GT 2,0 | B45: *ZAM336B00*00361572* | C45: 1996 | D45: Gris | E45: France | F45: =IF(B45<>"",1,0) -> 1
A46: Ghibli GT 2,8 | B46: * ZAM336B00*00361589* | C46: 1997 | D46: Rosso | E46: Japon | F46: 1
A47: Ghibli Cup | B47: *ZAM336B00*00361614* | C47: 1996 | D47: Gris | E47: Italie | F47: 1 | G47: =HYPERLINK("http://www.maseratitude.com/viewtopic.php?p=81925#p81925","*") -> *
A48: Ghibli GT 2,0 | B48: *ZAM336B00*00361634* | C48: ? | D48: Blu Sera | E48: Belgique | F48: =IF(B48<>"",1,0) -> 1
A49: Ghibli GT 2,8 | B49: *ZAM336B00*00361644* | C49: 1997 | D49: Bleu | E49: France | F49: =IF(B49<>"",1,0) -> 1
A50: Ghibli GT 2,0 | B50: *ZAM336B00*00361679* | C50: 1996 | D50: Vert | E50: Norvège | F50: =IF(B50<>"",1,0) -> 1
A51: Ghibli GT 2,0 | B51: *ZAM336B00*00361680* | C51: 1997 | D51: Blu Spaziale | E51: ? | F51: =IF(B51<>"",1,0) -> 1
A52: Ghibli GT 2,0 | B52: *ZAM336B00*00361715* | C52: 1997 | D52: Nero Siderale | E52: Belgique | F52: =IF(B52<>"",1,0) -> 1
A53: Ghibli Cup 2,8 | B53: *ZAM336B00*00361742* | C53: 1997 | D53: Rouge | E53: Belgique | F53: =IF(B53<>"",1,0) -> 1
A54: Ghibli GT 2,8 | B54: *ZAM336B00*00361804* | C54: 1998 | D54: Gris | E54: UK | F54: =IF(B54<>"",1,0) -> 1
A55: Ghibli GT 2,0 | B55: *ZAM336B00*00361816* | C55: 1996 | D55: Bleu | E55: France | F55: =IF(B55<>"",1,0) -> 1
A56: Ghibli GT 2.8 | B56: *ZAM336B00*00361842* | C56: 1997 | D56: Gris | E56: Pays Bas | F56: 1
A57: Ghibli GT 2,8 | B57: *ZAM336B00*00361859* | C57: 1997 | D57: ? | E57: Allemagne | F57: =IF(B57<>"",1,0) -> 1
A58: Ghibli Primatist | B58: *ZAM336B00*00361896* | C58: 1997 | D58: Bleu | E58: UK | F58: =IF(B58<>"",1,0) -> 1
A59: Ghibli GT 2.8 | B59: ZAM336B0000361933 | C59: 1998 | D59: Bleu | E59: Japon | F59: 1
A60: Ghibli 2,8 | B60: *ZAM336B00*00361938* | C60: 1997 | D60: Blue Spaziale | E60: Pologne | F60: 1
A61: Ghibli 2,8 | B61: ZAM336B0000361962 | C61: 1998 | D61: Nero Siderale | E61: Belgique | F61: 1
A62: Ghibli GT 2,0 | B62: *ZAM336B00*00361967* | C62: 1998 | D62: Gris | E62: Pologne | F62: =IF(B62<>"",1,0) -> 1
A63: Ghibli GT x.x | B63: *ZAM336B00*00361968* | C63: 1997 | D63: Gris | E63: Italie | F63: =IF(B63<>"",1,0) -> 1
A64: Ghibli GT 2,8 | B64: *ZAM336B00*00361997* | C64: 1998 | D64: Bleu | E64: France | F64: =IF(B64<>"",1,0) -> 1
A65: Ghibli GT x.x | B65: *ZAM336B00*00362023* | C65: 1997 | D65: ? | E65: Luxembourg | F65: =IF(B65<>"",1,0) -> 1
B66: *ZAM336B00*00362038* | F66: 1
A67: Ghibli x.x | B67: *ZAM336B00*00366144* | C67: 1995 | D67: Bleu Nuit | E67: France | F67: =IF(B67<>"",1,0) -> 1
A68: Ghibli GT x.x | B68: *ZAM336B00*00400073* | C68: ? | D68: Noir | E68: UK | F68: =IF(B68<>"",1,0) -> 1
A69: Ghibli GT 2,8 | B69: *ZAM336B00*00400124* | C69: 1996 | D69: Rouge | E69: UK | F69: =IF(B69<>"",1,0) -> 1
A70: Ghibli GT x.x | B70: *ZAM336B00*00400127* | C70: 1999 | D70: ? | E70: UK | F70: =IF(B70<>"",1,0) -> 1
A71: Ghibli 2,8 | B71: *ZAM336B00*00400143* | C71: 1996 | D71: Bleu | E71: Allemagne | F71: =IF(B71<>"",1,0) -> 1
A72: Ghibli GT 2,8 | B72: *ZAM336B00*00400145* | C72: 1997 | D72: Noir | E72: UK | F72: =IF(B72<>"",1,0) -> 1
A73: Ghibli GT | B73: *ZAM336B00*00400152* | C73: 1996 | D73: Rosso Oriente | E73: NZ | F73: 1 | G73: =HYPERLINK("http://www.maseratitude.com/viewtopic.php?p=84910#p84910","*") -> *
A74: Ghibli GT 2,8 | B74: *ZAM336B00*00400156* | C74: 1997 | D74: ? | E74: Australie | F74: =IF(B74<>"",1,0) -> 1
A75: Ghibli GT x.x | B75: *ZAM336B00*00400193* | C75: 1998 | D75: ? | E75: Australie | F75: =IF(B75<>"",1,0) -> 1
A76: Ghibli GT 2.0 | B76: ZAM336B0000400196 | C76: 1997 | D76: Pelle Verde | E76: UK | F76: 1
A77: Ghibli GT x.x | B77: *ZAM336B00*00400199* | C77: 1997 | D77: Rouge | E77: Australie | F77: =IF(B77<>"",1,0) -> 1
A78: Ghibli GT 2.8 | B78: ZAM336B0000400235 | C78: 1999 | D78: Blu Nettuno | E78: UK | F78: 1
A79: Ghibli | B79: *ZAM336B00*NB360085 | E79: Italie | F79: 1
A80: Ghibli x.x | B80: *ZAM336B00*NB360143* (HS) | C80: 1992 | D80: ? | E80: Hollande | F80: =IF(B80<>"",1,0) -> 1
A81: Ghibli 2,0 | B81: *ZAM336B00*NB360157* | C81: 1993 | D81: Rouge | E81: Hollande | F81: =IF(B81<>"",1,0) -> 1
A82: Ghibli 2,0 | B82: *ZAM336B00*NB360205* | C82: 1995 | D82: Noir | E82: Italie | F82: =IF(B82<>"",1,0) -> 1
A83: Ghibli x.x | B83: *ZAM336B00*NB360210* | C83: 1995 | D83: Noir | E83: France | F83: =IF(B83<>"",1,0) -> 1
A84: Ghibli 2,0 | B84: *ZAM336B00*NB360218* | C84: 1992 | D84: ? | E84: France | F84: =IF(B84<>"",1,0) -> 1
A85: Ghibli 2,0 | B85: *ZAM336B00*NB360244* | C85: 1993 | D85: Blu Sera | E85: Hollande | F85: =IF(B85<>"",1,0) -> 1
A86: Ghibli 2,0 | B86: *ZAM336B00*NB360258* | C86: 1993 | D86: Rouge | E86: Hollande | F86: =IF(B86<>"",1,0) -> 1
A87: Ghibli x.x | B87: *ZAM336B00*NB360260* | C87: 1993 | D87: Gris | E87: France | F87: =IF(B87<>"",1,0) -> 1
A88: Ghibli 2,0 | B88: ZAM336BOONB360273 | C88: 1993 | D88: noir | E88: France | F88: 1 | G88: 44167
A89: Ghibli x.x | B89: *ZAM336B00*NB360281* | C89: 1993 | D89: Blu Sera | E89: Italie | F89: =IF(B89<>"",1,0) -> 1
A90: Ghibli 2,0 | B90: *ZAM336B00*NB360287* | C90: 1994 | D90: Rouge | E90: France | F90: =IF(B90<>"",1,0) -> 1
A91: Ghibli 2,0 | B91: *ZAM336B00*NB360294* | C91: 1994 | D91: Rouge | E91: Italie | F91: =IF(B91<>"",1,0) -> 1
A92: Ghibli 2,0 | B92: *ZAM336B00*NB360337* | C92: 1993 | E92: Norvège | F92: 1 | G92: =HYPERLINK("https://regnr.info/BD96143","*") -> *
A93: Ghibli 2.0 | B93: *ZAM336B00*NB360383* | C93: 1994 | D93: Bleu | E93: Malte | F93: 1
A94: Ghibli 2,0 | B94: *ZAM336B00*NB360443* | C94: 1993 | D94: Noir | E94: Hollande | F94: =IF(B94<>"",1,0) -> 1
A95: Ghibli 2,0 | B95: *ZAM336B00*NB360451* | C95: 1992 | D95: Rouge | E95: France | F95: =IF(B95<>"",1,0) -> 1
A96: Ghibli 2,0 | B96: *ZAM336B00*NB360458* | C96: 1994 | D96: Rouge | E96: Allemagne | F96: =IF(B96<>"",1,0) -> 1
A97: Ghibli 2,0 | B97: *ZAM336B00*NB360461* | C97: 1994 | D97: Noir | E97: Italie | F97: =IF(B97<>"",1,0) -> 1
A98: Ghibli | B98: *ZAM336B00*NB360474* | C98: 1994 | E98: Norvège | F98: 1 | G98: =HYPERLINK("https://regnr.info/DH37073","*") -> *
A99: Ghibli 2,8 | B99: *ZAM336B00*NB360477* | C99: 1994 | D99: Bleu | E99: Hollande | F99: =IF(B99<>"",1,0) -> 1
A100: Ghibli 2,8 | B100: ZAM336B00NB360486 | C100: 1995 | D100: Rouge | E100: Japon | F100: 1
A101: Ghibli | B101: ZAM336B00NB360493 | C101: 1993 | D101: Noir | E101: Norvège | F101: 1 | G101: =HYPERLINK("https://regnr.info/BP70848","*") -> *
...

Sheet 3200GT (ZAM338...)
A1: M. à j.18 juin 2020 | B1: =SUM(F3:F508) -> 209 | C1: Voitures répertoriées
A2: Modèle | B2: N° Série | C2: Année | D2: Couleur | E2: Pays
A3: 3200GT | B3: *ZAMAA38A00*0000002* | C3: 1999 | D3: Grise | E3: Italie | F3: =IF(B3<>"",1,0) -> 1
A4: 3200GT | B4: *ZAMAA38A00*0000101* | C4: 1999 | D4: Grise | E4: Suède | F4: 1 | G4: =HYPERLINK("https://biluppgifter.se/fordon/BPH612","*") -> *
A5: 3200GT | B5: *ZAMAA38A00*0000116* | C5: 1999 | D5: Grise | E5: Suède | F5: 1
A6: 3200GT | B6: *ZAMAA38A00*0000147* | C6: 2000 | D6: Grise | E6: Espagne | F6: =IF(B6<>"",1,0) -> 1
A7: 3200GT | B7: *ZAMAA38A00*0000179* | C7: 1999 | D7: Rouge | E7: Japon | F7: 1 | G7: =HYPERLINK("http://www.maseratitude.com/viewtopic.php?p=84916#p84916","*") -> *
A8: 3200GT | B8: *ZAMAA38A00*0000205* | C8: 1999 | D8: ? | E8: France | F8: =IF(B8<>"",1,0) -> 1
A9: 3200GT | B9: *ZAMAA38A*000000237* | C9: 1999 | D9: Grise | E9: France | F9: 1
A10: 3200GT | B10: ZAMAA38A000000276 | C10: 1999 | D10: Blu Nettuno | E10: Rep. Tcheque | F10: 1
A11: 3200GT | B11: *ZAMAA38A00*0000327* | D11: Blu Nettuno | E11: France | F11: 1
A12: 3200GT | B12: *ZAMAA38A00*0000332* | C12: 1999 | D12: Noir | E12: France | F12: =IF(B12<>"",1,0) -> 1
A13: 3200GTA | B13: *ZAMAA38B00*0000334* | C13: 1999 | D13: Vert | E13: Allemagne | F13: 1
A14: 3200GT | B14: *ZAMAA38A00*0000336* | C14: 1999 | E14: Japon | F14: 1 | G14: =HYPERLINK("http://www.maseratitude.com/viewtopic.php?p=84916#p84916","*") -> *
A15: 3200GTA | B15: *ZAMAA38B00*0000361* | C15: 1999 | D15: Grigrio Touring | E15: France | F15: 1
A16: 3200GTA | B16: *ZAMAA38B00*0000376* | C16: 1999 | D16: Blu Nettuno | E16: France | F16: 1
A17: 3200GTA | B17: *ZAMAA38B00*0000378* | C17: 1999 | D17: Noir | E17: Suède | F17: 1
A18: 3200GT | B18: *ZAMAA38A00*0000409* | C18: 1999 | D18: Grise | E18: Hollande | F18: 1 | G18: =HYPERLINK("http://www.maseratitude.com/viewtopic.php?p=85818#p85818","*") -> *
A19: 3200GT | B19: *ZAMAA38A00*0000435* | C19: 1999 | D19: Grigio Touring | E19: Suède | F19: 1
A20: 3200GT | B20: *ZAMAA38A00*000473* | C20: 1999 | D20: Verde | E20: Belgique | F20: 1
A21: 3200GT | B21: ZAMAA38A000000484 | C21: 1999 | D21: Grigio Alfieri | E21: Belgique | F21: 1
A22: 3200GT | B22: *ZAMAA38A00*0000490* | C22: 1999 | D22: Grigrio Touring | E22: France | F22: 1
A23: 3200GT | B23: *ZAMAA38A00*0000507* | C23: 1999 | D23: Noir | E23: Suède | F23: 1 | G23: =HYPERLINK("https://biluppgifter.se/fordon/EDY024","*") -> *
A24: 3200 GT | B24: *ZAMAA38A00*0000539* | C24: 2000 | D24: Nero | E24: Hollande | F24: 1
A25: 3200GT | B25: *ZAMAA38?00*0000562* | C25: 1999 | D25: Grigio Touring | E25: Italie | F25: 1
A26: 3200GT | B26: *ZAMAA38A00*0000602* | C26: 2000 | D26: Noir | E26: France | F26: =IF(B26<>"",1,0) -> 1
A27: 3200GT | B27: *ZAMAA38A00*0000632* | C27: 1999 | D27: Grise | E27: Hollande | F27: =IF(B27<>"",1,0) -> 1
A28: 3200GTA | B28: *ZAMAA38B00*000635* | C28: 1999 | D28: Grise | E28: Japon | F28: 1
A29: 3200GTA | B29: *ZAMAA38B00*0000661* | C29: 1999 | D29: Grise | E29: France | F29: 1
A30: 3200 GTA | B30: *ZAMMA38D00*0000665* | C30: 1999 | D30: Grigio Alfieri | E30: UK | F30: 1
A31: 3200GT | B31: *ZAMAA38C00*0000687* | C31: 1999 | D31: Bleu | E31: France | F31: 1
A32: 3200Gt | B32: *ZAMAA38A00*0000688* | C32: 2000 | E32: Norvège | F32: 1 | G32: =HYPERLINK("https://regnr.info/BP48718","*") -> *
A33: 3200GT | B33: *ZAMAA38A00*0000726* | C33: 1999 | D33: Blu Nettuno | E33: France | F33: =IF(B33<>"",1,0) -> 1
A34: 3200GT | B34: *ZAMAA38A00*0000755* | C34: 2000 | D34: Grise sombre | E34: France | F34: 1
A35: 3200GTA | B35: *ZAMAA38B00*0000771* | C35: 1999 | D35: Blu | E35: Allemagne | F35: 1 | G35: =HYPERLINK("http://www.nufa.net/MASERATI-(I)-3200-GT-in-Bovenden_Detailansicht_2910.html","*") -> *
A36: 3200GT | B36: *ZAMAA38A00*0000845* | C36: 1999 | D36: Gris Alfieri | E36: France | F36: 1
A37: 3200 GTA | B37: *ZAMAA38B00*0000871* | C37: 1999 | D37: Gris | E37: Belgique | F37: 1
A38: 3200 GTA | B38: *ZAMAA38B00*0000894* | C38: 1999 | E38: Japon | F38: 1
A39: 3200GT | B39: *ZAMAA38C00*0000914* | C39: 1999 | D39: Grise | E39: France | F39: 1
A40: 3200 GT | B40: *ZAMAA38C00*0000924* | C40: 2000 | D40: Grise | E40: UK | F40: 1
A41: 3200 GTA | B41: *ZAMAA38D00*0000945* | C41: 2000 | D41: Azzurro Argentina | E41: UK | F41: 1
A42: 3200GT | B42: *ZAMAA38A00*0000950* | C42: 1999 | D42: Nero | E42: Danemark | F42: 1
A43: 3200GT | B43: *ZAMAA38C00*0000960* | C43: 2000 | E43: UK | F43: 1
A44: 3200GTA | B44: *ZAMAA38D00*0000977* | C44: 2000 | D44: Grise | E44: UK | F44: 1
A45: 3200GTA | B45: *ZAMAA38B00*0000984* | C45: 1999 | D45: Blu (luna?) | E45: Japon | F45: 1
A46: 3200GTA | B46: *ZAMAA38B00*0000996* | C46: 1999 | D46: L Blue | E46: Japon | F46: 1
A47: 3200GT | B47: ZAMAA38A000001007 | E47: Allemagne | F47: 1 | G47: épave
A48: 3200GT | B48: *ZAMAA38A00*0001021* | C48: 1999 | D48: Vert | E48: Suède | F48: 1 | G48: =HYPERLINK("https://biluppgifter.se/fordon/JMU540","*") -> *
A49: 3200GT | B49: *ZAMAA38C00*0001030* | C49: 2000 | D49: Blu Nettuno | E49: UK | F49: 1
A50: 3200GTA | B50: *ZAMAA38B00*0001043* | C50: 1999 | D50: Grise | E50: Japon | F50: 1
A51: 3200 GT | B51: *ZAMAA38A00*0001075* | C51: 2000 | D51: Grise | E51: Japon | F51: 1
A52: 3200GTA | B52: *ZAMAA38B00*0001088* | C52: 2001 | D52: Vert | E52: Suède | F52: 1 | G52: =HYPERLINK("https://biluppgifter.se/fordon/WJN140","*") -> *
A53: 3200GTA | B53: *ZAMAA38B00*0001094* | C53: 1999 | D53: Blu Nettuno | E53: Hollande | F53: 1
A54: 3200GT | B54: *ZAMAA38A00*0001149* | C54: 1999 | D54: Grigio Touring | E54: Allemagne | F54: 1
A55: 3200GT | B55: *ZAMAA38A00*0001167* | C55: 1999 | D55: Grigrio Touring | E55: France | F55: 1
A56: 3200GT | B56: *ZAMAA38A00*0001192* | C56: 1999 | D56: Blu | E56: Allemagne | F56: 1
A57: 3200GT | B57: *ZAMAA38A00*0001196* | C57: 2000 | D57: Nero | E57: Danemark | F57: 1
A58: 3200 GTA | B58: *ZAMAA38B00*0001222* | C58: 2000 | D58: Grise | E58: Japon | F58: 1
A59: 3200GT | B59: *ZAMAA38C00*0001290* | C59: 2000 | D59: Grise | E59: UK | F59: 1
A60: 3200GT | B60: *ZAMAA38C00*0001291* | C60: 2000 | D60: Grise | E60: Australie | F60: 1
A61: 3200GTA | B61: ZAMAA38D000001308 | C61: 200 | D61: Rosso | E61: UK | F61: 1
A62: 3200GTA | B62: *ZAMAA38D00*0001315* | C62: 1999 | E62: Suède | F62: 1 | G62: =HYPERLINK("https://biluppgifter.se/fordon/ESN856","*") -> *
A63: 3200GT | B63: *ZAMAA38C00*0001330* | C63: 2000 | D63: ? | E63: Australie | F63: 1
A64: 3200GTA | B64: *ZAMAA38B00*0001337* | D64: Blanc | E64: Norvège | F64: 1
A65: 3200GT | B65: *ZAMAA38D00*0001397* | C65: 2000 | D65: ? | E65: Australie | F65: 1
A66: 3200GT | B66: *ZAMAA38B00*0001412* | C66: 2000 | D66: Blanc | E66: Japon | F66: 1
A67: 3200GT | B67: *ZAMAA38A00*0001443* | C67: 2000 | D67: Grey | E67: Hollande | F67: 1
A68: 3200GT | B68: *ZAMAA38A00*0001540* | C68: 2000 | D68: Blu Nettuno | E68: France | F68: =IF(B68<>"",1,0) -> 1
A69: 3200GT | B69: *ZAMAA38A00*0001542* | C69: 2000 | D69: Grigio Touring | E69: Italie | F69: 1
A70: 3200GT | B70: *ZAMAA38C00*0001564* | C70: 2000 | D70: Grigio Touring | E70: UK | F70: 1
A71: 3200GT | B71: *ZAMAA38B00*0001595* | C71: 2000 | D71: Bleu | E71: Hollande | F71: 1
A72: 3200GT | B72: *ZAMAA38A00*0001633* | C72: 2000 | D72: Grise | E72: France | F72: 1
A73: 3200GTA | B73: *ZAMAA38B00*0001647* | C73: 2000 | D73: Bleu | E73: Suede | F73: 1
A74: 3200GT | B74: *ZAMAA38A00*0001679* | C74: 2001 | D74: ? | E74: France | F74: =IF(B74<>"",1,0) -> 1
A75: 3200GTA | B75: *ZAMAA38B00*0001686* | C75: 2000 | D75: Grise | E75: Italie | F75: 1
A76: 3200GTA | B76: *ZAMAA38B00*0001688* | C76: 2000 | E76: Suède | F76: 1
A77: 3200GTA | B77: *ZAMAA38D00*0001699* | C77: 2000 | D77: Azzuro Argentina Blue | E77: UK | F77: 1
A78: 3200 GTA | B78: *ZAMAA38B00*0001719* | C78: 2002 | E78: Japon | F78: 1
A79: 3200GT | B79: *ZAMAA38B00*0001720* | C79: 2001 | D79: Jaune | E79: Japon | F79: 1 | G79: =HYPERLINK("http://www.maseratitude.com/viewtopic.php?p=86788#p86788","*") -> *
A80: 3200GTA | B80: *ZAMAA38B00*0001725* | C80: 2000 | D80: Grise | E80: France | F80: 1
A81: 3200GT | B81: *ZAMAA38A00*0001875* | C81: 2000 | D81: Grise | E81: France | F81: =IF(B81<>"",1,0) -> 1
A82: 3200GTA | B82: *ZAMAA38B00*0001922* | C82: 2000 | D82: Bleu | E82: Lituanie | F82: 1
A83: 3200GT | B83: *ZAMAA38A00*0001929* | C83: 2000 | E83: Suède | F83: 1 | G83: =HYPERLINK("https://biluppgifter.se/fordon/XXP936","*") -> *
A84: 3200GT | B84: *ZAMAA38A00*0001938* | C84: 2000 | D84: Noir | E84: Italie | F84: =IF(B84<>"",1,0) -> 1
A85: 3200GT | B85: *ZAMAA38A00*0001942* | C85: 2000 | D85: Grise | E85: Suisse | F85: =IF(B85<>"",1,0) -> 1
A86: 3200 GT | B86: ZAMAA38A000001947 | C86: 2000 | D86: verde | E86: Belgique | F86: 1
A87: 3200GT | B87: *ZAMAA38A00*0001948* | C87: 2000 | E87: Norvège | F87: 1 | G87: =HYPERLINK("https://regnr.info/BD34510","*") -> *
A88: 3200GT | B88: *ZAMAA38C00*0001988* | C88: 2000 | D88: ? | E88: Australie | F88: 1
A89: 3200GT | B89: *ZAMAA38A00*0002000* | C89: 1999 | D89: ? | E89: Suisse | F89: =IF(B89<>"",1,0) -> 1
A90: 3200GT | B90: *ZAMAA38A00*0002036* | C90: 2000 | D90: Noir | E90: Suisse | F90: =IF(B90<>"",1,0) -> 1
A91: 3200GT | B91: *ZAMAA38A00*0002040* | C91: 2000 | D91: Grise | E91: Italie | F91: 1
A92: 3200GTA | B92: *ZAMAA38D00*0002074* | C92: 2000 | D92: Grise | E92: Australie | F92: 1
A93: 3200GT | B93: *ZAMAA38A00*0002151* | C93: 2000 | E93: Suède | F93: 1
A94: 3200Gt | B94: ZAMAA38A000002201 | C94: 2000 | D94: Nero carbonio | E94: Hollande | F94: 1
A95: 3200GTA | B95: *ZAMAA38B00*0002279* | C95: 2000 | D95: Bleue | E95: Tchéquie | F95: 1 | G95: =HYPERLINK("https://www.sauto.cz/osobni/detail/maserati/coupe/11386911?goFrom=list","*") -> *
A96: 3200GT | B96: *ZAMAA38A00*0002255* | C96: 2000 | D96: ? | E96: Espagne | F96: =IF(B96<>"",1,0) -> 1
A97: 3200GTA | B97: ZAMAA38D000002355 | C97: 2000 | E97: UK | F97: 1
A98: 3200GTA | B98: *ZAMAA38B00*0002380* | C98: 2000 | E98: Suède | F98: 1 | G98: =HYPERLINK("https://biluppgifter.se/fordon/RJD229","*") -> *
A99: 3200GTA | B99: *ZAMAA38B00*0002388* | C99: 2001 | D99: Noir | E99: Hollande | F99: 1
A100: 3200GT | B100: *ZAMAA38A00*0002413* | C100: 2000 | D100: Blu Nettuno | E100: France | F100: 1
...

Sheet Karif, Shamal (ZAM339...)
B1: =SUM(F6:F354) -> 122 | C1: Voitures répertoriées
A2: Le registre Enrico pour les Karif : | C2: http://www.maserati-alfieri.co.uk/alfieri294.htm
A3: Le registre Enrico pour les Shamal : | C3: http://www.maserati-alfieri.co.uk/alfieri248.htm
A4: Le registre des Shamal | C4: =HYPERLINK("http://shamal.jp/register_p/register.html","http://shamal.jp/register_p/register.html") -> http://shamal.jp/register_p/register.html
A5: Modèle | B5: N° Série | C5: Année | D5: Couleur | E5: Pays
A6: Shamal | B6: *ZAM339B00*00300352* | C6: 1995 | D6: Blanche | E6: Japon | F6: =IF(B6<>"",1,0) -> 1
A7: Shamal | B7: *ZAM339B00*00320023* | C7: 1996 | D7: Noir | E7: UK | F7: =IF(B7<>"",1,0) -> 1
A8: Shamal | B8: *ZAM339B00*00320026* | C8: 1994 | D8: Noir | E8: Australie | F8: 1
A9: Shamal | B9: *ZAM339B00*00320029* | C9: 1996 | D9: ? | E9: UK | F9: =IF(B9<>"",1,0) -> 1
A10: Karif | B10: *ZAM339B00*JA100004* | C10: 1988 | D10: Rouge | E10: Suisse | F10: =IF(B10<>"",1,0) -> 1
A11: Karif | B11: *ZAM339B00*JA100018* | C11: 1988 | D11: Rouge | E11: Allemagne | F11: =IF(B11<>"",1,0) -> 1
A12: Karif | B12: *ZAM339B00*JA100025* | C12: 1989 | D12: Noir | E12: Suisse | F12: =IF(B12<>"",1,0) -> 1
A13: Karif | B13: *ZAM339B00*JA100028* | C13: 1989 | D13: Noir | E13: Hollande | F13: =IF(B13<>"",1,0) -> 1
A14: Karif | B14: *ZAM339B00*JA100048* | C14: 1989 | D14: Noir | E14: Hollande | F14: =IF(B14<>"",1,0) -> 1
A15: Karif | B15: *ZAM339B00*JA100071* | C15: 1988 | D15: Noir | E15: Japon | F15: =IF(B15<>"",1,0) -> 1
A16: Karif | B16: *ZAM339B00*JA190001* | C16: 1989 | D16: Rouge | E16: UK | F16: =IF(B16<>"",1,0) -> 1
A17: Karif | B17: *ZAM339B00*KA100096* | C17: 1991 | D17: Noir | E17: Turquie | F17: =IF(B17<>"",1,0) -> 1
A18: Karif | B18: *ZAM339B00*KA100103* | C18: 1989 | D18: Rouge | E18: France | F18: =IF(B18<>"",1,0) -> 1
A19: Karif | B19: *ZAM339B00*KA100107* | C19: 1989 | D19: Grise | E19: France | F19: =IF(B19<>"",1,0) -> 1
A20: Karif | B20: *ZAM339B00*KA100136* | C20: 1989 | D20: Blanche | E20: USA | F20: =IF(B20<>"",1,0) -> 1
... A40: Shamal | B40: *ZAM339B00*LA300016* | C40: 1990 | D40: Rosso Maserati | E40: Italie | F40: =IF(B40<>"",1,0) -> 1
A41: Shamal | B41: *ZAM339B00*LA300018* | C41: 1991 | E41: Suède | F41: 1
A42: Shamal | B42: *ZAM339B00*LA300019* | C42: 1990 | D42: Rosso Maserati | E42: Portugal | F42: =IF(B42<>"",1,0) -> 1
A43: Shamal | B43: ZAM339B00*LA300020* | C43: 1991 | D43: Rosso Maserati | F43: 1
A44: Shamal | B44: *ZAM339B00*LA300024* | C44: 1990 | D44: Rosso Maserati | E44: Japon | F44: =IF(B44<>"",1,0) -> 1
A45: Shamal | B45: *ZAM339B00*LA300027* | C45: 1991 | D45: Griggio Silver | E45: Allemagne | F45: =IF(B45<>"",1,0) -> 1
A46: Shamal | B46: *ZAM339B00*MA300029* | C46: 1991 | D46: Rosso Maserati | E46: Italie | F46: =IF(B46<>"",1,0) -> 1
A47: Shamal | B47: *ZAM339B00*MA300034* | C47: 1991 | D47: Rosso Maserati | E47: Italie | F47: =IF(B47<>"",1,0) -> 1
A48: Shamal | B48: *ZAM339B00*MA300035* | C48: 1991 | D48: Dazing Black | E48: France | F48: =IF(B48<>"",1,0) -> 1
A49: Shamal | B49: *ZAM339B00*MA300035* | C49: 1991 | D49: Nero | E49: France | F49: =IF(B49<>"",1,0) -> 1
A50: Shamal | B50: *ZAM339B00*MA300037* | C50: 1991 | D50: Rosso Maserati | E50: UK | F50: =IF(B50<>"",1,0) -> 1
A51: Shamal | B51: *ZAM339B00*MA300060* | C51: 1990 | D51: Dazing Black | E51: Suisse | F51: 1 | G51: =HYPERLINK("https://www.bonhams.com/auctions/24882/preview_lot/5138216/?category=list&length=10&page=6","*") -> *
A52: Shamal | B52: *ZAM339B00*MA300070* | C52: 1992 | D52: Rouge | E52: France | F52: =IF(B52<>"",1,0) -> 1
A53: Shamal | B53: *ZAM339B00*MA300082* | C53: 1991 | D53: Rouge | E53: Japon | F53: =IF(B53<>"",1,0) -> 1
A54: Shamal | B54: *ZAM339B00*MA300090* | C54: 1990 | D54: Grigio Silver | E54: Allemagne | F54: =IF(B54<>"",1,0) -> 1
A55: Shamal | B55: *ZAM339B00*MA300098* | C55: 1991 | D55: Rouge | E55: Suisse | F55: =IF(B55<>"",1,0) -> 1
A56: Shamal | B56: *ZAM339B00*MA300099* | C56: 1991 | D56: Dazing Black | E56: Suisse | F56: =IF(B56<>"",1,0) -> 1
A57: Shamal | B57: *ZAM339B00*MA300104* | C57: 1991 | D57: Rouge | E57: Japon | F57: =IF(B57<>"",1,0) -> 1
A58: Shamal | B58: *ZAM339B00*MA300105* | C58: 1991 | D58: Dazing Black | E58: Japon | F58: =IF(B58<>"",1,0) -> 1
A59: Shamal | B59: *ZAM339B00*MA300115* | C59: 1991 | D59: Rouge | E59: Japon | F59: =IF(B59<>"",1,0) -> 1
A60: Shamal | B60: *ZAM339B00*MA300119* | C60: 1991 | D60: Rouge | E60: Japon | F60: =IF(B60<>"",1,0) -> 1
A61: Shamal | B61: *ZAM339B00*MA300121* | C61: 1991 | D61: ? | E61: ? | F61: =IF(B61<>"",1,0) -> 1
A62: Shamal | B62: *ZAM339B00*MA300122* | C62: 1991 | D62: Dazing Black | E62: Italie | F62: =IF(B62<>"",1,0) -> 1
A63: Shamal | B63: *ZAM339B00*MA300132* | C63: 1991 | D63: Rouge | E63: Allemagne | F63: =IF(B63<>"",1,0) -> 1
A64: Shamal | B64: *ZAM339B00*MA300135* | C64: 1991 | D64: Rouge | E64: Japon | F64: =IF(B64<>"",1,0) -> 1
A65: Shamal | B65: *ZAM339B00*MA300142* | C65: 1991 | D65: Rouge | E65: Belgique | F65: 1
A66: Shamal | B66: *ZAM339B00*MA300146* | C66: 1991 | D66: Rouge | E66: Japon | F66: =IF(B66<>"",1,0) -> 1
A67: Shamal | B67: *ZAM339B00*MA300147* | C67: 1991 | D67: Dazing Black | E67: Suisse | F67: 1
A68: Shamal | B68: *ZAM339B00*MA300149* | C68: 1991 | D68: ? | E68: Hollande | F68: =IF(B68<>"",1,0) -> 1
A69: Shamal | B69: *ZAM339B00*MA300155* | C69: 1991 | D69: Dazing Black | E69: France | F69: 1
A70: Shamal | B70: *ZAM339B00*MA300158* | C70: 1991 | D70: Dazing Black | E70: France | F70: =IF(B70<>"",1,0) -> 1
A71: Shamal | B71: *ZAM339B00*MA300159* | C71: 1991 | D71: Rouge | E71: Japon | F71: =IF(B71<>"",1,0) -> 1
A72: shamal | B72: *ZAM339B00*MA300169* | C72: 1994 | E72: Suède | F72: 1
A73: Shamal | B73: *ZAM339B00*MA300170* | C73: 1991 | D73: Dazing Black | E73: Hollande | F73: =IF(B73<>"",1,0) -> 1
A74: Shamal | B74: *ZAM339B00*MA300171* | C74: 1994 | D74: Blu Sera | E74: Suede | F74: =IF(B74<>"",1,0) -> 1
A75: Shamal | B75: *ZAM339B00*MA300182* | C75: 1991 | D75: Dazing Black | E75: Japon | F75: =IF(B75<>"",1,0) -> 1
A76: Shamal | B76: *ZAM339B00*MA300183* | C76: 1991 | D76: Dazing Black | E76: Danemark | F76: =IF(B76<>"",1,0) -> 1
A77: Shamal | B77: *ZAM339B00*MA300193* | C77: 1991 | D77: Rouge | E77: Japon | F77: =IF(B77<>"",1,0) -> 1
A78: Shamal | B78: *ZAM339B00*MA300196* | C78: 1991 | D78: Dazing Black | E78: Japon | F78: =IF(B78<>"",1,0) -> 1
A79: Shamal | B79: *ZAM339B00*MA300197* | C79: 1991 | D79: Rouge | E79: Japon | F79: =IF(B79<>"",1,0) -> 1
A80: Shamal | B80: *ZAM339B00*MA300202* | C80: 1991 | D80: Rouge | E80: Hollande | F80: =IF(B80<>"",1,0) -> 1
A81: Shamal | B81: *ZAM339B00*MA300210* | C81: 1991 | D81: Dazing Black | E81: France | F81: =IF(B81<>"",1,0) -> 1
A82: Shamal | B82: *ZAM339B00*MA300211* | C82: 1991 | D82: Rouge | E82: UK | F82: =IF(B82<>"",1,0) -> 1
A83: Shamal | B83: *ZAM339B00*MA300217* | C83: 1994 | D83: Rouge | E83: Ukraine | F83: =IF(B83<>"",1,0) -> 1
A84: Shamal | B84: *ZAM339B00*MA300218* | C84: 1991 | D84: Rouge | E84: Japon | F84: =IF(B84<>"",1,0) -> 1
... A89: Shamal | B89: *ZAM339B00*MA300240* | C89: 1991 | D89: Dazing Black | E89: France | F89: =IF(B89<>"",1,0) -> 1
A90: Shamal | B90: ZAM339B00*MA300243* | C90: 1991 | D90: Rosso Maserati | E90: Japon | F90: 1 | G90: =HYPERLINK("http://shamal.jp/register_p/register.html","*") -> *
A91: Shamal | B91: *ZAM339B00*MA300251* | C91: 1991 | D91: Rouge | E91: Japon | F91: =IF(B91<>"",1,0) -> 1
A92: Shamal | B92: *ZAM339B00*MA300258* | C92: 1991 | D92: Rouge | E92: Japon | F92: =IF(B92<>"",1,0) -> 1
A93: Shamal | B93: *ZAM339B00*MA300262* | C93: 1991 | D93: Dazing Black | E93: Japon | F93: =IF(B93<>"",1,0) -> 1
A94: Shamal | B94: *ZAM339B00*MA300268* | C94: 1991 | D94: Dazing Black | E94: Japon | F94: =IF(B94<>"",1,0) -> 1
A95: Shamal | B95: *ZAM339B00*MA300270* | C95: 1992 | D95: Dazing Black | E95: Hollande | F95: 1
A96: Shamal | B96: *ZAM339B00*MA300272* | C96: 1991 | D96: Rosso Maserati | E96: Japon | F96: 1 | G96: =HYPERLINK("http://shamal.jp/register_p/register.html","*") -> *
A97: Shamal | B97: *ZAM339B00*MA300273* | C97: 1992 | D97: Noir | E97: Allemagne | F97: =IF(B97<>"",1,0) -> 1
A98: Shamal | B98: *ZAM339B00*MA300276* | C98: 1991 | D98: Rouge | E98: Japon | F98: =IF(B98<>"",1,0) -> 1
A99: Shamal | B99: *ZAM339B00*MA300281* | C99: 1991 | D99: Dazing Black | E99: UK | F99: =IF(B99<>"",1,0) -> 1
A100: Shamal | B100: *ZAM339B00*MA300284* | C100: 1994 | D100: Rouge | E100: France | F100: =IF(B100<>"",1,0) -> 1
A101: Shamal | B101: *ZAM339B00*MA300286* | C101: 1991 | D101: Bleu Francia | E101: Japon | F101: =IF(B101<>"",1,0) -> 1
A102: Shamal | B102: *ZAM339B00*MA300294* | C102: 1992 | D102: Or Métallique | E102: Hollande | F102: =IF(B102<>"",1,0) -> 1
A103: Shamal | B103: *ZAM339B00*MA300295* | C103: 1991 | D103: Dazing Black | E103: Hongrie | F103: =IF(B103<>"",1,0) -> 1
A104: Shamal | B104: *ZAM339B00*MA300297* | C104: 1991 | D104: Rosso Maserati | E104: Japon | F104: =IF(B104<>"",1,0) -> 1
A105: Shamal | B105: *ZAM339B00*MA300299* | C105: 1991 | D105: Dazing Black | E105: Japon | F105: =IF(B105<>"",1,0) -> 1
A106: Shamal | B106: *ZAM339B00*MA300301* | C106: 1991 | D106: Rosso Maserati | E106: Japon | F106: =IF(B106<>"",1,0) -> 1
A107: Shamal | B107: *ZAM339B00*MA300309* | C107: 1991 | D107: Rosso Maserati | E107: Japon | F107: =IF(B107<>"",1,0) -> 1
A108: Shamal | B108: *ZAM339B00*MA300310* | C108: 1991 | D108: Dazing Black | E108: Japon | F108: =IF(B108<>"",1,0) -> 1
... A117: Shamal | B117: *ZAM339B00*NA300351* | C117: 1992 | D117: ? | E117: Italie | F117: =IF(B117<>"",1,0) -> 1
A118: Shamal | B118: *ZAM339B00*NA300352* | C118: 1996 | D118: Bianco | E118: Japon | F118: 1 | G118: =HYPERLINK("http://shamal.jp/register_p/register.html","*") -> *
A119: Shamal | B119: *ZAM339B00*NA320001* | C119: 1991 | D119: Rouge | E119: Thailande | F119: =IF(B119<>"",1,0) -> 1
A120: Shamal | B120: *ZAM339B00*NA320003* | C120: 1992 | D120: ? | E120: UK | F120: =IF(B120<>"",1,0) -> 1
A121: Shamal | B121: *ZAM339B00*NA320011* | C121: 1991 | D121: Noir | E121: UK | F121: =IF(B121<>"",1,0) -> 1
A122: Shamal | B122: *ZAM339B00*NA320016* | C122: 1994 | D122: Rouge | E122: Australie | F122: =IF(B122<>"",1,0) -> 1
A123: Shamal | B123: *ZAM339B00*PA320017* | C123: 1995 | D123: Bleu | E123: UK | F123: =IF(B123<>"",1,0) -> 1
A124: Shamal | B124: *ZAM339B00*PA320017* | C124: 1994 | D124: Bleu | E124: UK | F124: =IF(B124<>"",1,0) -> 1
A125: Shamal | B125: *ZAM339B00*PA320019* | C125: 1991 | D125: Noir | E125: Australie | F125: =IF(B125<>"",1,0) -> 1
A126: Shamal | B126: *ZAM339B00*PA320020* | C126: 1994 | D126: Noir | E126: Australie | F126: 1
A127: Shamal | B127: *ZAMBN1104*KB327484* | C127: 1991 | D127: Rouge | E127: Suede | F127: =IF(B127<>"",1,0) -> 1
F128: =IF(B128<>"",1,0) -> 0
F129: =IF(B129<>"",1,0) -> 0
F130: =IF(B130<>"",1,0) -> 0
F131: =IF(B131<>"",1,0) -> 0
...

Sheet Cumuls
B1: Type | C1: Zam | D1: Année | E1: Couleur | F1: Origine | G1: =SUM(G2:G1196) -> #REF!
A2: Biturbo | B2: ='Biturbo (ZAM331...)'!A4 -> Biturbo | C2: ='Biturbo (ZAM331...)'!B4 -> *ZAM331B00*BB100163* | D2: ='Biturbo (ZAM331...)'!C4 -> 1981 | E2: ='Biturbo (ZAM331...)'!D4 -> ? | F2: ='Biturbo (ZAM331...)'!E4 -> Hollande | G2: =IF(B2<>"",1,0) -> 1 | H2: =SUM(G2:G127) -> 126
B3: ='Biturbo (ZAM331...)'!A6 -> Biturbo E | C3: ='Biturbo (ZAM331...)'!B6 -> *ZAM331B00*CB100368* | D3: ='Biturbo (ZAM331...)'!C6 -> 1982 | E3: ='Biturbo (ZAM331...)'!D6 -> Gris | F3: ='Biturbo (ZAM331...)'!E6 -> Hollande | G3: =IF(B3<>"",1,0) -> 1
B4: ='Biturbo (ZAM331...)'!A7 -> Biturbo | C4: ='Biturbo (ZAM331...)'!B7 -> *ZAM331B00*CB100508* | D4: ='Biturbo (ZAM331...)'!C7 -> 1982 | E4: ='Biturbo (ZAM331...)'!D7 -> Marron | F4: ='Biturbo (ZAM331...)'!E7 -> Allemagne | G4: =IF(B4<>"",1,0) -> 1
B5: ='Biturbo (ZAM331...)'!A8 -> Biturbo | C5: ='Biturbo (ZAM331...)'!B8 -> *ZAM331B00*CB100618* | D5: ='Biturbo (ZAM331...)'!C8 -> 1982 | E5: ='Biturbo (ZAM331...)'!D8 -> Vert | F5: ='Biturbo (ZAM331...)'!E8 -> Hollande | G5: =IF(B5<>"",1,0) -> 1
B6: ='Biturbo (ZAM331...)'!A9 -> Biturbo | C6: ='Biturbo (ZAM331...)'!B9 -> *ZAM331B00*CB101506* | D6: ='Biturbo (ZAM331...)'!C9 -> 1982 | E6: ='Biturbo (ZAM331...)'!D9 -> ? | F6: ='Biturbo (ZAM331...)'!E9 -> UK | G6: =IF(B6<>"",1,0) -> 1
B7: ='Biturbo (ZAM331...)'!A10 -> Biturbo | C7: ='Biturbo (ZAM331...)'!B10 -> *ZAM331B00*CB101944* | D7: ='Biturbo (ZAM331...)'!C10 -> 1982 | E7: ='Biturbo (ZAM331...)'!D10 -> Vert | F7: ='Biturbo (ZAM331...)'!E10 -> France | G7: =IF(B7<>"",1,0) -> 1
B8: ='Biturbo (ZAM331...)'!A13 -> Biturbo | C8: ='Biturbo (ZAM331...)'!B13 -> *ZAM331B00*DB102594* | D8: ='Biturbo (ZAM331...)'!C13 -> 1983 | E8: ='Biturbo (ZAM331...)'!D13 -> ? | F8: ='Biturbo (ZAM331...)'!E13 -> France | G8: =IF(B8<>"",1,0) -> 1
B9: ='Biturbo (ZAM331...)'!A14 -> Biturbo S | C9: ='Biturbo (ZAM331...)'!B14 -> *ZAM331B00*DB102938* | D9: ='Biturbo (ZAM331...)'!C14 -> 1983 | E9: ='Biturbo (ZAM331...)'!D14 -> ? | F9: ='Biturbo (ZAM331...)'!E14 -> France | G9: =IF(B9<>"",1,0) -> 1
B10: ='Biturbo (ZAM331...)'!A16 -> Biturbo | C10: ='Biturbo (ZAM331...)'!B16 -> *ZAM331B00*DB103158* | D10: ='Biturbo (ZAM331...)'!C16 -> 1983 | E10: ='Biturbo (ZAM331...)'!D16 -> Vert | F10: ='Biturbo (ZAM331...)'!E16 -> Hollande | G10: =IF(B10<>"",1,0) -> 1
B11: ='Biturbo (ZAM331...)'!A17 -> Biturbo | C11: ='Biturbo (ZAM331...)'!B17 -> *ZAM331B00*DB103572* | D11: ='Biturbo (ZAM331...)'!C17 -> 1983 | E11: ='Biturbo (ZAM331...)'!D17 -> ? | F11: ='Biturbo (ZAM331...)'!E17 -> Pologne | G11: =IF(B11<>"",1,0) -> 1
B12: ='Biturbo (ZAM331...)'!A19 -> Biturbo | C12: ='Biturbo (ZAM331...)'!B19 -> *ZAM331B00*DB104773* | D12: ='Biturbo (ZAM331...)'!C19 -> 1983 | E12: ='Biturbo (ZAM331...)'!D19 -> Marrone Metallizzata | F12: ='Biturbo (ZAM331...)'!E19 -> Italie | G12: =IF(B12<>"",1,0) -> 1
B13: ='Biturbo (ZAM331...)'!A20 -> Biturbo | C13: ='Biturbo (ZAM331...)'!B20 -> *ZAM331B00*DB104983* | D13: ='Biturbo (ZAM331...)'!C20 -> 1983 | E13: ='Biturbo (ZAM331...)'!D20 -> ? | F13: ='Biturbo (ZAM331...)'!E20 -> UK | G13: =IF(B13<>"",1,0) -> 1
B14: ='Biturbo (ZAM331...)'!A21 -> Biturbo | C14: ='Biturbo (ZAM331...)'!B21 -> *ZAM331B00*DB105205* | D14: ='Biturbo (ZAM331...)'!C21 -> 1983 | E14: ='Biturbo (ZAM331...)'!D21 -> Gris | F14: ='Biturbo (ZAM331...)'!E21 -> Hollande | G14: =IF(B14<>"",1,0) -> 1
B15: ='Biturbo (ZAM331...)'!A22 -> Biturbo | C15: ='Biturbo (ZAM331...)'!B22 -> *ZAM331B00*EB105982* | D15: ='Biturbo (ZAM331...)'!C22 -> 1983 | E15: ='Biturbo (ZAM331...)'!D22 -> ? | F15: ='Biturbo (ZAM331...)'!E22 -> France | G15: =IF(B15<>"",1,0) -> 1
B16: ='Biturbo (ZAM331...)'!A23 -> Biturbo | C16: ='Biturbo (ZAM331...)'!B23 -> *ZAM331B00*EB105982* | D16: ='Biturbo (ZAM331...)'!C23 -> 1983 | E16: ='Biturbo (ZAM331...)'!D23 -> Blanc | F16: ='Biturbo (ZAM331...)'!E23 -> France | G16: =IF(B16<>"",1,0) -> 1
B17: ='Biturbo (ZAM331...)'!A33 -> Biturbo E | C17: ='Biturbo (ZAM331...)'!B33 -> *ZAM331B00*EB106368* | D17: ='Biturbo (ZAM331...)'!C33 -> 1984 | E17: ='Biturbo (ZAM331...)'!D33 -> Bordeaux | F17: ='Biturbo (ZAM331...)'!E33 -> Hollande | G17: =IF(B17<>"",1,0) -> 1
B18: ='Biturbo (ZAM331...)'!A36 -> Biturbo E | C18: ='Biturbo (ZAM331...)'!B36 -> *ZAM331B00*EB106423* | D18: ='Biturbo (ZAM331...)'!C36 -> 1984 | E18: ='Biturbo (ZAM331...)'!D36 -> Gris | F18: ='Biturbo (ZAM331...)'!E36 -> France | G18: =IF(B18<>"",1,0) -> 1
B19: ='Biturbo (ZAM331...)'!A39 -> Biturbo | C19: ='Biturbo (ZAM331...)'!B39 -> *ZAM331B00*EB106457* | D19: ='Biturbo (ZAM331...)'!C39 -> 1985 | E19: ='Biturbo (ZAM331...)'!D39 -> ? | F19: ='Biturbo (ZAM331...)'!E39 -> France | G19: =IF(B19<>"",1,0) -> 1
B20: ='Biturbo (ZAM331...)'!A40 -> Biturbo | C20: ='Biturbo (ZAM331...)'!B40 -> *ZAM331B00*EB106497* | D20: ='Biturbo (ZAM331...)'!C40 -> 1985 | E20: ='Biturbo (ZAM331...)'!D40 -> ? | F20: ='Biturbo (ZAM331...)'!E40 -> France | G20: =IF(B20<>"",1,0) -> 1
B21: ='Biturbo (ZAM331...)'!A41 -> Biturbo | C21: ='Biturbo (ZAM331...)'!B41 -> *ZAM331B00*EB106508* (HS) | D21: ='Biturbo (ZAM331...)'!C41 -> 1984 | E21: ='Biturbo (ZAM331...)'!D41 -> ? | F21: ='Biturbo (ZAM331...)'!E41 -> France | G21: =IF(B21<>"",1,0) -> 1
B22: ='Biturbo (ZAM331...)'!A42 -> Biturbo E | C22: ='Biturbo (ZAM331...)'!B42 -> *ZAM331B00*EB106647* | D22: ='Biturbo (ZAM331...)'!C42 -> 1984 | E22: ='Biturbo (ZAM331...)'!D42 -> ? | F22: ='Biturbo (ZAM331...)'!E42 -> France | G22: =IF(B22<>"",1,0) -> 1
B23: ='Biturbo (ZAM331...)'!A43 -> Biturbo E | C23: ='Biturbo (ZAM331...)'!B43 -> *ZAM331B00*EB106659* | D23: ='Biturbo (ZAM331...)'!C43 -> 1984 | E23: ='Biturbo (ZAM331...)'!D43 -> ? | F23: ='Biturbo (ZAM331...)'!E43 -> France | G23: =IF(B23<>"",1,0) -> 1
B24: ='Biturbo (ZAM331...)'!A44 -> Biturbo E | C24: ='Biturbo (ZAM331...)'!B44 -> *ZAM331B00*EB106670* | D24: ='Biturbo (ZAM331...)'!C44 -> 1986 | E24: ='Biturbo (ZAM331...)'!D44 -> ? | F24: ='Biturbo (ZAM331...)'!E44 -> Allemagne | G24: =IF(B24<>"",1,0) -> 1
B25: ='Biturbo (ZAM331...)'!A45 -> Biturbo E | C25: ='Biturbo (ZAM331...)'!B45 -> *ZAM331B00*EB106717* | D25: ='Biturbo (ZAM331...)'!C45 -> 1984 | E25: ='Biturbo (ZAM331...)'!D45 -> Bleue | F25: ='Biturbo (ZAM331...)'!E45 -> France | G25: =IF(B25<>"",1,0) -> 1
B26: ='Biturbo (ZAM331...)'!A47 -> Biturbo E | C26: ='Biturbo (ZAM331...)'!B47 -> *ZAM331B00*EB106759* | D26: ='Biturbo (ZAM331...)'!C47 -> 1984 | E26: ='Biturbo (ZAM331...)'!D47 -> ? | F26: ='Biturbo (ZAM331...)'!E47 -> Allemagne | G26: =IF(B26<>"",1,0) -> 1
B27: ='Biturbo (ZAM331...)'!A48 -> Biturbo | C27: ='Biturbo (ZAM331...)'!B48 -> *ZAM331B00*EB106779* | D27: ='Biturbo (ZAM331...)'!C48 -> 1984 | E27: ='Biturbo (ZAM331...)'!D48 -> ? | F27: ='Biturbo (ZAM331...)'!E48 -> Allemagne | G27: =IF(B27<>"",1,0) -> 1
B28: ='Biturbo (ZAM331...)'!A51 -> Biturbo S | C28: ='Biturbo (ZAM331...)'!B51 -> *ZAM331B00*EB106897* | D28: ='Biturbo (ZAM331...)'!C51 -> 1984 | E28: ='Biturbo (ZAM331...)'!D51 -> Rouge | F28: ='Biturbo (ZAM331...)'!E51 -> Italie | G28: =IF(B28<>"",1,0) -> 1
B29: ='Biturbo (ZAM331...)'!A52 -> Biturbo S | C29: ='Biturbo (ZAM331...)'!B52 -> *ZAM331B00*EB107204* | D29: ='Biturbo (ZAM331...)'!C52 -> 1984 | E29: ='Biturbo (ZAM331...)'!D52 -> ? | F29: ='Biturbo (ZAM331...)'!E52 -> Allemagne | G29: =IF(B29<>"",1,0) -> 1
B30: ='Biturbo (ZAM331...)'!A53 -> Biturbo | C30: ='Biturbo (ZAM331...)'!B53 -> *ZAM331B00*EB107455* | D30: ='Biturbo (ZAM331...)'!C53 -> 1984 | E30: ='Biturbo (ZAM331...)'!D53 -> Gris | F30: ='Biturbo (ZAM331...)'!E53 -> UK | G30: =IF(B30<>"",1,0) -> 1
B31: ='Biturbo (ZAM331...)'!A54 -> Biturbo | C31: ='Biturbo (ZAM331...)'!B54 -> *ZAM331B00*EB107515* | D31: ='Biturbo (ZAM331...)'!C54 -> 1984 | E31: ='Biturbo (ZAM331...)'!D54 -> Rouge | F31: ='Biturbo (ZAM331...)'!E54 -> Hollande | G31: =IF(B31<>"",1,0) -> 1
B32: ='Biturbo (ZAM331...)'!A55 -> Biturbo | C32: ='Biturbo (ZAM331...)'!B55 -> *ZAM331B00*EB107778* | D32: ='Biturbo (ZAM331...)'!C55 -> 1984 | E32: ='Biturbo (ZAM331...)'!D55 -> Rouge | F32: ='Biturbo (ZAM331...)'!E55 -> Italie | G32: =IF(B32<>"",1,0) -> 1
B33: ='Biturbo (ZAM331...)'!A57 -> Biturbo S | C33: ='Biturbo (ZAM331...)'!B57 -> *ZAM331B00*EB108384* | D33: ='Biturbo (ZAM331...)'!C57 -> 1984 | E33: ='Biturbo (ZAM331...)'!D57 -> Grise | F33: ='Biturbo (ZAM331...)'!E57 -> Italie | G33: =IF(B33<>"",1,0) -> 1
B34: ='Biturbo (ZAM331...)'!A58 -> Biturbo | C34: ='Biturbo (ZAM331...)'!B58 -> *ZAM331B00*EB108399* | D34: ='Biturbo (ZAM331...)'!C58 -> 1984 | E34: ='Biturbo (ZAM331...)'!D58 -> Marrone Metallizzata | F34: ='Biturbo (ZAM331...)'!E58 -> Suisse | G34: =IF(B34<>"",1,0) -> 1
B35: ='Biturbo (ZAM331...)'!A60 -> Biturbo S | C35: ='Biturbo (ZAM331...)'!B60 -> *ZAM331B00*EB109458* | D35: ='Biturbo (ZAM331...)'!C60 -> 1984 | E35: ='Biturbo (ZAM331...)'!D60 -> ? | F35: ='Biturbo (ZAM331...)'!E60 -> Hollande | G35: =IF(B35<>"",1,0) -> 1
B36: ='Biturbo (ZAM331...)'!A61 -> Biturbo | C36: ='Biturbo (ZAM331...)'!B61 -> *ZAM331B00*EB109660* | D36: ='Biturbo (ZAM331...)'!C61 -> 1984 | E36: ='Biturbo (ZAM331...)'!D61 -> Gris foncé | F36: ='Biturbo (ZAM331...)'!E61 -> France | G36: =IF(B36<>"",1,0) -> 1
B37: ='Biturbo (ZAM331...)'!A62 -> Biturbo E | C37: ='Biturbo (ZAM331...)'!B62 -> *ZAM331B00*EB111137* | D37: ='Biturbo (ZAM331...)'!C62 -> 1985 | E37: ='Biturbo (ZAM331...)'!D62 -> ? | F37: ='Biturbo (ZAM331...)'!E62 -> Espagne | G37: =IF(B37<>"",1,0) -> 1
B38: ='Biturbo (ZAM331...)'!A64 -> Biturbo | C38: ='Biturbo (ZAM331...)'!B64 -> *ZAM331B00*EB111909* | D38: ='Biturbo (ZAM331...)'!C64 -> 1984 | E38: ='Biturbo (ZAM331...)'!D64 -> ? | F38: ='Biturbo (ZAM331...)'!E64 -> Italie | G38: =IF(B38<>"",1,0) -> 1
B39: ='Biturbo (ZAM331...)'!A65 -> Biturbo E | C39: ='Biturbo (ZAM331...)'!B65 -> *ZAM331B00*EB112181* | D39: ='Biturbo (ZAM331...)'!C65 -> 1985 | E39: ='Biturbo (ZAM331...)'!D65 -> Noir | F39: ='Biturbo (ZAM331...)'!E65 -> Belgique | G39: =IF(B39<>"",1,0) -> 1
B40: ='Biturbo (ZAM331...)'!A66 -> Biturbo Rallye 2,5 | C40: ='Biturbo (ZAM331...)'!B66 -> *ZAM331B00*EB112416* | D40: ='Biturbo (ZAM331...)'!C66 -> 1984 | E40: ='Biturbo (ZAM331...)'!D66 -> Rouge | F40: ='Biturbo (ZAM331...)'!E66 -> Allemagne | G40: =IF(B40<>"",1,0) -> 1
B41: ='Biturbo (ZAM331...)'!A67 -> Biturbo S | C41: ='Biturbo (ZAM331...)'!B67 -> *ZAM331B00*EB112435* | D41: ='Biturbo (ZAM331...)'!C67 -> 1984 | E41: ='Biturbo (ZAM331...)'!D67 -> Grise | F41: ='Biturbo (ZAM331...)'!E67 -> Allemagne | G41: =IF(B41<>"",1,0) -> 1
B42: ='Biturbo (ZAM331...)'!A68 -> Biturbo E | C42: ='Biturbo (ZAM331...)'!B68 -> *ZAM331B00*EB112673* | D42: ='Biturbo (ZAM331...)'!C68 -> 1985 | E42: ='Biturbo (ZAM331...)'!D68 -> ? | F42: ='Biturbo (ZAM331...)'!E68 -> Suisse | G42: =IF(B42<>"",1,0) -> 1
B43: ='Biturbo (ZAM331...)'!A69 -> Biturbo | C43: ='Biturbo (ZAM331...)'!B69 -> *ZAM331B00*EB112674* | D43: ='Biturbo (ZAM331...)'!C69 -> 1985 | E43: ='Biturbo (ZAM331...)'!D69 -> Bianco | F43: ='Biturbo (ZAM331...)'!E69 -> Suisse | G43: =IF(B43<>"",1,0) -> 1
B44: ='Biturbo (ZAM331...)'!A70 -> Biturbo | C44: ='Biturbo (ZAM331...)'!B70 -> *ZAM331B00*EB112708* | D44: ='Biturbo (ZAM331...)'!C70 -> 1983 | E44: ='Biturbo (ZAM331...)'!D70 -> Grise | F44: ='Biturbo (ZAM331...)'!E70 -> France | G44: =IF(B44<>"",1,0) -> 1
B45: ='Biturbo (ZAM331...)'!A71 -> Biturbo | C45: ='Biturbo (ZAM331...)'!B71 -> *ZAM331B00*EB112754* | D45: ='Biturbo (ZAM331...)'!C71 -> 1983 | E45: ='Biturbo (ZAM331...)'!D71 -> Grise | F45: ='Biturbo (ZAM331...)'!E71 -> France | G45: =IF(B45<>"",1,0) -> 1
B46: ='Biturbo (ZAM331...)'!A72 -> Biturbo E | C46: ='Biturbo (ZAM331...)'!B72 -> *ZAM331B00*EB112826* | D46: ='Biturbo (ZAM331...)'!C72 -> 1985 | E46: ='Biturbo (ZAM331...)'!D72 -> Rouge | F46: ='Biturbo (ZAM331...)'!E72 -> Hollande | G46: =IF(B46<>"",1,0) -> 1
B47: ='Biturbo (ZAM331...)'!A75 -> Biturbo E | C47: ='Biturbo (ZAM331...)'!B75 -> *ZAM331B00*EB112901* | D47: ='Biturbo (ZAM331...)'!C75 -> 1985 | E47: ='Biturbo (ZAM331...)'!D75 -> ? | F47: ='Biturbo (ZAM331...)'!E75 -> Suisse | G47: =IF(B47<>"",1,0) -> 1
B48: ='Biturbo (ZAM331...)'!A76 -> Biturbo | C48: ='Biturbo (ZAM331...)'!B76 -> *ZAM331B00*EB112975* | D48: ='Biturbo (ZAM331...)'!C76 -> 1984 | E48: ='Biturbo (ZAM331...)'!D76 -> ? | F48: ='Biturbo (ZAM331...)'!E76 -> France | G48: =IF(B48<>"",1,0) -> 1
B49: ='Biturbo (ZAM331...)'!A77 -> Biturbo E | C49: ='Biturbo (ZAM331...)'!B77 -> *ZAM331B00*EB112995* | D49: ='Biturbo (ZAM331...)'!C77 -> 1987 | E49: ='Biturbo (ZAM331...)'!D77 -> Rouge | F49: ='Biturbo (ZAM331...)'!E77 -> Belgique | G49: =IF(B49<>"",1,0) -> 1
B50: ='Biturbo (ZAM331...)'!A79 -> Biturbo E | C50: ='Biturbo (ZAM331...)'!B79 -> *ZAM331B00*EB200028* | D50: ='Biturbo (ZAM331...)'!C79 -> 1985 | E50: ='Biturbo (ZAM331...)'!D79 -> ? | F50: ='Biturbo (ZAM331...)'!E79 -> Allemagne | G50: =IF(B50<>"",1,0) -> 1
B51: ='Biturbo (ZAM331...)'!A80 -> Biturbo E | C51: ='Biturbo (ZAM331...)'!B80 -> *ZAM331B00*EB312101* | D51: ='Biturbo (ZAM331...)'!C80 -> 1985 | E51: ='Biturbo (ZAM331...)'!D80 -> ? | F51: ='Biturbo (ZAM331...)'!E80 -> France | G51: =IF(B51<>"",1,0) -> 1
B52: ='Biturbo (ZAM331...)'!A81 -> Biturbo | C52: ='Biturbo (ZAM331...)'!B81 -> *ZAM331B00*FB112209* | D52: ='Biturbo (ZAM331...)'!C81 -> 1984 | E52: ='Biturbo (ZAM331...)'!D81 -> Bianco | F52: ='Biturbo (ZAM331...)'!E81 -> Malte | G52: =IF(B52<>"",1,0) -> 1
B53: ='Biturbo (ZAM331...)'!A82 -> Biturbo S | C53: ='Biturbo (ZAM331...)'!B82 -> *ZAM331B00*FB113287* | D53: ='Biturbo (ZAM331...)'!C82 -> 1986 | E53: ='Biturbo (ZAM331...)'!D82 -> Rouge | F53: ='Biturbo (ZAM331...)'!E82 -> France | G53: =IF(B53<>"",1,0) -> 1
B54: ='Biturbo (ZAM331...)'!A83 -> Biturbo | C54: ='Biturbo (ZAM331...)'!B83 -> *ZAM331B00*FB113579* | D54: ='Biturbo (ZAM331...)'!C83 -> 1985 | E54: ='Biturbo (ZAM331...)'!D83 -> Grise | F54: ='Biturbo (ZAM331...)'!E83 -> Italie | G54: =IF(B54<>"",1,0) -> 1
B55: ='Biturbo (ZAM331...)'!A84 -> Biturbo | C55: ='Biturbo (ZAM331...)'!B84 -> *ZAM331B00*FB113597* | D55: ='Biturbo (ZAM331...)'!C84 -> 1985 | E55: ='Biturbo (ZAM331...)'!D84 -> Noir | F55: ='Biturbo (ZAM331...)'!E84 -> Ukraine | G55: =IF(B55<>"",1,0) -> 1
B56: ='Biturbo (ZAM331...)'!A88 -> Biturbo S | C56: ='Biturbo (ZAM331...)'!B88 -> *ZAM331B00*FB113997* | D56: ='Biturbo (ZAM331...)'!C88 -> 1985 | E56: ='Biturbo (ZAM331...)'!D88 -> ? | F56: ='Biturbo (ZAM331...)'!E88 -> Allemagne | G56: =IF(B56<>"",1,0) -> 1
B57: ='Biturbo (ZAM331...)'!A89 -> Biturbo S | C57: ='Biturbo (ZAM331...)'!B89 -> *ZAM331B00*FB114339* | D57: ='Biturbo (ZAM331...)'!C89 -> 1985 | E57: ='Biturbo (ZAM331...)'!D89 -> Gris | F57: ='Biturbo (ZAM331...)'!E89 -> Italie | G57: =IF(B57<>"",1,0) -> 1
B58: ='Biturbo (ZAM331...)'!A90 -> Biturbo E | C58: ='Biturbo (ZAM331...)'!B90 -> *ZAM331B00*FB114788* | D58: ='Biturbo (ZAM331...)'!C90 -> 1985 | E58: ='Biturbo (ZAM331...)'!D90 -> Gris | F58: ='Biturbo (ZAM331...)'!E90 -> Hollande | G58: =IF(B58<>"",1,0) -> 1
B59: ='Biturbo (ZAM331...)'!A91 -> Biturbo S | C59: ='Biturbo (ZAM331...)'!B91 -> *ZAM331B00*FB114898* | D59: ='Biturbo (ZAM331...)'!C91 -> 1985 | E59: ='Biturbo (ZAM331...)'!D91 -> Gris | F59: ='Biturbo (ZAM331...)'!E91 -> France | G59: =IF(B59<>"",1,0) -> 1
B60: ='Biturbo (ZAM331...)'!A93 -> Biturbo E | C60: ='Biturbo (ZAM331...)'!B93 -> *ZAM331B00*FB115132* | D60: ='Biturbo (ZAM331...)'!C93 -> 1985 | E60: ='Biturbo (ZAM331...)'!D93 -> Bleu | F60: ='Biturbo (ZAM331...)'!E93 -> Hollande | G60: =IF(B60<>"",1,0) -> 1
B61: ='Biturbo (ZAM331...)'!A94 -> Biturbo S | C61: ='Biturbo (ZAM331...)'!B94 -> *ZAM331B00*FB115173* | D61: ='Biturbo (ZAM331...)'!C94 -> 1985 | E61: ='Biturbo (ZAM331...)'!D94 -> Gris | F61: ='Biturbo (ZAM331...)'!E94 -> Hongrie | G61: =IF(B61<>"",1,0) -> 1
B62: ='Biturbo (ZAM331...)'!A95 -> Biturbo | C62: ='Biturbo (ZAM331...)'!B95 -> *ZAM331B00*GB115363* | D62: ='Biturbo (ZAM331...)'!C95 -> 1986 | E62: ='Biturbo (ZAM331...)'!D95 -> Gris | F62: ='Biturbo (ZAM331...)'!E95 -> Espagne | G62: =IF(B62<>"",1,0) -> 1
B63: ='Biturbo (ZAM331...)'!A97 -> Biturbo | C63: ='Biturbo (ZAM331...)'!B97 -> *ZAM331B00*GB115413* | D63: ='Biturbo (ZAM331...)'!C97 -> 1986 | E63: ='Biturbo (ZAM331...)'!D97 -> Gris | F63: ='Biturbo (ZAM331...)'!E97 -> France | G63: =IF(B63<>"",1,0) -> 1
B64: ='Biturbo (ZAM331...)'!A98 -> Biturbo ES | C64: ='Biturbo (ZAM331...)'!B98 -> *ZAM331B00*GB115465* | D64: ='Biturbo (ZAM331...)'!C98 -> 1986 | E64: ='Biturbo (ZAM331...)'!D98 -> ? | F64: ='Biturbo (ZAM331...)'!E98 -> France | G64: =IF(B64<>"",1,0) -> 1
B65: ='Biturbo (ZAM331...)'!A100 -> Biturbo SI Gr A | C65: ='Biturbo (ZAM331...)'!B100 -> *ZAM331B00*GB115929* | D65: ='Biturbo (ZAM331...)'!C100 -> 1986 | E65: ='Biturbo (ZAM331...)'!D100 -> ? | F65: ='Biturbo (ZAM331...)'!E100 -> ? | G65: =IF(B65<>"",1,0) -> 1
B66: ='Biturbo (ZAM331...)'!A101 -> Biturbo SI Gr A | C66: ='Biturbo (ZAM331...)'!B101 -> *ZAM331B00*GB115935* | D66: ='Biturbo (ZAM331...)'!C101 -> 1986 | E66: ='Biturbo (ZAM331...)'!D101 -> ? | F66: ='Biturbo (ZAM331...)'!E101 -> ? | G66: =IF(B66<>"",1,0) -> 1
B67: ='Biturbo (ZAM331...)'!A102 -> Biturbo SI Gr A | C67: ='Biturbo (ZAM331...)'!B102 -> *ZAM331B00*GB116083* | D67: ='Biturbo (ZAM331...)'!C102 -> 1986 | E67: ='Biturbo (ZAM331...)'!D102 -> ? | F67: ='Biturbo (ZAM331...)'!E102 -> ? | G67: =IF(B67<>"",1,0) -> 1
B68: ='Biturbo (ZAM331...)'!A103 -> Biturbo SI Gr A | C68: ='Biturbo (ZAM331...)'!B103 -> *ZAM331B00*GB116084* | D68: ='Biturbo (ZAM331...)'!C103 -> 1986 | E68: ='Biturbo (ZAM331...)'!D103 -> ? | F68: ='Biturbo (ZAM331...)'!E103 -> ? | G68: =IF(B68<>"",1,0) -> 1
B69: ='Biturbo (ZAM331...)'!A104 -> Biturbo SI Gr A | C69: ='Biturbo (ZAM331...)'!B104 -> *ZAM331B00*GB116090* | D69: ='Biturbo (ZAM331...)'!C104 -> 1986 | E69: ='Biturbo (ZAM331...)'!D104 -> ? | F69: ='Biturbo (ZAM331...)'!E104 -> ? | G69: =IF(B69<>"",1,0) -> 1
B70: ='Biturbo (ZAM331...)'!A105 -> Biturbo E | C70: ='Biturbo (ZAM331...)'!B105 -> *ZAM331B00*GB180007* | D70: ='Biturbo (ZAM331...)'!C105 -> 1986 | E70: ='Biturbo (ZAM331...)'!D105 -> Bleu | F70: ='Biturbo (ZAM331...)'!E105 -> Nouvelle Zelande | G70: =IF(B70<>"",1,0) -> 1
B71: ='Biturbo (ZAM331...)'!A106 -> Biturbo i | C71: ='Biturbo (ZAM331...)'!B106 -> *ZAM331B00*HB116040* | D71: ='Biturbo (ZAM331...)'!C106 -> 1987 | E71: ='Biturbo (ZAM331...)'!D106 -> ? | F71: ='Biturbo (ZAM331...)'!E106 -> Allemagne | G71: =IF(B71<>"",1,0) -> 1
B72: ='Biturbo (ZAM331...)'!A107 -> Biturbo S | C72: ='Biturbo (ZAM331...)'!B107 -> *ZAM331B00*HB116091* | D72: ='Biturbo (ZAM331...)'!C107 -> 1987 | E72: ='Biturbo (ZAM331...)'!D107 -> Rouge | F72: ='Biturbo (ZAM331...)'!E107 -> France | G72: =IF(B72<>"",1,0) -> 1
B73: ='Biturbo (ZAM331...)'!A108 -> Biturbo SI Gr A | C73: ='Biturbo (ZAM331...)'!B108 -> *ZAM331B00*HB116094* | D73: ='Biturbo (ZAM331...)'!C108 -> 1987 | E73: ='Biturbo (ZAM331...)'!D108 -> 0 | F73: ='Biturbo (ZAM331...)'!E108 -> 0 | G73: =IF(B73<>"",1,0) -> 1
B74: ='Biturbo (ZAM331...)'!A110 -> Biturbo | C74: ='Biturbo (ZAM331...)'!B110 -> *ZAM331B00*HB116225* | D74: ='Biturbo (ZAM331...)'!C110 -> 1988 | E74: ='Biturbo (ZAM331...)'!D110 -> ? | F74: ='Biturbo (ZAM331...)'!E110 -> Italie | G74: =IF(B74<>"",1,0) -> 1
B75: ='Biturbo (ZAM331...)'!A111 -> Biturbo SI | C75: ='Biturbo (ZAM331...)'!B111 -> *ZAM331B00*HB116264* | D75: 1988 | E75: ='Biturbo (ZAM331...)'!D111 -> ? | F75: ='Biturbo (ZAM331...)'!E111 -> Italie | G75: =IF(B75<>"",1,0) -> 1
B76: ='Biturbo (ZAM331...)'!A113 -> Biturbo SI | C76: ='Biturbo (ZAM331...)'!B113 -> *ZAM331B00*HB116316* | D76: ='Biturbo (ZAM331...)'!C113 -> 1988 | E76: ='Biturbo (ZAM331...)'!D113 -> Noir | F76: ='Biturbo (ZAM331...)'!E113 -> France | G76: =IF(B76<>"",1,0) -> 1
B77: ='Biturbo (ZAM331...)'!A117 -> Biturbo SI | C77: ='Biturbo (ZAM331...)'!B117 -> *ZAM331B00*HB116613* | D77: ='Biturbo (ZAM331...)'!C117 -> 1987 | E77: ='Biturbo (ZAM331...)'!D117 -> Gris | F77: ='Biturbo (ZAM331...)'!E117 -> France | G77: =IF(B77<>"",1,0) -> 1
B78: ='Biturbo (ZAM331...)'!A118 -> Biturbo SI | C78: ='Biturbo (ZAM331...)'!B118 -> *ZAM331B00*HB116628* | D78: ='Biturbo (ZAM331...)'!C118 -> 1987 | E78: ='Biturbo (ZAM331...)'!D118 -> Noir | F78: ='Biturbo (ZAM331...)'!E118 -> Suisse | G78: =IF(B78<>"",1,0) -> 1
B79: ='Biturbo (ZAM331...)'!A120 -> Biturbo SI | C79: ='Biturbo (ZAM331...)'!B120 -> *ZAM331B00*HB116775* | D79: ='Biturbo (ZAM331...)'!C120 -> 1987 | E79: ='Biturbo (ZAM331...)'!D120 -> Rouge | F79: ='Biturbo (ZAM331...)'!E120 -> France | G79: =IF(B79<>"",1,0) -> 1
B80: ='Biturbo (ZAM331...)'!A121 -> Biturbo SI | C80: ='Biturbo (ZAM331...)'!B121 -> *ZAM331B00*HB116787* | D80: ='Biturbo (ZAM331...)'!C121 -> 1987 | E80: ='Biturbo (ZAM331...)'!D121 -> Rouge | F80: ='Biturbo (ZAM331...)'!E121 -> Suisse | G80: =IF(B80<>"",1,0) -> 1
B81: ='Biturbo (ZAM331...)'!A122 -> Biturbo SI | C81: ='Biturbo (ZAM331...)'!B122 -> *ZAM331B00*HB116808* | D81: ='Biturbo (ZAM331...)'!C122 -> 1987 | E81: ='Biturbo (ZAM331...)'!D122 -> Rouge | F81: ='Biturbo (ZAM331...)'!E122 -> Italie | G81: =IF(B81<>"",1,0) -> 1
B82: ='Biturbo (ZAM331...)'!A123 -> Biturbo ES | C82: ='Biturbo (ZAM331...)'!B123 -> *ZAM331B00*HB116995* | D82: ='Biturbo (ZAM331...)'!C123 -> 1987 | E82: ='Biturbo (ZAM331...)'!D123 -> ? | F82: ='Biturbo (ZAM331...)'!E123 -> France | G82: =IF(B82<>"",1,0) -> 1
B83: ='Biturbo (ZAM331...)'!A124 -> Biturbo SI | C83: ='Biturbo (ZAM331...)'!B124 -> *ZAM331B00*HB117045* | D83: ='Biturbo (ZAM331...)'!C124 -> 1987 | E83: ='Biturbo (ZAM331...)'!D124 -> ? | F83: ='Biturbo (ZAM331...)'!E124 -> Italie | G83: =IF(B83<>"",1,0) -> 1
B84: ='Biturbo (ZAM331...)'!A125 -> Biturbo SI | C84: ='Biturbo (ZAM331...)'!B125 -> *ZAM331B00*HB117064* | D84: ='Biturbo (ZAM331...)'!C125 -> 1988 | E84: ='Biturbo (ZAM331...)'!D125 -> Noir | F84: ='Biturbo (ZAM331...)'!E125 -> Italie | G84: =IF(B84<>"",1,0) -> 1
B85: ='Biturbo (ZAM331...)'!A126 -> Biturbo SI | C85: ='Biturbo (ZAM331...)'!B126 -> ZAM331B00HB117106 | D85: ='Biturbo (ZAM331...)'!C126 -> 1987 | E85: ='Biturbo (ZAM331...)'!D126 -> Noir | F85: ='Biturbo (ZAM331...)'!E126 -> France | G85: =IF(B85<>"",1,0) -> 1
B86: ='Biturbo (ZAM331...)'!A128 -> 222 E | C86: ='Biturbo (ZAM331...)'!B128 -> *ZAM331B00*HB117119* | D86: ='Biturbo (ZAM331...)'!C128 -> 1988 | E86: ='Biturbo (ZAM331...)'!D128 -> Rouge | F86: ='Biturbo (ZAM331...)'!E128 -> UK | G86: =IF(B86<>"",1,0) -> 1
B87: ='Biturbo (ZAM331...)'!A130 -> Biturbo SI | C87: ='Biturbo (ZAM331...)'!B130 -> *ZAM331B00*HB117227* | D87: ='Biturbo (ZAM331...)'!C130 -> 1987 | E87: ='Biturbo (ZAM331...)'!D130 -> Noir | F87: ='Biturbo (ZAM331...)'!E130 -> France | G87: =IF(B87<>"",1,0) -> 1
B88: ='Biturbo (ZAM331...)'!A132 -> Biturbo SI Gr A | C88: ='Biturbo (ZAM331...)'!B132 -> *ZAM331B00*HB117414* | D88: ='Biturbo (ZAM331...)'!C132 -> 1987 | E88: ='Biturbo (ZAM331...)'!D132 -> ? | F88: ='Biturbo (ZAM331...)'!E132 -> ? | G88: =IF(B88<>"",1,0) -> 1
B89: ='Biturbo (ZAM331...)'!A134 -> Biturbo SI | C89: ='Biturbo (ZAM331...)'!B134 -> *ZAM331B00*HB117591* | D89: ='Biturbo (ZAM331...)'!C134 -> 1987 | E89: ='Biturbo (ZAM331...)'!D134 -> ? | F89: ='Biturbo (ZAM331...)'!E134 -> Italie | G89: =IF(B89<>"",1,0) -> 1
B90: ='Biturbo (ZAM331...)'!A135 -> Biturbo E | C90: ='Biturbo (ZAM331...)'!B135 -> *ZAM331B00*HB180053* | D90: ='Biturbo (ZAM331...)'!C135 -> 1987 | E90: ='Biturbo (ZAM331...)'!D135 -> Noir | F90: ='Biturbo (ZAM331...)'!E135 -> UK | G90: =IF(B90<>"",1,0) -> 1
B91: ='Biturbo (ZAM331...)'!A136 -> Biturbo E | C91: ='Biturbo (ZAM331...)'!B136 -> *ZAM331B00*HB180086* | D91: ='Biturbo (ZAM331...)'!C136 -> 1988 | E91: ='Biturbo (ZAM331...)'!D136 -> Bleu | F91: ='Biturbo (ZAM331...)'!E136 -> UK | G91: =IF(B91<>"",1,0) -> 1
B92: ='Biturbo (ZAM331...)'!A139 -> Biturbo SI | C92: ='Biturbo (ZAM331...)'!B139 -> *ZAM331B00*JB118215* | D92: ='Biturbo (ZAM331...)'!C139 -> 1988 | E92: ='Biturbo (ZAM331...)'!D139 -> ? | F92: ='Biturbo (ZAM331...)'!E139 -> Suisse | G92: =IF(B92<>"",1,0) -> 1
B93: ='Biturbo (ZAM331...)'!A140 -> Biturbo SI | C93: ='Biturbo (ZAM331...)'!B140 -> *ZAM331B00*JB118300* | D93: ='Biturbo (ZAM331...)'!C140 -> 1989 | E93: ='Biturbo (ZAM331...)'!D140 -> Noir | F93: ='Biturbo (ZAM331...)'!E140 -> France | G93: =IF(B93<>"",1,0) -> 1
B94: ='Biturbo (ZAM331...)'!A141 -> Biturbo SI | C94: ='Biturbo (ZAM331...)'!B141 -> *ZAM331B00*JB118301* | D94: ='Biturbo (ZAM331...)'!C141 -> 1989 | E94: ='Biturbo (ZAM331...)'!D141 -> Noir | F94: ='Biturbo (ZAM331...)'!E141 -> France | G94: =IF(B94<>"",1,0) -> 1
B95: ='Biturbo (ZAM331...)'!A142 -> Biturbo SI | C95: ='Biturbo (ZAM331...)'!B142 -> *ZAM331B00*JB118332* | D95: ='Biturbo (ZAM331...)'!C142 -> 1989 | E95: ='Biturbo (ZAM331...)'!D142 -> ? | F95: ='Biturbo (ZAM331...)'!E142 -> France | G95: =IF(B95<>"",1,0) -> 1
B96: ='Biturbo (ZAM331...)'!A144 -> Biturbo SI | C96: ='Biturbo (ZAM331...)'!B144 -> *ZAM331B00*JB118405* | D96: ='Biturbo (ZAM331...)'!C144 -> 1988 | E96: ='Biturbo (ZAM331...)'!D144 -> Noir | F96: ='Biturbo (ZAM331...)'!E144 -> Suisse | G96: =IF(B96<>"",1,0) -> 1
B97: ='Biturbo (ZAM331...)'!A145 -> Biturbo SI | C97: ='Biturbo (ZAM331...)'!B145 -> *ZAM331B00*JB118410* | D97: ='Biturbo (ZAM331...)'!C145 -> 1989 | E97: ='Biturbo (ZAM331...)'!D145 -> ? | F97: ='Biturbo (ZAM331...)'!E145 -> Autriche | G97: =IF(B97<>"",1,0) -> 1
B98: ='Biturbo (ZAM331...)'!A146 -> Biturbo E | C98: ='Biturbo (ZAM331...)'!B146 -> *ZAM333B00*HA101315* | D98: ='Biturbo (ZAM331...)'!C146 -> 1988 | E98: ='Biturbo (ZAM331...)'!D146 -> ? | F98: ='Biturbo (ZAM331...)'!E146 -> Suisse | G98: =IF(B98<>"",1,0) -> 1
B99: ='Biturbo (ZAM331...)'!A147 -> Biturbo SI | C99: ='Biturbo (ZAM331...)'!B147 -> *ZAM333B00*HA117288* | D99: ='Biturbo (ZAM331...)'!C147 -> 1988 | E99: ='Biturbo (ZAM331...)'!D147 -> ? | F99: ='Biturbo (ZAM331...)'!E147 -> Allemagne | G99: =IF(B99<>"",1,0) -> 1
B100: ='Biturbo (ZAM331...)'!A148 -> Biturbo | C100: ='Biturbo (ZAM331...)'!B148 -> *ZAMAL1100*EB317638* | D100: ='Biturbo (ZAM331...)'!C148 -> 1984 | E100: ='Biturbo (ZAM331...)'!D148 -> Bianco | F100: ='Biturbo (ZAM331...)'!E148 -> USA | G100: =IF(B100<>"",1,0) -> 1
...
