Workbook

Sheet Récapitulatif
B1: Mise à jour 2 novembre 2025 | C1: =SUM(C5:C13) -> 1204
B3: Onglet | C3: Voitures répertoriées
B5: Biturbo (ZAM331) | C5: ='Biturbo (ZAM331...)'!B1 -> 219
B6: 22x Coupés (ZAM331) | C6: ='22x (Coupés) (ZAM331...)'!B1 -> 145
B7: 4xx Berlines (ZAM332) | C7: ='4xx (Berlines) (ZAM332...)'!B1 -> 150
B8: Spyders (ZAM333) | C8: ='Spyders (ZAM333...)'!B1 -> 146
B9: 228 (ZAM334) | C9: ='228 (ZAM334...)'!B1 -> 20
B10: Ghibli (ZAM336) | C10: ='Ghibli (ZAM336...)'!B8 -> 118
B11: QP4 (ZAM337) | C11: ='QP4 (ZAM337...)'!B4 -> 75
B12: 3200GT (ZAM338) | C12: ='3200GT (ZAM338...)'!B1 -> 209
B13: Karif, Shamal (ZAM339) | C13: ='Karif, Shamal (ZAM339...)'!B1 -> 122

Sheet Répartition par modèle
A1: Type | B1: COUNTA of Type
A2: 0 | B2: 359
A3: 222 | B3: 21
A4: 224 | B4: 41
A5: 228 | B5: 15
A6: 418 | B6: 1
A7: 420 | B7: 7
A8: 422 | B8: 11
A9: 424 | B9: 24
A10: 425 | B10: 6
A11: 430 | B11: 43
A12: 222 4v | B12: 12
A13: 222 E | B13: 12
A14: 222 SE | B14: 4
A15: 222 SR | B15: 19
A16: 3200GT | B16: 38
A17: 3200GT AC | B17: 7
A18: 3200GTA | B18: 7
A19: 420 S | B19: 1
A20: 420 Si | B20: 5
A21: 420i | B21: 4
A22: 425i | B22: 4
A23: 430 4v | B23: 6
... A62: Total Résultat | B62: 1195

Sheet Répartition Géographique
A1: Origine | B1: COUNTA of Origine
A2: 0 | B2: 360
A3: ? | B3: 22
A4: Afrique du sud | B4: 2
A5: Allemagne | B5: 63
A6: Australie | B6: 23
A7: Autriche | B7: 3
A8: Belgique | B8: 29
A9: Canada | B9: 4
A10: Croatie | B10: 2
A11: Danemark | B11: 2
A12: Dubai | B12: 1
A13: Espagne | B13: 12
A14: France | B14: 178
... A37: Total Résultat | B37: 1195

Sheet Répartition par Année
A1: Année | B1: COUNTA of Année
A2: 0 | B2: 359
A3: 1981 | B3: 1
A4: 1982 | B4: 6
A5: 1983 | B5: 13
A6: 1984 | B6: 50
A7: 1985 | B7: 57
A8: 1986 | B8: 51
A9: 1987 | B9: 59
A10: 1988 | B10: 52
A11: 1989 | B11: 92
A12: 1990 | B12: 56
A13: 1991 | B13: 108
... A23: 2001 | B23: 20
A24: ? | B24: 25
A25: #RÉF ! | B25: 11
A26: Total Résultat | B26: 1195

Sheet Biturbo (ZAM331...)
B1: =SUM(F4:F361) -> 219 | C1: Voitures répertoriées
A2: Le registre THEPENIER : | C2: http://www.thepenier-maserati-register.com/crbst_202.html
A3: Modèle | B3: N° Série | C3: Année | D3: Couleur | E3: Pays
A4: Biturbo | B4: *ZAM331B00*BB100163* | C4: 1981 | D4: ? | E4: Hollande | F4: =IF(B4<>"",1,0) -> 1
A5: Biturbo | B5: *ZAM331B00*BB100192* | C5: 1982 | D5: Blanc | F5: 1
A6: Biturbo E | B6: *ZAM331B00*CB100368* | C6: 1982 | D6: Gris | E6: Hollande | F6: =IF(B6<>"",1,0) -> 1
A7: Biturbo | B7: *ZAM331B00*CB100508* | C7: 1982 | D7: Marron | E7: Allemagne | F7: =IF(B7<>"",1,0) -> 1
A8: Biturbo | B8: *ZAM331B00*CB100618* | C8: 1982 | D8: Vert | E8: Hollande | F8: =IF(B8<>"",1,0) -> 1
A9: Biturbo | B9: *ZAM331B00*CB101506* | C9: 1982 | D9: ? | E9: UK | F9: =IF(B9<>"",1,0) -> 1
A10: Biturbo | B10: *ZAM331B00*CB101944* | C10: 1982 | D10: Vert | E10: France | F10: =IF(B10<>"",1,0) -> 1
B11: *ZAM331B00*CB101960* | E11: Allemagne | F11: 1
A12: Biturbo | B12: *ZAM331B00*DB102134* HS ? | C12: 1983 | D12: ? | E12: Allemagne | F12: 1 | G12: =HYPERLINK("https://www.ebay.fr/itm/Maserati-Biturbo-Coupe-Bj-83-Ruckleuchte-hinten-rechts-gebraucht/152739016176?hash=item238ff46df0:g:rw8AAOSwjc5Z3e0N","*") -> *
A13: Biturbo | B13: *ZAM331B00*DB102594* | C13: 1983 | D13: ? | E13: France | F13: =IF(B13<>"",1,0) -> 1
A14: Biturbo S | B14: *ZAM331B00*DB102938* | C14: 1983 | D14: ? | E14: France | F14: =IF(B14<>"",1,0) -> 1
B15: *ZAM331B00*DB102985* | E15: Finlande | F15: 1
A16: Biturbo | B16: *ZAM331B00*DB103158* | C16: 1983 | D16: Vert | E16: Hollande | F16: =IF(B16<>"",1,0) -> 1
A17: Biturbo | B17: *ZAM331B00*DB103572* | C17: 1983 | D17: ? | E17: Pologne | F17: =IF(B17<>"",1,0) -> 1
A18: Biturbo | B18: *ZAM331B00*DB104408* | D18: Bleu | E18: Hollande | F18: 1 | G18: *
A19: Biturbo | B19: *ZAM331B00*DB104773* | C19: 1983 | D19: Marrone Metallizzata | E19: Italie | F19: =IF(B19<>"",1,0) -> 1
A20: Biturbo | B20: *ZAM331B00*DB104983* | C20: 1983 | D20: ? | E20: UK | F20: =IF(B20<>"",1,0) -> 1
A21: Biturbo | B21: *ZAM331B00*DB105205* | C21: 1983 | D21: Gris | E21: Hollande | F21: =IF(B21<>"",1,0) -> 1
A22: Biturbo | B22: *ZAM331B00*EB105982* | C22: 1983 | D22: ? | E22: France | F22: =IF(B22<>"",1,0) -> 1
A23: Biturbo | B23: *ZAM331B00*EB105982* | C23: 1983 | D23: Blanc | E23: France | F23: =IF(B23<>"",1,0) -> 1
B24: EB106079 | E24: France
A25: Biturbo | B25: *ZAM331B00EB106177* HS ? | C25: 1989 | E25: France | F25: 1
B26: EB106203 | E26: France
B27: EB106263 | E27: France
B28: EB106292 | E28: France
B29: EB106308 | E29: France
B30: *ZAM331B00 *EB106314* | C30: 1984 | E30: France | F30: 1
B31: EB106331 | E31: France
B32: EB106353 | E32: France
A33: Biturbo E | B33: *ZAM331B00*EB106368* | C33: 1984 | D33: Bordeaux | E33: Hollande | F33: =IF(B33<>"",1,0) -> 1
B34: EB106390 | E34: France
A35: Biturbo | B35: *ZAM331B00*EB106397* | C35: 1984 | D35: Gris | E35: France | F35: 1
A36: Biturbo E | B36: *ZAM331B00*EB106423* | C36: 1984 | D36: Gris | E36: France | F36: =IF(B36<>"",1,0) -> 1
B37: EB106443 | E37: France
B38: EB106448 | E38: France
A39: Biturbo | B39: *ZAM331B00*EB106457* | C39: 1985 | D39: ? | E39: France | F39: =IF(B39<>"",1,0) -> 1
A40: Biturbo | B40: *ZAM331B00*EB106497* | C40: 1985 | D40: ? | E40: France | F40: =IF(B40<>"",1,0) -> 1
...

Sheet 22x (Coupés) (ZAM331...)
B1: =SUM(F4:F364) -> 145 | C1: Voitures répertoriées
A2: Le registre d' Enrico pour les Racing : | C2: http://www.maserati-alfieri.co.uk/alfieri295.htm
A3: Modèle | B3: N° Série | C3: Année | D3: Couleur | E3: Pays
A4: 222 | B4: *ZAM331B00*DB102232* | C4: 1983 | D4: ? | E4: France | F4: =IF(B4<>"",1,0) -> 1
A5: 222 | B5: *ZAM331B00*EB107742* | C5: 1984 | E5: Allemagne | F5: 1
A6: 222 | B6: *ZAM331B00*EB109744* | C6: 1984 | D6: ? | E6: Belgique | F6: =IF(B4<>"",1,0) -> 1
A7: 222 | B7: *ZAM331M00*JB118029* | C7: 1988 | D7: Gris | E7: Allemagne | F7: 1
A8: 222 | B8: *ZAM331B00*JB118024* | C8: 1989 | D8: ? | E8: France | F8: =IF(B4<>"",1,0) -> 1
A9: 222 | B9: *ZAM331B00*JB118058* | C9: 1988 | D9: ? | E9: France | F9: =IF(B9<>"",1,0) -> 1
B10: *ZAM331B00*JB118111* | C10: 1988 | E10: Suède | F10: 1
A11: 222 | B11: *ZAM331B00*JB118168* | C11: 1988 | D11: Bleue | E11: Italie | F11: =IF(B11<>"",1,0) -> 1
A12: 222 | B12: *ZAM331B00*JB118272* | C12: 1989 | D12: Rouge | E12: France | F12: =IF(B12<>"",1,0) -> 1
A13: 222 | B13: *ZAM331B00*JB11829* | C13: 1988 | D13: Bleue | E13: Allemagne | F13: =IF(B13<>"",1,0) -> 1
A14: 222 | B14: *ZAM331B00*JB118497* | C14: 1989 | D14: Ivoire | E14: France | F14: =IF(B14<>"",1,0) -> 1
A15: 222 | B15: *ZAM331B00*JB118501* | C15: 1988 | D15: Blanc | E15: Hollande | F15: =IF(B15<>"",1,0) -> 1
A16: 222 | B16: *ZAM331B00*JB118522* | C16: 1991 | D16: ? | E16: France | F16: =IF(B16<>"",1,0) -> 1
A17: 222 | B17: *ZAM331B00*JB118530* | C17: 1989 | D17: Rifle Grey Metal | E17: France | F17: =IF(B17<>"",1,0) -> 1
A18: 222 | B18: *ZAM331B00*JB118557* | C18: 1989 | D18: Grise | E18: France | F18: =IF(B18<>"",1,0) -> 1
A19: 222 | B19: *ZAM331B00*JB118754* | C19: 1988 | D19: ? | E19: Italie | F19: =IF(B19<>"",1,0) -> 1
A20: 222 | B20: *ZAM331B00*JB118899* | C20: 1988 | D20: Rouge | E20: Italie | F20: =IF(B20<>"",1,0) -> 1
A21: 222 | B21: *ZAM331B00*JB118958* | C21: 1987 | D21: ? | E21: USA | F21: =IF(B21<>"",1,0) -> 1
A22: 222 | B22: *ZAM331B00*JB118973* | C22: 1989 | D22: ? | E22: France | F22: =IF(B22<>"",1,0) -> 1
... A25: 222 | B25: *ZAM331B00*KB119210* | C25: 1990 | D25: Blanc | E25: France | F25: =IF(B25<>"",1,0) -> 1
A26: 222 E | B26: *ZAM331B00*KB119250* | C26: 1989 | D26: ? | E26: France | F26: =IF(B26<>"",1,0) -> 1
A27: 224 | B27: *ZAM331B00*KB119315* | C27: 1989 | D27: Blanc | E27: Hollande | F27: =IF(B27<>"",1,0) -> 1
A28: 222 E | B28: *ZAM331B00*KB119347* | C28: 1989 | D28: Rouge | E28: Suède | F28: 1
A29: 224 | B29: *ZAM331B00*KB119379* | C29: 1989 | D29: ? | E29: Allemagne | F29: =IF(B29<>"",1,0) -> 1
A30: 224 | B30: *ZAM331B00*KB119383* | C30: 1989 | D30: Rouge | E30: Hollande | F30: =IF(B30<>"",1,0) -> 1
A31: 222 E | B31: *ZAM331B00*KB119423* | C31: 1989 | D31: Rouge | E31: Suisse | F31: =IF(B31<>"",1,0) -> 1
A32: 222E | B32: ZAM331B00KB119444 | C32: 1991 | E32: Japon | F32: 1
A33: 224 | B33: *ZAM331B00*KB119465* | C33: 1990 | D33: Noire | E33: Hollande | F33: =IF(B33<>"",1,0) -> 1
A34: 224 | B34: *ZAM331B00*KB119467* | C34: 1989 | D34: ? | E34: France | F34: =IF(B34<>"",1,0) -> 1
A35: 224 | B35: *ZAM331B00*KB119499* | C35: 1989 | D35: Noire | E35: France | F35: =IF(B35<>"",1,0) -> 1
A36: 224 | B36: *ZAM331B00*KB119506* | C36: 1990 | D36: Noire | E36: France | F36: =IF(B36<>"",1,0) -> 1
A37: 224 | B37: *ZAM331B00*KB119511* | C37: 1989 | D37: Rosso | E37: Belgique | F37: 1
A38: 222 E | B38: *ZAM331B00*KB119556* | C38: 1989 | D38: Noire | E38: Allemagne | F38: =IF(B38<>"",1,0) -> 1
A39: 222 | B39: *ZAM331B00*KB119627* | C39: 1989 | D39: ? | E39: France | F39: =IF(B39<>"",1,0) -> 1
A40: 224 | B40: *ZAM331B00*KB119745* | C40: 1989 | D40: Red over silver | E40: Hollande | F40: =IF(B40<>"",1,0) -> 1
A41: 224 | B41: *ZAM331B00*KB119754* | C41: 1989 | D41: Noire | E41: Hollande | F41: =IF(B41<>"",1,0) -> 1
A42: 222 | B42: *ZAM331B00*KB119777* | C42: 1990 | D42: Bleu | E42: Hollande | F42: 1
...

Sheet 4xx (Berlines) (ZAM332...)
B1: =SUM(F3:F415) -> 150 | C1: Voitures répertoriées
A2: Modèle | B2: N° Série | C2: Année | D2: Couleur | E2: Pays
A3: 425 | B3: *ZAM332B00*CB205250* | C3: 1987 | D3: Bleue | E3: France | F3: =IF(B3<>"",1,0) -> 1
A4: 425 | B4: *ZAM332B00*EB200233* | C4: 1984 | D4: Grise | E4: Espagne | F4: =IF(B4<>"",1,0) -> 1
A5: 425 | B5: *ZAM332B00*EB200435* | C5: 1985 | D5: Grise | E5: Italie | F5: =IF(B5<>"",1,0) -> 1
A6: 425 | B6: *ZAM332B00*EB200545* | C6: 1987 | E6: Norvège | F6: 1
A7: 425 | B7: *ZAM332B00*EB238400* | C7: 1984 | D7: ? | E7: Allemagne | F7: =IF(B7<>"",1,0) -> 1
A8: 425 | B8: *ZAM332B00*FB201023* | C8: 1986 | D8: ? | E8: Belgique | F8: =IF(B8<>"",1,0) -> 1
A9: 420 | B9: *ZAM332B00*FB201422* | C9: 1985 | D9: ? | E9: Italie | F9: =IF(B9<>"",1,0) -> 1
A10: 420 | B10: *ZAM332B00*FB202651* | C10: 1985 | D10: ? | E10: France | F10: =IF(B10<>"",1,0) -> 1
A11: 420 | B11: *ZAM332B00*FB203561* | C11: 1986 | D11: Grise | E11: Hollande | F11: =IF(B11<>"",1,0) -> 1
A12: 420 | B12: *ZAM332B00FB203756*HS | C12: 1986 | D12: ? | E12: France | F12: 1
A13: 420 | B13: *ZAM332B00*GB203817* | C13: 1986 | D13: Grise | E13: Belgique | F13: =IF(B13<>"",1,0) -> 1
A14: 420i | B14: *ZAM332B00*GB204249* | C14: 1986 | D14: Grise | E14: Suede | F14: =IF(B14<>"",1,0) -> 1
A15: 420 S | B15: *ZAM332B00*GB204654* | C15: 1986 | D15: Rouge | E15: Ukraine | F15: =IF(B15<>"",1,0) -> 1
B16: *ZAM332B00*GB204731* | C16: 1986 | E16: Suède | F16: 1
A17: 420 | B17: *ZAM332B00*GB204864* | C17: 1986 | D17: vert | E17: Belgique | F17: 1
B18: *ZAM332B00*GB204966* | C18: 1986 | E18: Suede | F18: 1 | G18: =HYPERLINK("https://biluppgifter.se/fordon/FUR283","*") -> *
A19: 420i | B19: *ZAM332B00*GB204999* | C19: 1986 | D19: Bleue | E19: France | F19: =IF(B19<>"",1,0) -> 1
A20: 420 | B20: *ZAM332B00*GB205093* | C20: 1987 | D20: ? | E20: Allemagne | F20: =IF(B20<>"",1,0) -> 1
A21: 420i | B21: *ZAM332B00*GB205101* | C21: 1986 | D21: ? | E21: Hollande | F21: =IF(B21<>"",1,0) -> 1
A22: 425i | B22: *ZAM332B00*HB206016* | C22: 1988 | D22: Grise | E22: Suède | F22: 1
A23: 420 Si | B23: *ZAM332B00*HB206380* | C23: 1987 | D23: Grise | E23: France | F23: =IF(B23<>"",1,0) -> 1
A24: 420 Si | B24: *ZAM332B00*HB206565* | C24: 1988 | D24: Grise | E24: Hollande | F24: =IF(B24<>"",1,0) -> 1
A25: 420 Si | B25: *ZAM332B00*HB206710* | C25: 1988 | D25: ? | E25: Italie | F25: =IF(B25<>"",1,0) -> 1
A26: 420 | B26: *ZAM332B00*HB206815* | C26: 1987 | D26: Verde Foresta | E26: Ukraine | F26: =IF(B26<>"",1,0) -> 1
A27: 420 Si | B27: *ZAM332B00*HB208710* | C27: 1988 | D27: ? | E27: Italie | F27: =IF(B27<>"",1,0) -> 1
A28: 425 | B28: *ZAM332B00*HB290029* | C28: 1986 | E28: UK | F28: 1
A29: 425i | B29: *ZAM332B00*HB290109* | C29: 1988 | D29: ? | E29: Australie | F29: =IF(B29<>"",1,0) -> 1
A30: 430 | B30: *ZAM332B00*JB207004* | C30: 1988 | D30: ? | E30: France | F30: =IF(B30<>"",1,0) -> 1
A31: 430 | B31: *ZAM332B00*JB207026* | C31: 1988 | D31: Pacific Blu | E31: Italie | F31: 1 | G31: =HYPERLINK("http://www.luzzago.com/shop_dettaglioprodotto.asp?id=1012","*") -> *
A32: 430 | B32: *ZAM332B00*JB207033* | C32: 1988 | D32: Noire | E32: Suisse | F32: =IF(B32<>"",1,0) -> 1
A33: 430 | B33: *ZAM332B00*JB207084* | C33: 1988 | D33: Grise | E33: Italie | F33: =IF(B33<>"",1,0) -> 1
A34: 430 | B34: *ZAM332B00*JB207125* | C34: 1988 | D34: ? | E34: France | F34: =IF(B34<>"",1,0) -> 1
A35: 430 | B35: *ZAM332B00*JB207166* | C35: 1988 | D35: Bleue | E35: France | F35: =IF(B35<>"",1,0) -> 1
A36: 430 | B36: *ZAM332B00*JB207171* | C36: 1988 | D36: Bleue | E36: France | F36: =IF(B36<>"",1,0) -> 1
A37: 430 | B37: *ZAM332B00*JB207213* | C37: 1989 | D37: Grise | E37: France | F37: =IF(B37<>"",1,0) -> 1
A38: 420 Si | B38: *ZAM332B00*JB207309* | C38: 1988 | D38: Noire | E38: Pologne | F38: =IF(B38<>"",1,0) -> 1
A39: 422 | B39: *ZAM332B00*JB207377* | C39: 1989 | D39: Rouge | E39: Allemagne | F39: =IF(B39<>"",1,0) -> 1
A40: 430 | B40: *ZAM332B00*JB207590* | C40: 1989 | D40: ? | E40: France | F40: =IF(B40<>"",1,0) -> 1
...

Sheet Spyders (ZAM333...)
B1: =SUM(F3:F1354) -> 146 | C1: Voitures répertoriées
A2: Modèle | B2: N° Série | C2: Année | D2: Couleur | E2: Pays
A3: Spyder III | B3: *ZAM333B00*00103054* | C3: 1996 | D3: Noir | E3: Allemagne | F3: =IF(B3<>"",1,0) -> 1
A4: Spyder III | B4: *ZAM333B00*00103056* | C4: 1995 | D4: ? | E4: Allemagne | F4: =IF(B4<>"",1,0) -> 1
A5: Spyder III | B5: *ZAM333B00*00190303* | C5: 1994 | D5: ? | E5: ? | F5: =IF(B5<>"",1,0) -> 1
A6: Spyder | B6: *ZAM333B00*FA100010* | C6: 1985 | D6: Rouge | E6: Italie | F6: =IF(B6<>"",1,0) -> 1
A7: Spyder | B7: *ZAM333B00*FA100023* | C7: 1986 | D7: ? | E7: Belgique | F7: =IF(B7<>"",1,0) -> 1
A8: Spyder | B8: *ZAM333B00*FA100027* | C8: 1985 | D8: ? | E8: France | F8: =IF(B8<>"",1,0) -> 1
A9: Spyder | B9: *ZAM333B00*FA100077* | C9: 1985 | D9: Rouge | E9: Italie | F9: =IF(B9<>"",1,0) -> 1
A10: Spyder 2,5 | B10: *ZAM333B00*FA100137* | C10: 1986 | D10: Gris | E10: Pologne | F10: =IF(B10<>"",1,0) -> 1
A11: Spyder 2,5 | B11: *ZAM333B00*FA100260* | C11: 1986 | D11: Rouge | E11: France | F11: =IF(B11<>"",1,0) -> 1
A12: Spyder | B12: *ZAM333B00*GA100400* | C12: 1986 | D12: Rosso Maserati | E12: Suisse | F12: =IF(B12<>"",1,0) -> 1
A13: Spyder E | B13: *ZAM333B00*GA100412* | C13: 1986 | D13: Rouge | E13: Suisse | F13: =IF(B13<>"",1,0) -> 1
A14: Spyder | B14: *ZAM333B00*GA100415* | C14: 1986 | D14: Rouge | E14: Italie | F14: =IF(B14<>"",1,0) -> 1
... A26: Spyder 2,5 | B26: *ZAM333B00*HA101442* | C26: 1988 | D26: Rouge | E26: Suisse | F26: =IF(B26<>"",1,0) -> 1
A27: Spyder E | B27: *ZAM333B00*HA101448* | C27: 1987 | D27: Rouge | E27: Norvège | F27: =IF(B27<>"",1,0) -> 1 | G27: =HYPERLINK("https://regnr.info/BN35518","Vol") -> Vol
A28: Spyder i | B28: *ZAM333B00*HA101454* | C28: 1988 | D28: Noir | E28: France | F28: =IF(B28<>"",1,0) -> 1
A29: Spyder E | B29: *ZAM333B00*HA101478* | C29: 1987 | D29: Rouge | E29: UK | F29: =IF(B29<>"",1,0) -> 1
A30: Spyder i | B30: *ZAM333B00*HA101499* | C30: 1988 | D30: Bleu | E30: Belgique | F30: =IF(B30<>"",1,0) -> 1
A31: Spyder | B31: *ZAM333B00*HA101603* | C31: 1988 | D31: Rosso | F31: 1 | G31: =HYPERLINK("http://www.maseratitude.com/viewtopic.php?p=83223#p83223","*") -> *
A32: Spyder | B32: *ZAM333B00*HA101669* | C32: 1988 | D32: ? | E32: Suede | F32: =IF(B32<>"",1,0) -> 1
A33: Spyder E | B33: *ZAM333B00*HA190004* | C33: 1988 | D33: ? | E33: UK | F33: =IF(B33<>"",1,0) -> 1
A34: Spyder | B34: *ZAM333B00*HA190039* | C34: 1987 | D34: Rosso Maserati | E34: Australie | F34: =IF(B34<>"",1,0) -> 1
A35: Spyder 2,5 | B35: *ZAM333B00*HA190059* | C35: 1987 | E35: USA | F35: 1 | G35: *
A36: Spyder 2.5 | B36: *ZAM333B00*HA190066* | C36: 1988 | D36: Rosso | E36: UK | F36: 1
A37: Spyder SE | B37: *ZAM333B00*HA190086* | C37: 1988 | D37: Nero Carbonio | E37: UK | F37: =IF(B37<>"",1,0) -> 1
A38: Spyder E | B38: *ZAM333B00*HA190096* | C38: 1987 | D38: Rouge | E38: Australie | F38: =IF(B38<>"",1,0) -> 1
A39: Spyder i | B39: *ZAM333B00*JA101820* | C39: 1989 | D39: ? | E39: Belgique | F39: =IF(B39<>"",1,0) -> 1
A40: Spyder | B40: *ZAM333B00*JA101823* | C40: 1988 | D40: ? | E40: France | F40: =IF(B40<>"",1,0) -> 1
A41: Spyder i | B41: *ZAM333B00*JA101826* | C41: 1988 | D41: ? | E41: France | F41: =IF(B41<>"",1,0) -> 1
A42: Spyder SE | B42: *ZAM333B00*JA101984* | C42: 1990 | D42: Bleu | E42: Allemagne | F42: =IF(B42<>"",1,0) -> 1
A43: Spyder 2,8 | B43: *ZAM333B00*JA190166* | C43: 1989 | D43: Blanc | E43: UK | F43: =IF(B43<>"",1,0) -> 1
A44: Spyder E | B44: *ZAM333B00*KA102031* | C44: 1989 | D44: Rouge | E44: France | F44: =IF(B44<>"",1,0) -> 1
A45: Spyder III | B45: *ZAM333B00*KA102145* | C45: 1989 | D45: Rouge | E45: Espagne | F45: =IF(B45<>"",1,0) -> 1
A46: Spyder 2,0 | B46: *ZAM333B00*KA102185* | C46: 1989 | D46: ? | E46: France | F46: =IF(B46<>"",1,0) -> 1
A47: Spyder SE | B47: *ZAM333B00*KA102314* | C47: 1990 | D47: Noir | E47: France | F47: =IF(B47<>"",1,0) -> 1
A48: Spyder SE | B48: *ZAM333B00*KA102314* | C48: 1991 | D48: Noir | E48: France | F48: =IF(B48<>"",1,0) -> 1
... A52: Spyder | B52: *ZAM333B00*KA190182* | C52: 1989 | D52: Rouge | E52: UK | F52: =IF(B52<>"",1,0) -> 1
A53: Spyder | B53: *ZAM333B00*LA102374* | C53: 1990 | D53: Rouge | E53: France | F53: 1
A54: Spyder SE | B54: *ZAM333B00*LA102382* | C54: 1990 | D54: Noir | E54: France | F54: =IF(B54<>"",1,0) -> 1
...

Sheet 228 (ZAM334...)
B1: =SUM(F3:F305) -> 20 | C1: Voitures répertoriées
A2: Modèle | B2: N° Série | C2: Année | D2: Couleur | E2: Pays
A3: 228 | B3: *ZAM334B00*FA100188* | C3: 1988 | D3: Argent | E3: Italie | F3: =IF(B3<>"",1,0) -> 1
A4: 228 | B4: *ZAM334B00*HA100174* | C4: 1987 | D4: Grise | E4: Italie | F4: =IF(B4<>"",1,0) -> 1
A5: 228 | B5: ZAM334B00*HA100241*. | C5: 1987 | D5: Blue metallic. | E5: Suisse | F5: 1
A6: 228 | B6: *ZAM334B00*HA100271* | C6: 1988 | D6: Grise | E6: Suisse | F6: =IF(B6<>"",1,0) -> 1
A7: 228 | B7: *ZAM334B00*HA100836* | C7: 1987 | D7: ? | E7: Belgique | F7: =IF(B7<>"",1,0) -> 1
A8: 228 | B8: *ZAM334B00*JA100362* | C8: 1988 | D8: Bleue | E8: Hollande | F8: =IF(B8<>"",1,0) -> 1
A9: 228 | B9: *ZAM334B00*JA100367* | C9: 1988 | D9: Noire | E9: Allemagne | F9: =IF(B9<>"",1,0) -> 1
A10: 228 | B10: *ZAM334B00*JA100388* | C10: 1988 | D10: Blanche | E10: Croatie | F10: =IF(B10<>"",1,0) -> 1
A11: 228 | B11: *ZAM334B00*JA100393* | E11: Italie | F11: 1
A12: 228 | B12: *ZAM334B00*KA100462* | C12: 1989 | D12: ? | E12: Suisse | F12: =IF(B12<>"",1,0) -> 1
A13: 228 | B13: *ZAM334B00*KA100469* | C13: 1989 | D13: Noire | E13: Hollande | F13: =IF(B13<>"",1,0) -> 1
A14: 228 | B14: *ZAM334B00*KA190005* | C14: 1990 | D14: Noire | E14: UK | F14: =IF(B14<>"",1,0) -> 1
A15: 228 | B15: *ZAM334B00*KA190021* | C15: 1989 | D15: ? | E15: Australie | F15: =IF(B15<>"",1,0) -> 1
A16: 228 | B16: ZAM334B00KKA190036 | C16: 1990 | D16: Noire | E16: UK | F16: 1
A17: 228 | B17: *ZAM334B00*LA100547* | C17: 1992 | D17: ? | E17: Allemagne | F17: =IF(B17<>"",1,0) -> 1
A18: 228 | B18: *ZAMAN1102*KA340334* | C18: 1989 | D18: Noire | E18: USA | F18: 1 | G18: *Salvage
A19: 228 | B19: *ZAMAN1104*KA340349* | C19: 1989 | D19: Grise | E19: USA | F19: =IF(B19<>"",1,0) -> 1
A20: 228 | B20: *ZAMAN1108*KA340337* | C20: 1989 | D20: Bleue | E20: USA | F20: =IF(B20<>"",1,0) -> 1
A21: 228 | B21: *ZAMAN1109*KA340332* | C21: 1989 | D21: Blanche | E21: UK | F21: 1
A22: 228 | B22: *ZAMBN110X*KA340369* | C22: 1989 | D22: Rouge | E22: USA | F22: =IF(B22<>"",1,0) -> 1
F23: =IF(B23<>"",1,0) -> 0
F24: =IF(B24<>"",1,0) -> 0
F25: =IF(B25<>"",1,0) -> 0
F26: =IF(B26<>"",1,0) -> 0
F27: =IF(B27<>"",1,0) -> 0
F28: =IF(B28<>"",1,0) -> 0
F29: =IF(B29<>"",1,0) -> 0
F30: =IF(B30<>"",1,0) -> 0
F31: =IF(B31<>"",1,0) -> 0
F32: =IF(B32<>"",1,0) -> 0
F33: =IF(B33<>"",1,0) -> 0
F34: =IF(B34<>"",1,0) -> 0
... F106: =IF(B106<>"",1,0) -> 0

Sheet QP4 (ZAM337...)
A1: Le registre d'Enrico pour les QP4 :
A2: http://www.maserati-alfieri.co.uk/alfieri291.htm
B4: =SUM(F6:F327) -> 75 | C4: Voitures répertoriées
A5: Modèle | B5: N° Série | C5: Année | D5: Couleur | E5: Pays
A6: QP4 2,8 | B6: *ZAM337B00*00330122* | C6: 1994 | D6: Grise | E6: Hollande | F6: =IF(B6<>"",1,0) -> 1
A7: QP4 2,0 | B7: *ZAM337B00*00330137* | C7: 1996 | D7: Bleu | E7: Italie | F7: =IF(B7<>"",1,0) -> 1
A8: QP4 2,0 | B8: *ZAM337B00*00330185* | C8: 1995 | D8: Bleu | E8: Grece | F8: =IF(B8<>"",1,0) -> 1
A9: QP4 2,0 | B9: *ZAM337B00*00330271* | C9: 1995 | D9: ? | E9: Italie | F9: =IF(B9<>"",1,0) -> 1
A10: QP4 2,0 | B10: *ZAM337B00*00330280* | C10: 1994 | D10: Vert | E10: Hollande | F10: =IF(B10<>"",1,0) -> 1
A11: QP4 2,0 | B11: *ZAM337B00*00330291* | C11: 1994 | D11: Grise | E11: Hollande | F11: =IF(B11<>"",1,0) -> 1
A12: QP4 2.0 | B12: *ZAM337B00*00330297* | C12: 1995 | D12: Vert | E12: France | F12: 1
A13: QP4 | B13: *ZAM337B00*00330307* (HS) | C13: ? | D13: ? | E13: ? | F13: =IF(B13<>"",1,0) -> 1
A14: QP4 2.0 | B14: *ZAM337B00*00330348* | C14: 1996 | D14: bordeaux | E14: Hollande | F14: 1
A15: QP4 2,8 | B15: *ZAM337B00*00330349* | C15: 1998 | D15: Grise | E15: Allemagne | F15: =IF(B15<>"",1,0) -> 1
A16: QP4 | B16: *ZAM337B00*00330405* (HS) | C16: ? | D16: ? | E16: ? | F16: =IF(B16<>"",1,0) -> 1
A17: QP4 2,0 | B17: *ZAM337B00*00330438* | C17: 1996 | D17: Noire | E17: France | F17: =IF(B17<>"",1,0) -> 1
A18: QP4 2,8 | B18: *ZAM337B00*00330454* | C18: ? | D18: ? | E18: ? | F18: =IF(B18<>"",1,0) -> 1
A19: QP4 2,8 | B19: *ZAM337B00*00330517* | C19: 1995 | D19: Noire | E19: Hollande | F19: =IF(B19<>"",1,0) -> 1
A20: QP4 2,8 | B20: *ZAM337B00*00330564* | C20: 1996 | D20: ? | E20: Allemagne | F20: =IF(B20<>"",1,0) -> 1
A21: QP4 2.8 | B21: *ZAM337B00*00330603* | C21: 1996 | D21: Noire | E21: Belgique | F21: 1
A22: QP4 | B22: *ZAM337B00*00330619* | C22: ? | D22: Bleu | E22: Suisse | F22: =IF(B22<>"",1,0) -> 1
A23: QP4 2,8 | B23: *ZAM337B00*00330664* | C23: 1996 | D23: Vert | E23: Belgique | F23: 1 | G23: =HYPERLINK("http://www.maseratitude.com/viewtopic.php?p=86676#p86676","*") -> *
A24: QP4 2,8 | B24: *ZAM337B00*00330697* | C24: 1996 | D24: Grise | E24: Allemagne | F24: =IF(B24<>"",1,0) -> 1
A25: QP4 2,0 | B25: *ZAM337B00*00330819* | C25: 1996 | D25: Bleu | E25: Hollande | F25: =IF(B25<>"",1,0) -> 1
A26: QP4 2.8 | B26: *ZAM337B00*00330847* | C26: 1996 | D26: Verde Toundra | E26: Belgique | F26: 1
A27: QP4 2,8 | B27: *ZAM337B00*00330922* | C27: 1999 | D27: Bleu | E27: Hollande | F27: =IF(B27<>"",1,0) -> 1
A28: QP4 | B28: *ZAM337B00*00330997* | C28: ? | D28: Grise | E28: Hollande | F28: =IF(B28<>"",1,0) -> 1
A29: QP4 3,2 | B29: *ZAM337B00*00331030* | C29: 1997 | D29: ? | E29: Suisse | F29: =IF(B29<>"",1,0) -> 1
A30: QP4 3,2 | B30: *ZAM337B00*00331033* | C30: 1997 | D30: ? | E30: France | F30: =IF(B30<>"",1,0) -> 1
A31: QP4 3,2 | B31: *ZAM337B00*00331089* | C31: 1997 | D31: Bleu | E31: UK | F31: =IF(B31<>"",1,0) -> 1
A32: QP4 2.8 | B32: *ZAM337B00*00331137* | C32: 1998 | D32: Grise | E32: Belgique | F32: 1
A33: QP4 2,8 | B33: *ZAM337B00*00331141* | C33: 1996 | D33: Noire | E33: France | F33: =IF(B33<>"",1,0) -> 1
A34: QP4 3,2 | B34: *ZAM337B00*00331181* | C34: 1997 | D34: Bleu | E34: Allemagne | F34: =IF(B34<>"",1,0) -> 1
A35: QP4 3,2 | B35: *ZAM337B00*00331185* | C35: ? | D35: ? | E35: France | F35: =IF(B35<>"",1,0) -> 1
A36: QP4 2,8 | B36: *ZAM337B00*00331207* | C36: 1998 | E36: Japon | F36: 1
A37: QP4 3,2 | B37: *ZAM337B00*00331213* | C37: 1997 | E37: Japon | F37: 1
A38: QP4 2,0 | B38: *ZAM337B00*00331310* | C38: ? | D38: ? | E38: Hollande | F38: =IF(B38<>"",1,0) -> 1
A39: QP4 2,0 | B39: *ZAM337B00*00331323* | C39: 1998 | D39: Bleu | E39: Italie | F39: =IF(B39<>"",1,0) -> 1
A40: QP4 | B40: *ZAM337B00*00331325* | C40: 1997 | D40: Grise | E40: Belgique | F40: =IF(B40<>"",1,0) -> 1
A41: QP4 3,2 | B41: *ZAM337B00*00331400* | C41: 1997 | D41: Bleu | E41: Suisse | F41: =IF(B41<>"",1,0) -> 1
...

Sheet Ghibli (ZAM336...)
A1: Le registre d'Enrico pour les Ghibli :
A2: http://www.maserati-alfieri.co.uk/alfieri241.htm
A3: Le registre d'Enrico pour les Ghibli Cup LHD (en bas de page) :
A4: http://www.maserati-alfieri.co.uk/alfieri241.htm
A5: Le registre d'Enrico pour les Ghibli Cup RHD :
A6: http://www.maserati-alfieri.co.uk/alfieri-ghiblicup-rhd.htm
B8: =SUM(F10:F346) -> 118 | C8: Voitures répertoriées
A9: Modèle | B9: N° Série | C9: Année | D9: Couleur | E9: Pays
A10: Ghibli x.x | B10: *ZAM336B00*00360171* | C10: 1993 | D10: ? | E10: Espagne | F10: =IF(B10<>"",1,0) -> 1
A11: Ghibli 2,0 | B11: *ZAM336B00*00360218* | C11: 1994 | D11: Noire | E11: Italie | F11: =IF(B11<>"",1,0) -> 1
A12: Ghibli 2,8 | B12: ZAM336B0000360925 | C12: 1995 | D12: Bleu | E12: Japon | F12: 1
A13: Ghibli 2.0 | B13: ZAM336B0000360927 | C13: 1994 | E13: France | F13: 1
A14: Ghibli 2,8 | B14: *ZAM336B00*00360982* | C14: 1995 | D14: ? | E14: Hollande | F14: =IF(B14<>"",1,0) -> 1
A15: Ghibli 2,0 | B15: *ZAM336B00*00360983* | C15: 1994 | D15: Bleu | E15: Hollande | F15: =IF(B15<>"",1,0) -> 1
B16: *ZAM336B00*00360997* | E16: Turquie | F16: 1
A17: Ghibli GT 2,0 | B17: *ZAM336B00*00361???* | C17: 1997 | D17: Nero Siderale | E17: Italie | F17: =IF(B17<>"",1,0) -> 1
A18: Ghibli GT x.x | B18: *ZAM336B00*00361018* | C18: 1996 | D18: ? | E18: Italie | F18: =IF(B18<>"",1,0) -> 1
A19: Ghibli GT x.x | B19: *ZAM336B00*00361024* | C19: 1996 | D19: ? | E19: Turquie | F19: =IF(B19<>"",1,0) -> 1
A20: Ghibli 2,8 | B20: ZAM336B0000361061 | C20: 1995 | D20: Bleu | E20: Pays Bas | F20: 1
A21: Ghibli 2,0 | B21: *ZAM336B00*00361101* | C21: 1996 | D21: Bleu | E21: France | F21: =IF(B21<>"",1,0) -> 1
A22: Ghibli GT 2,0 | B22: *ZAM336B00*00361110* | C22: 1996 | D22: Bleu | E22: France | F22: =IF(B22<>"",1,0) -> 1
A23: Ghibli | B23: *ZAM336B00*00361130* | C23: 1996 | E23: Japon | F23: 1 | G23: =HYPERLINK("http://www.maseratitude.com/viewtopic.php?p=84916#p84916","*") -> *
A24: Ghibli 2,0 | B24: *ZAM336B00*00361142* | C24: 1995 | D24: Bleu | E24: Italie | F24: =IF(B24<>"",1,0) -> 1
A25: Ghibli GT x.x | B25: *ZAM336B00*00361186* | C25: 1995 | D25: ? | E25: Italie | F25: =IF(B25<>"",1,0) -> 1
A26: Ghibli 2,0 | B26: *ZAM336B00*00361204* | C26: 1996 | D26: ? | E26: Italie | F26: =IF(B26<>"",1,0) -> 1
A27: Ghibli Cup | B27: ZAM336B00*00361220 | C27: 1995 | D27: Bianco Alpi | E27: US | F27: 1
A28: Ghibli Cup | B28: ZAM336B00*00361224 | F28: 1
A29: Ghibli Open Cup | B29: *ZAM336B00*00361226* | C29: 1995 | D29: Jaune | E29: UK | F29: =IF(B29<>"",1,0) -> 1
A30: Ghibli Cup | B30: ZAM336B00*00361232 | F30: 1
A31: Ghibli GT 2,0 | B31: *ZAM336B00*00361242* | C31: 1995 | E31: Norvège | F31: 1 | G31: =HYPERLINK("https://regnr.info/RZ21695","*") -> *
A32: Ghibli GT 2,0 | B32: *ZAM336B00*00361270* | C32: 1996 | D32: Vert | E32: Hollande | F32: =IF(B32<>"",1,0) -> 1
A33: Ghibli GT | B33: *ZAM336B00*00361273* | F33: 1
A34: Ghibli GT 2,8 | B34: *ZAM336B00*00361310* | C34: 1995 | D34: Vert | E34: Espagne | F34: =IF(B34<>"",1,0) -> 1
A35: Ghibli GT x.x | B35: *ZAM336B00*00361393* | C35: 1995 | D35: ? | E35: Italie | F35: =IF(B35<>"",1,0) -> 1
A36: Ghibli GT 2,8 | B36: *ZAM336B00*00361399* | C36: 1996 | D36: Vert | E36: Suisse | F36: =IF(B36<>"",1,0) -> 1
A37: Ghibli GT 2,8 | B37: *ZAM336B00*00361401* | C37: 1995 | D37: Bordeaux | E37: Belgique | F37: =IF(B37<>"",1,0) -> 1
A38: Ghibli GT 2,0 | B38: *ZAM336B00*00361422* | C38: ? | D38: Bleue | E38: France | F38: =IF(B38<>"",1,0) -> 1
A39: Ghibli GT 2.0 | B39: *ZAM336B00*00361436* | C39: 1996 | D39: Rosso Oriente | E39: Allemagne | F39: 1
A40: Ghibli GT 2.0 | B40: *ZAM336B00*00361443* | F40: 1
A41: Ghibli Cup | B41: *ZAM336B00*00361463* | C41: ? | D41: ? | E41: Grece | F41: =IF(B41<>"",1,0) -> 1
...

Sheet 3200GT (ZAM338...)
A1: M. à j.18 juin 2020 | B1: =SUM(F3:F508) -> 209 | C1: Voitures répertoriées
A2: Modèle | B2: N° Série | C2: Année | D2: Couleur | E2: Pays
A3: 3200GT | B3: *ZAMAA38A00*0000002* | C3: 1999 | D3: Grise | E3: Italie | F3: =IF(B3<>"",1,0) -> 1
A4: 3200GT | B4: *ZAMAA38A00*0000101* | C4: 1999 | D4: Grise | E4: Suède | F4: 1 | G4: =HYPERLINK("https://biluppgifter.se/fordon/BPH612","*") -> *
A5: 3200GT | B5: *ZAMAA38A00*0000116* | C5: 1999 | D5: Grise | E5: Suède | F5: 1
A6: 3200GT | B6: *ZAMAA38A00*0000147* | C6: 2000 | D6: Grise | E6: Espagne | F6: =IF(B6<>"",1,0) -> 1
A7: 3200GT | B7: *ZAMAA38A00*0000179* | C7: 1999 | D7: Rouge | E7: Japon | F7: 1 | G7: =HYPERLINK("http://www.maseratitude.com/viewtopic.php?p=84916#p84916","*") -> *
A8: 3200GT | B8: *ZAMAA38A00*0000205* | C8: 1999 | D8: ? | E8: France | F8: =IF(B8<>"",1,0) -> 1
A9: 3200GT | B9: *ZAMAA38A*000000237* | C9: 1999 | D9: Grise | E9: France | F9: 1
A10: 3200GT | B10: ZAMAA38A000000276 | C10: 1999 | D10: Blu Nettuno | E10: Rep. Tcheque | F10: 1
A11: 3200GT | B11: *ZAMAA38A00*0000327* | D11: Blu Nettuno | E11: France | F11: 1
A12: 3200GT | B12: *ZAMAA38A00*0000332* | C12: 1999 | D12: Noir | E12: France | F12: =IF(B12<>"",1,0) -> 1
A13: 3200GTA | B13: *ZAMAA38B00*0000334* | C13: 1999 | D13: Vert | E13: Allemagne | F13: 1
A14: 3200GT | B14: *ZAMAA38A00*0000336* | C14: 1999 | E14: Japon | F14: 1 | G14: =HYPERLINK("http://www.maseratitude.com/viewtopic.php?p=84916#p84916","*") -> *
A15: 3200GTA | B15: *ZAMAA38B00*0000361* | C15: 1999 | D15: Grigrio Touring | E15: France | F15: 1
A16: 3200GTA | B16: *ZAMAA38B00*0000376* | C16: 1999 | D16: Blu Nettuno | E16: France | F16: 1
A17: 3200GTA | B17: *ZAMAA38B00*0000378* | C17: 1999 | D17: Noir | E17: Suède | F17: 1
A18: 3200GT | B18: *ZAMAA38A00*0000409* | C18: 1999 | D18: Grise | E18: Hollande | F18: 1 | G18: =HYPERLINK("http://www.maseratitude.com/viewtopic.php?p=85818#p85818","*") -> *
A19: 3200GT | B19: *ZAMAA38A00*0000435* | C19: 1999 | D19: Grigio Touring | E19: Suède | F19: 1
A20: 3200GT | B20: *ZAMAA38A00*000473* | C20: 1999 | D20: Verde | E20: Belgique | F20: 1
A21: 3200GT | B21: ZAMAA38A000000484 | C21: 1999 | D21: Grigio Alfieri | E21: Belgique | F21: 1
A22: 3200GT | B22: *ZAMAA38A00*0000490* | C22: 1999 | D22: Grigrio Touring | E22: France | F22: 1
A23: 3200GT | B23: *ZAMAA38A00*0000507* | C23: 1999 | D23: Noir | E23: Suède | F23: 1 | G23: =HYPERLINK("https://biluppgifter.se/fordon/EDY024","*") -> *
A24: 3200 GT | B24: *ZAMAA38A00*0000539* | C24: 2000 | D24: Nero | E24: Hollande | F24: 1
A25: 3200GT | B25: *ZAMAA38?00*0000562* | C25: 1999 | D25: Grigio Touring | E25: Italie | F25: 1
A26: 3200GT | B26: *ZAMAA38A00*0000602* | C26: 2000 | D26: Noir | E26: France | F26: =IF(B26<>"",1,0) -> 1
A27: 3200GT | B27: *ZAMAA38A00*0000632* | C27: 1999 | D27: Grise | E27: Hollande | F27: =IF(B27<>"",1,0) -> 1
A28: 3200GTA | B28: *ZAMAA38B00*000635* | C28: 1999 | D28: Grise | E28: Japon | F28: 1
A29: 3200GTA | B29: *ZAMAA38B00*0000661* | C29: 1999 | D29: Grise | E29: France | F29: 1
A30: 3200 GTA | B30: *ZAMMA38D00*0000665* | C30: 1999 | D30: Grigio Alfieri | E30: UK | F30: 1
A31: 3200GT | B31: *ZAMAA38C00*0000687* | C31: 1999 | D31: Bleu | E31: France | F31: 1
A32: 3200Gt | B32: *ZAMAA38A00*0000688* | C32: 2000 | E32: Norvège | F32: 1 | G32: =HYPERLINK("https://regnr.info/BP48718","*") -> *
A33: 3200GT | B33: *ZAMAA38A00*0000726* | C33: 1999 | D33: Blu Nettuno | E33: France | F33: =IF(B33<>"",1,0) -> 1
A34: 3200GT | B34: *ZAMAA38A00*0000755* | C34: 2000 | D34: Grise sombre | E34: France | F34: 1
A35: 3200GTA | B35: *ZAMAA38B00*0000771* | C35: 1999 | D35: Blu | E35: Allemagne | F35: 1 | G35: =HYPERLINK("http://www.nufa.net/MASERATI-(I)-3200-GT-in-Bovenden_Detailansicht_2910.html","*") -> *
A36: 3200GT | B36: *ZAMAA38A00*0000845* | C36: 1999 | D36: Gris Alfieri | E36: France | F36: 1
A37: 3200 GTA | B37: *ZAMAA38B00*0000871* | C37: 1999 | D37: Gris | E37: Belgique | F37: 1
A38: 3200 GTA | B38: *ZAMAA38B00*0000894* | C38: 1999 | E38: Japon | F38: 1
A39: 3200GT | B39: *ZAMAA38C00*0000914* | C39: 1999 | D39: Grise | E39: France | F39: 1
A40: 3200 GT | B40: *ZAMAA38C00*0000924* | C40: 2000 | D40: Grise | E40: UK | F40: 1
...

Sheet Karif, Shamal (ZAM339...)
B1: =SUM(F6:F354) -> 122 | C1: Voitures répertoriées
A2: Le registre Enrico pour les Karif : | C2: http://www.maserati-alfieri.co.uk/alfieri294.htm
A3: Le registre Enrico pour les Shamal : | C3: http://www.maserati-alfieri.co.uk/alfieri248.htm
A4: Le registre des Shamal | C4: =HYPERLINK("http://shamal.jp/register_p/register.html","http://shamal.jp/register_p/register.html") -> http://shamal.jp/register_p/register.html
A5: Modèle | B5: N° Série | C5: Année | D5: Couleur | E5: Pays
A6: Shamal | B6: *ZAM339B00*00300352* | C6: 1995 | D6: Blanche | E6: Japon | F6: =IF(B6<>"",1,0) -> 1
A7: Shamal | B7: *ZAM339B00*00320023* | C7: 1996 | D7: Noir | E7: UK | F7: =IF(B7<>"",1,0) -> 1
A8: Shamal | B8: *ZAM339B00*00320026* | C8: 1994 | D8: Noir | E8: Australie | F8: 1
A9: Shamal | B9: *ZAM339B00*00320029* | C9: 1996 | D9: ? | E9: UK | F9: =IF(B9<>"",1,0) -> 1
A10: Karif | B10: *ZAM339B00*JA100004* | C10: 1988 | D10: Rouge | E10: Suisse | F10: =IF(B10<>"",1,0) -> 1
A11: Karif | B11: *ZAM339B00*JA100018* | C11: 1988 | D11: Rouge | E11: Allemagne | F11: =IF(B11<>"",1,0) -> 1
A12: Karif | B12: *ZAM339B00*JA100025* | C12: 1989 | D12: Noir | E12: Suisse | F12: =IF(B12<>"",1,0) -> 1
A13: Karif | B13: *ZAM339B00*JA100028* | C13: 1989 | D13: Noir | E13: Hollande | F13: =IF(B13<>"",1,0) -> 1
A14: Karif | B14: *ZAM339B00*JA100048* | C14: 1989 | D14: Noir | E14: Hollande | F14: =IF(B14<>"",1,0) -> 1
A15: Karif | B15: *ZAM339B00*JA100071* | C15: 1988 | D15: Noir | E15: Japon | F15: =IF(B15<>"",1,0) -> 1
A16: Karif | B16: *ZAM339B00*JA190001* | C16: 1989 | D16: Rouge | E16: UK | F16: =IF(B16<>"",1,0) -> 1
A17: Karif | B17: *ZAM339B00*KA100096* | C17: 1991 | D17: Noir | E17: Turquie | F17: =IF(B17<>"",1,0) -> 1
A18: Karif | B18: *ZAM339B00*KA100103* | C18: 1989 | D18: Rouge | E18: France | F18: =IF(B18<>"",1,0) -> 1
A19: Karif | B19: *ZAM339B00*KA100107* | C19: 1989 | D19: Grise | E19: France | F19: =IF(B19<>"",1,0) -> 1
A20: Karif | B20: *ZAM339B00*KA100136* | C20: 1989 | D20: Blanche | E20: USA | F20: =IF(B20<>"",1,0) -> 1
... A40: Shamal | B40: *ZAM339B00*LA300016* | C40: 1990 | D40: Rosso Maserati | E40: Italie | F40: =IF(B40<>"",1,0) -> 1
A41: Shamal | B41: *ZAM339B00*LA300018* | C41: 1991 | E41: Suède | F41: 1
A42: Shamal | B42: *ZAM339B00*LA300019* | C42: 1990 | D42: Rosso Maserati | E42: Portugal | F42: =IF(B42<>"",1,0) -> 1
A43: Shamal | B43: ZAM339B00*LA300020* | C43: 1991 | D43: Rosso Maserati | F43: 1
A44: Shamal | B44: *ZAM339B00*LA300024* | C44: 1990 | D44: Rosso Maserati | E44: Japon | F44: =IF(B44<>"",1,0) -> 1
A45: Shamal | B45: *ZAM339B00*LA300027* | C45: 1991 | D45: Griggio Silver | E45: Allemagne | F45: =IF(B45<>"",1,0) -> 1
A46: Shamal | B46: *ZAM339B00*MA300029* | C46: 1991 | D46: Rosso Maserati | E46: Italie | F46: =IF(B46<>"",1,0) -> 1
A47: Shamal | B47: *ZAM339B00*MA300034* | C47: 1991 | D47: Rosso Maserati | E47: Italie | F47: =IF(B47<>"",1,0) -> 1
A48: Shamal | B48: *ZAM339B00*MA300035* | C48: 1991 | D48: Dazing Black | E48: France | F48: =IF(B48<>"",1,0) -> 1
A49: Shamal | B49: *ZAM339B00*MA300035* | C49: 1991 | D49: Nero | E49: France | F49: =IF(B49<>"",1,0) -> 1
A50: Shamal | B50: *ZAM339B00*MA300037* | C50: 1991 | D50: Rosso Maserati | E50: UK | F50: =IF(B50<>"",1,0) -> 1
A51: Shamal | B51: *ZAM339B00*MA300060* | C51: 1990 | D51: Dazing Black | E51: Suisse | F51: 1 | G51: =HYPERLINK("https://www.bonhams.com/auctions/24882/preview_lot/5138216/?category=list&length=10&page=6","*") -> *
A52: Shamal | B52: *ZAM339B00*MA300070* | C52: 1992 | D52: Rouge | E52: France | F52: =IF(B52<>"",1,0) -> 1
A53: Shamal | B53: *ZAM339B00*MA300082* | C53: 1991 | D53: Rouge | E53: Japon | F53: =IF(B53<>"",1,0) -> 1
A54: Shamal | B54: *ZAM339B00*MA300090* | C54: 1990 | D54: Grigio Silver | E54: Allemagne | F54: =IF(B54<>"",1,0) -> 1
A55: Shamal | B55: *ZAM339B00*MA300098* | C55: 1991 | D55: Rouge | E55: Suisse | F55: =IF(B55<>"",1,0) -> 1
A56: Shamal | B56: *ZAM339B00*MA300099* | C56: 1991 | D56: Dazing Black | E56: Suisse | F56: =IF(B56<>"",1,0) -> 1
A57: Shamal | B57: *ZAM339B00*MA300104* | C57: 1991 | D57: Rouge | E57: Japon | F57: =IF(B57<>"",1,0) -> 1
A58: Shamal | B58: *ZAM339B00*MA300105* | C58: 1991 | D58: Dazing Black | E58: Japon | F58: =IF(B58<>"",1,0) -> 1
A59: Shamal | B59: *ZAM339B00*MA300115* | C59: 1991 | D59: Rouge | E59: Japon | F59: =IF(B59<>"",1,0) -> 1
...

Sheet Cumuls
B1: Type | C1: Zam | D1: Année | E1: Couleur | F1: Origine | G1: =SUM(G2:G1196) -> #REF!
A2: Biturbo | B2: ='Biturbo (ZAM331...)'!A4 -> Biturbo | C2: ='Biturbo (ZAM331...)'!B4 -> *ZAM331B00*BB100163* | D2: ='Biturbo (ZAM331...)'!C4 -> 1981 | E2: ='Biturbo (ZAM331...)'!D4 -> ? | F2: ='Biturbo (ZAM331...)'!E4 -> Hollande | G2: =IF(B2<>"",1,0) -> 1 | H2: =SUM(G2:G127) -> 126
B3: ='Biturbo (ZAM331...)'!A6 -> Biturbo E | C3: ='Biturbo (ZAM331...)'!B6 -> *ZAM331B00*CB100368* | D3: ='Biturbo (ZAM331...)'!C6 -> 1982 | E3: ='Biturbo (ZAM331...)'!D6 -> Gris | F3: ='Biturbo (ZAM331...)'!E6 -> Hollande | G3: =IF(B3<>"",1,0) -> 1
B4: ='Biturbo (ZAM331...)'!A7 -> Biturbo | C4: ='Biturbo (ZAM331...)'!B7 -> *ZAM331B00*CB100508* | D4: ='Biturbo (ZAM331...)'!C7 -> 1982 | E4: ='Biturbo (ZAM331...)'!D7 -> Marron | F4: ='Biturbo (ZAM331...)'!E7 -> Allemagne | G4: =IF(B4<>"",1,0) -> 1
B5: ='Biturbo (ZAM331...)'!A8 -> Biturbo | C5: ='Biturbo (ZAM331...)'!B8 -> *ZAM331B00*CB100618* | D5: ='Biturbo (ZAM331...)'!C8 -> 1982 | E5: ='Biturbo (ZAM331...)'!D8 -> Vert | F5: ='Biturbo (ZAM331...)'!E8 -> Hollande | G5: =IF(B5<>"",1,0) -> 1
B6: ='Biturbo (ZAM331...)'!A9 -> Biturbo | C6: ='Biturbo (ZAM331...)'!B9 -> *ZAM331B00*CB101506* | D6: ='Biturbo (ZAM331...)'!C9 -> 1982 | E6: ='Biturbo (ZAM331...)'!D9 -> ? | F6: ='Biturbo (ZAM331...)'!E9 -> UK | G6: =IF(B6<>"",1,0) -> 1
B7: ='Biturbo (ZAM331...)'!A10 -> Biturbo | C7: ='Biturbo (ZAM331...)'!B10 -> *ZAM331B00*CB101944* | D7: ='Biturbo (ZAM331...)'!C10 -> 1982 | E7: ='Biturbo (ZAM331...)'!D10 -> Vert | F7: ='Biturbo (ZAM331...)'!E10 -> France | G7: =IF(B7<>"",1,0) -> 1
B8: ='Biturbo (ZAM331...)'!A13 -> Biturbo | C8: ='Biturbo (ZAM331...)'!B13 -> *ZAM331B00*DB102594* | D8: ='Biturbo (ZAM331...)'!C13 -> 1983 | E8: ='Biturbo (ZAM331...)'!D13 -> ? | F8: ='Biturbo (ZAM331...)'!E13 -> France | G8: =IF(B8<>"",1,0) -> 1
B9: ='Biturbo (ZAM331...)'!A14 -> Biturbo S | C9: ='Biturbo (ZAM331...)'!B14 -> *ZAM331B00*DB102938* | D9: ='Biturbo (ZAM331...)'!C14 -> 1983 | E9: ='Biturbo (ZAM331...)'!D14 -> ? | F9: ='Biturbo (ZAM331...)'!E14 -> France | G9: =IF(B9<>"",1,0) -> 1
B10: ='Biturbo (ZAM331...)'!A16 -> Biturbo | C10: ='Biturbo (ZAM331...)'!B16 -> *ZAM331B00*DB103158* | D10: ='Biturbo (ZAM331...)'!C16 -> 1983 | E10: ='Biturbo (ZAM331...)'!D16 -> Vert | F10: ='Biturbo (ZAM331...)'!E16 -> Hollande | G10: =IF(B10<>"",1,0) -> 1
B11: ='Biturbo (ZAM331...)'!A17 -> Biturbo | C11: ='Biturbo (ZAM331...)'!B17 -> *ZAM331B00*DB103572* | D11: ='Biturbo (ZAM331...)'!C17 -> 1983 | E11: ='Biturbo (ZAM331...)'!D17 -> ? | F11: ='Biturbo (ZAM331...)'!E17 -> Pologne | G11: =IF(B11<>"",1,0) -> 1
B12: ='Biturbo (ZAM331...)'!A19 -> Biturbo | C12: ='Biturbo (ZAM331...)'!B19 -> *ZAM331B00*DB104773* | D12: ='Biturbo (ZAM331...)'!C19 -> 1983 | E12: ='Biturbo (ZAM331...)'!D19 -> Marrone Metallizzata | F12: ='Biturbo (ZAM331...)'!E19 -> Italie | G12: =IF(B12<>"",1,0) -> 1
B13: ='Biturbo (ZAM331...)'!A20 -> Biturbo | C13: ='Biturbo (ZAM331...)'!B20 -> *ZAM331B00*DB104983* | D13: ='Biturbo (ZAM331...)'!C20 -> 1983 | E13: ='Biturbo (ZAM331...)'!D20 -> ? | F13: ='Biturbo (ZAM331...)'!E20 -> UK | G13: =IF(B13<>"",1,0) -> 1
B14: ='Biturbo (ZAM331...)'!A21 -> Biturbo | C14: ='Biturbo (ZAM331...)'!B21 -> *ZAM331B00*DB105205* | D14: ='Biturbo (ZAM331...)'!C21 -> 1983 | E14: ='Biturbo (ZAM331...)'!D21 -> Gris | F14: ='Biturbo (ZAM331...)'!E21 -> Hollande | G14: =IF(B14<>"",1,0) -> 1
B15: ='Biturbo (ZAM331...)'!A22 -> Biturbo | C15: ='Biturbo (ZAM331...)'!B22 -> *ZAM331B00*EB105982* | D15: ='Biturbo (ZAM331...)'!C22 -> 1983 | E15: ='Biturbo (ZAM331...)'!D22 -> ? | F15: ='Biturbo (ZAM331...)'!E22 -> France | G15: =IF(B15<>"",1,0) -> 1
B16: ='Biturbo (ZAM331...)'!A23 -> Biturbo | C16: ='Biturbo (ZAM331...)'!B23 -> *ZAM331B00*EB105982* | D16: ='Biturbo (ZAM331...)'!C23 -> 1983 | E16: ='Biturbo (ZAM331...)'!D23 -> Blanc | F16: ='Biturbo (ZAM331...)'!E23 -> France | G16: =IF(B16<>"",1,0) -> 1
B17: ='Biturbo (ZAM331...)'!A33 -> Biturbo E | C17: ='Biturbo (ZAM331...)'!B33 -> *ZAM331B00*EB106368* | D17: ='Biturbo (ZAM331...)'!C33 -> 1984 | E17: ='Biturbo (ZAM331...)'!D33 -> Bordeaux | F17: ='Biturbo (ZAM331...)'!E33 -> Hollande | G17: =IF(B17<>"",1,0) -> 1
B18: ='Biturbo (ZAM331...)'!A36 -> Biturbo E | C18: ='Biturbo (ZAM331...)'!B36 -> *ZAM331B00*EB106423* | D18: ='Biturbo (ZAM331...)'!C36 -> 1984 | E18: ='Biturbo (ZAM331...)'!D36 -> Gris | F18: ='Biturbo (ZAM331...)'!E36 -> France | G18: =IF(B18<>"",1,0) -> 1
B19: ='Biturbo (ZAM331...)'!A39 -> Biturbo | C19: ='Biturbo (ZAM331...)'!B39 -> *ZAM331B00*EB106457* | D19: ='Biturbo (ZAM331...)'!C39 -> 1985 | E19: ='Biturbo (ZAM331...)'!D39 -> ? | F19: ='Biturbo (ZAM331...)'!E39 -> France | G19: =IF(B19<>"",1,0) -> 1
B20: ='Biturbo (ZAM331...)'!A40 -> Biturbo | C20: ='Biturbo (ZAM331...)'!B40 -> *ZAM331B00*EB106497* | D20: ='Biturbo (ZAM331...)'!C40 -> 1985 | E20: ='Biturbo (ZAM331...)'!D40 -> ? | F20: ='Biturbo (ZAM331...)'!E40 -> France | G20: =IF(B20<>"",1,0) -> 1
B21: ='Biturbo (ZAM331...)'!A41 -> Biturbo | C21: ='Biturbo (ZAM331...)'!B41 -> *ZAM331B00*EB106508* (HS) | D21: ='Biturbo (ZAM331...)'!C41 -> 1984 | E21: ='Biturbo (ZAM331...)'!D41 -> ? | F21: ='Biturbo (ZAM331...)'!E41 -> France | G21: =IF(B21<>"",1,0) -> 1
B22: ='Biturbo (ZAM331...)'!A42 -> Biturbo E | C22: ='Biturbo (ZAM331...)'!B42 -> *ZAM331B00*EB106647* | D22: ='Biturbo (ZAM331...)'!C42 -> 1984 | E22: ='Biturbo (ZAM331...)'!D42 -> ? | F22: ='Biturbo (ZAM331...)'!E42 -> France | G22: =IF(B22<>"",1,0) -> 1
B23: ='Biturbo (ZAM331...)'!A43 -> Biturbo E | C23: ='Biturbo (ZAM331...)'!B43 -> *ZAM331B00*EB106659* | D23: ='Biturbo (ZAM331...)'!C43 -> 1984 | E23: ='Biturbo (ZAM331...)'!D43 -> ? | F23: ='Biturbo (ZAM331...)'!E43 -> France | G23: =IF(B23<>"",1,0) -> 1
B24: ='Biturbo (ZAM331...)'!A44 -> Biturbo E | C24: ='Biturbo (ZAM331...)'!B44 -> *ZAM331B00*EB106670* | D24: ='Biturbo (ZAM331...)'!C44 -> 1986 | E24: ='Biturbo (ZAM331...)'!D44 -> ? | F24: ='Biturbo (ZAM331...)'!E44 -> Allemagne | G24: =IF(B24<>"",1,0) -> 1
B25: ='Biturbo (ZAM331...)'!A45 -> Biturbo E | C25: ='Biturbo (ZAM331...)'!B45 -> *ZAM331B00*EB106717* | D25: ='Biturbo (ZAM331...)'!C45 -> 1984 | E25: ='Biturbo (ZAM331...)'!D45 -> Bleue | F25: ='Biturbo (ZAM331...)'!E45 -> France | G25: =IF(B25<>"",1,0) -> 1
B26: ='Biturbo (ZAM331...)'!A47 -> Biturbo E | C26: ='Biturbo (ZAM331...)'!B47 -> *ZAM331B00*EB106759* | D26: ='Biturbo (ZAM331...)'!C47 -> 1984 | E26: ='Biturbo (ZAM331...)'!D47 -> ? | F26: ='Biturbo (ZAM331...)'!E47 -> Allemagne | G26: =IF(B26<>"",1,0) -> 1
B27: ='Biturbo (ZAM331...)'!A48 -> Biturbo | C27: ='Biturbo (ZAM331...)'!B48 -> *ZAM331B00*EB106779* | D27: ='Biturbo (ZAM331...)'!C48 -> 1984 | E27: ='Biturbo (ZAM331...)'!D48 -> ? | F27: ='Biturbo (ZAM331...)'!E48 -> Allemagne | G27: =IF(B27<>"",1,0) -> 1
B28: ='Biturbo (ZAM331...)'!A51 -> Biturbo S | C28: ='Biturbo (ZAM331...)'!B51 -> *ZAM331B00*EB106897* | D28: ='Biturbo (ZAM331...)'!C51 -> 1984 | E28: ='Biturbo (ZAM331...)'!D51 -> Rouge | F28: ='Biturbo (ZAM331...)'!E51 -> Italie | G28: =IF(B28<>"",1,0) -> 1
B29: ='Biturbo (ZAM331...)'!A52 -> Biturbo S | C29: ='Biturbo (ZAM331...)'!B52 -> *ZAM331B00*EB107204* | D29: ='Biturbo (ZAM331...)'!C52 -> 1984 | E29: ='Biturbo (ZAM331...)'!D52 -> ? | F29: ='Biturbo (ZAM331...)'!E52 -> Allemagne | G29: =IF(B29<>"",1,0) -> 1
B30: ='Biturbo (ZAM331...)'!A53 -> Biturbo | C30: ='Biturbo (ZAM331...)'!B53 -> *ZAM331B00*EB107455* | D30: ='Biturbo (ZAM331...)'!C53 -> 1984 | E30: ='Biturbo (ZAM331...)'!D53 -> Gris | F30: ='Biturbo (ZAM331...)'!E53 -> UK | G30: =IF(B30<>"",1,0) -> 1
B31: ='Biturbo (ZAM331...)'!A54 -> Biturbo | C31: ='Biturbo (ZAM331...)'!B54 -> *ZAM331B00*EB107515* | D31: ='Biturbo (ZAM331...)'!C54 -> 1984 | E31: ='Biturbo (ZAM331...)'!D54 -> Rouge | F31: ='Biturbo (ZAM331...)'!E54 -> Hollande | G31: =IF(B31<>"",1,0) -> 1
B32: ='Biturbo (ZAM331...)'!A55 -> Biturbo | C32: ='Biturbo (ZAM331...)'!B55 -> *ZAM331B00*EB107778* | D32: ='Biturbo (ZAM331...)'!C55 -> 1984 | E32: ='Biturbo (ZAM331...)'!D55 -> Rouge | F32: ='Biturbo (ZAM331...)'!E55 -> Italie | G32: =IF(B32<>"",1,0) -> 1
B33: ='Biturbo (ZAM331...)'!A57 -> Biturbo S | C33: ='Biturbo (ZAM331...)'!B57 -> *ZAM331B00*EB108384* | D33: ='Biturbo (ZAM331...)'!C57 -> 1984 | E33: ='Biturbo (ZAM331...)'!D57 -> Grise | F33: ='Biturbo (ZAM331...)'!E57 -> Italie | G33: =IF(B33<>"",1,0) -> 1
B34: ='Biturbo (ZAM331...)'!A58 -> Biturbo | C34: ='Biturbo (ZAM331...)'!B58 -> *ZAM331B00*EB108399* | D34: ='Biturbo (ZAM331...)'!C58 -> 1984 | E34: ='Biturbo (ZAM331...)'!D58 -> Marrone Metallizzata | F34: ='Biturbo (ZAM331...)'!E58 -> Suisse | G34: =IF(B34<>"",1,0) -> 1
B35: ='Biturbo (ZAM331...)'!A60 -> Biturbo S | C35: ='Biturbo (ZAM331...)'!B60 -> *ZAM331B00*EB109458* | D35: ='Biturbo (ZAM331...)'!C60 -> 1984 | E35: ='Biturbo (ZAM331...)'!D60 -> ? | F35: ='Biturbo (ZAM331...)'!E60 -> Hollande | G35: =IF(B35<>"",1,0) -> 1
B36: ='Biturbo (ZAM331...)'!A61 -> Biturbo | C36: ='Biturbo (ZAM331...)'!B61 -> *ZAM331B00*EB109660* | D36: ='Biturbo (ZAM331...)'!C61 -> 1984 | E36: ='Biturbo (ZAM331...)'!D61 -> Gris foncé | F36: ='Biturbo (ZAM331...)'!E61 -> France | G36: =IF(B36<>"",1,0) -> 1
B37: ='Biturbo (ZAM331...)'!A62 -> Biturbo E | C37: ='Biturbo (ZAM331...)'!B62 -> *ZAM331B00*EB111137* | D37: ='Biturbo (ZAM331...)'!C62 -> 1985 | E37: ='Biturbo (ZAM331...)'!D62 -> ? | F37: ='Biturbo (ZAM331...)'!E62 -> Espagne | G37: =IF(B37<>"",1,0) -> 1
B38: ='Biturbo (ZAM331...)'!A64 -> Biturbo | C38: ='Biturbo (ZAM331...)'!B64 -> *ZAM331B00*EB111909* | D38: ='Biturbo (ZAM331...)'!C64 -> 1984 | E38: ='Biturbo (ZAM331...)'!D64 -> ? | F38: ='Biturbo (ZAM331...)'!E64 -> Italie | G38: =IF(B38<>"",1,0) -> 1
B39: ='Biturbo (ZAM331...)'!A65 -> Biturbo E | C39: ='Biturbo (ZAM331...)'!B65 -> *ZAM331B00*EB112181* | D39: ='Biturbo (ZAM331...)'!C65 -> 1985 | E39: ='Biturbo (ZAM331...)'!D65 -> Noir | F39: ='Biturbo (ZAM331...)'!E65 -> Belgique | G39: =IF(B39<>"",1,0) -> 1
B40: ='Biturbo (ZAM331...)'!A66 -> Biturbo Rallye 2,5 | C40: ='Biturbo (ZAM331...)'!B66 -> *ZAM331B00*EB112416* | D40: ='Biturbo (ZAM331...)'!C66 -> 1984 | E40: ='Biturbo (ZAM331...)'!D66 -> Rouge | F40: ='Biturbo (ZAM331...)'!E66 -> Allemagne | G40: =IF(B40<>"",1,0) -> 1
...
